BEGIN:VCALENDAR
VERSION:2.0
PRODID:-//Steamworks Creative - ECPv6.10.0//NONSGML v1.0//EN
CALSCALE:GREGORIAN
METHOD:PUBLISH
X-WR-CALNAME:Steamworks Creative
X-ORIGINAL-URL:https://steamworkscreative.com
X-WR-CALDESC:Events for Steamworks Creative
REFRESH-INTERVAL;VALUE=DURATION:PT1H
X-Robots-Tag:noindex
X-PUBLISHED-TTL:PT1H
BEGIN:VTIMEZONE
TZID:America/New_York
BEGIN:DAYLIGHT
TZOFFSETFROM:-0500
TZOFFSETTO:-0400
TZNAME:EDT
DTSTART:20190310T070000
END:DAYLIGHT
BEGIN:STANDARD
TZOFFSETFROM:-0400
TZOFFSETTO:-0500
TZNAME:EST
DTSTART:20191103T060000
END:STANDARD
END:VTIMEZONE
BEGIN:VEVENT
DTSTART;TZID=America/New_York:20191209T193000
DTEND;TZID=America/New_York:20191209T203000
DTSTAMP:20260420T075332
CREATED:20190104T020018Z
LAST-MODIFIED:20190404T213731Z
UID:10001063-1575919800-1575923400@steamworkscreative.com
SUMMARY:Ron Beitle Memorial Autism Friendly Drum Circle
DESCRIPTION:Ron Beitle Memorial Autism Friendly Drum Circle sponsored by Band Together Pittsburgh Mondays 2/11\, 4/8\, 6/10\, 8/12\, 10/14\, 12/9 \nNamed after our dear friend and original Wild Cherry (Play That Funky Music White Boy)\, drummer Ron Beitle. BTP Drum Circles are a great way for those on the spectrum to relax have fun\, and develop interpersonal skills in a family friendly\, inclusive environment\, and Drum Circles are therapeutic for anxiety. \nAdvance Reservations Only\, Space is limited to 20 people.\nDoors open at 7pm. Drumming 7:30-8:30pm\nhttp://bit.ly/beitle-drum\nhttps://www.bandtogetherpgh.org \n#steamworkscreative #bandtogetherpgh
URL:https://steamworkscreative.com/event/ron-beitle-memorial-autism-friendly-drum-circle/2019-12-09/
LOCATION:Steamworks Creative\, 4967 William Flinn Hwy #6\, Gibsonia\, Pennsylvania\, 15044
ATTACH;FMTTYPE=image/jpeg:https://steamworkscreative.com/wp-content/uploads/2019/01/Ron-Beitle-drum-circle.jpg
GEO:40.6047353;-79.947467
X-APPLE-STRUCTURED-LOCATION;VALUE=URI;X-ADDRESS=Steamworks Creative 4967 William Flinn Hwy #6 Gibsonia Pennsylvania 15044;X-APPLE-RADIUS=500;X-TITLE=4967 William Flinn Hwy #6:geo:-79.947467,40.6047353
END:VEVENT
END:VCALENDAR