BEGIN:VCALENDAR
VERSION:2.0
PRODID:-//Steamworks Creative - ECPv6.10.0//NONSGML v1.0//EN
CALSCALE:GREGORIAN
METHOD:PUBLISH
X-WR-CALNAME:Steamworks Creative
X-ORIGINAL-URL:https://steamworkscreative.com
X-WR-CALDESC:Events for Steamworks Creative
REFRESH-INTERVAL;VALUE=DURATION:PT1H
X-Robots-Tag:noindex
X-PUBLISHED-TTL:PT1H
BEGIN:VTIMEZONE
TZID:America/New_York
BEGIN:DAYLIGHT
TZOFFSETFROM:-0500
TZOFFSETTO:-0400
TZNAME:EDT
DTSTART:20260308T070000
END:DAYLIGHT
BEGIN:STANDARD
TZOFFSETFROM:-0400
TZOFFSETTO:-0500
TZNAME:EST
DTSTART:20261101T060000
END:STANDARD
END:VTIMEZONE
BEGIN:VEVENT
DTSTART;TZID=America/New_York:20260522T200000
DTEND;TZID=America/New_York:20260522T223000
DTSTAMP:20260421T001100
CREATED:20260420T230734Z
LAST-MODIFIED:20260420T230734Z
UID:10757-1779480000-1779489000@steamworkscreative.com
SUMMARY:Tom Kurlander Sean L. Spicer & Steve Irwin
DESCRIPTION:Los Angeles singer-songwriter Tom Kurlander who moved back to Pittsburgh where he grew up\, will be performing original songs accompanied by award winning guitarist Sean L. Spicer and multi-instrumentalist Steve Irwin on accordion. Kurlander has released two albums and intends to record his third later this year. His songs are now available on iTunes and Spotify.
URL:https://steamworkscreative.com/event/tom-kurlander-sean-l-spicer-steve-irwin/
LOCATION:Steamworks Creative\, 4967 William Flinn Hwy #6\, Gibsonia\, Pennsylvania\, 15044
ATTACH;FMTTYPE=image/jpeg:https://steamworkscreative.com/wp-content/uploads/2026/04/image_123650291.jpeg
GEO:40.6047353;-79.947467
X-APPLE-STRUCTURED-LOCATION;VALUE=URI;X-ADDRESS=Steamworks Creative 4967 William Flinn Hwy #6 Gibsonia Pennsylvania 15044;X-APPLE-RADIUS=500;X-TITLE=4967 William Flinn Hwy #6:geo:-79.947467,40.6047353
END:VEVENT
END:VCALENDAR