BEGIN:VCALENDAR
VERSION:2.0
PRODID:-//Steamworks Creative - ECPv6.10.0//NONSGML v1.0//EN
CALSCALE:GREGORIAN
METHOD:PUBLISH
X-ORIGINAL-URL:https://steamworkscreative.com
X-WR-CALDESC:Events for Steamworks Creative
REFRESH-INTERVAL;VALUE=DURATION:PT1H
X-Robots-Tag:noindex
X-PUBLISHED-TTL:PT1H
BEGIN:VTIMEZONE
TZID:America/New_York
BEGIN:DAYLIGHT
TZOFFSETFROM:-0500
TZOFFSETTO:-0400
TZNAME:EDT
DTSTART:20180311T070000
END:DAYLIGHT
BEGIN:STANDARD
TZOFFSETFROM:-0400
TZOFFSETTO:-0500
TZNAME:EST
DTSTART:20181104T060000
END:STANDARD
END:VTIMEZONE
BEGIN:VEVENT
DTSTART;TZID=America/New_York:20181102T200000
DTEND;TZID=America/New_York:20181102T223000
DTSTAMP:20260422T195822
CREATED:20181002T222732Z
LAST-MODIFIED:20181002T225512Z
UID:10001003-1541188800-1541197800@steamworkscreative.com
SUMMARY:John Vento - "Love\, Lust and Other Wreckage" Listening Party
DESCRIPTION:Friday\, November 2\, 2018 \nSinger John Vento\, along with collaborators David Granati ( producer / guitar player)\, Cherylann Hawk (singer songwriter)\, Bert Lauble (song writer) and Playwright Amy Hartman\,  will be at Steamworks Creative on Friday Nov. 2nd (8pm) to discuss the creation of John’s new CD and soon to be stage play “Love\, Lust\, & Other Wreckage” \n“Love\, Lust and Other Wreckage”; A new experiential performance effort by John Vento works as a theatrical confession. Original musical compositions\, intimate story -telling scenes  portray a unique tension between one man’s journey into the inside of an almost compulsive lust to create music\, an insatiable desire to love and the struggle of climbing from the wreckage ensued by this pursuit.  And it’s mostly all true.” \nAll that attend will receive a free CD and download card. This is not a live performance\, but a behind the scenes look into their creative process. The live performance and official CD release party will be the following evening Saturday Nov. 3rd at Moondogs in Blawnox\, PA. \nMore info: www.johnvento.com \n$5 cover – Gets you a free CD.
URL:https://steamworkscreative.com/event/john-vento-love-lust-and-other-wreckage/
LOCATION:Steamworks Creative\, 4967 William Flinn Hwy #6\, Gibsonia\, Pennsylvania\, 15044
CATEGORIES:Music
ATTACH;FMTTYPE=image/jpeg:https://steamworkscreative.com/wp-content/uploads/2018/10/LLOW.jpg
GEO:40.6047353;-79.947467
X-APPLE-STRUCTURED-LOCATION;VALUE=URI;X-ADDRESS=Steamworks Creative 4967 William Flinn Hwy #6 Gibsonia Pennsylvania 15044;X-APPLE-RADIUS=500;X-TITLE=4967 William Flinn Hwy #6:geo:-79.947467,40.6047353
END:VEVENT
END:VCALENDAR