BEGIN:VCALENDAR
VERSION:2.0
PRODID:-//Steamworks Creative - ECPv6.10.0//NONSGML v1.0//EN
CALSCALE:GREGORIAN
METHOD:PUBLISH
X-ORIGINAL-URL:https://steamworkscreative.com
X-WR-CALDESC:Events for Steamworks Creative
REFRESH-INTERVAL;VALUE=DURATION:PT1H
X-Robots-Tag:noindex
X-PUBLISHED-TTL:PT1H
BEGIN:VTIMEZONE
TZID:America/New_York
BEGIN:DAYLIGHT
TZOFFSETFROM:-0500
TZOFFSETTO:-0400
TZNAME:EDT
DTSTART:20190310T070000
END:DAYLIGHT
BEGIN:STANDARD
TZOFFSETFROM:-0400
TZOFFSETTO:-0500
TZNAME:EST
DTSTART:20191103T060000
END:STANDARD
END:VTIMEZONE
BEGIN:VEVENT
DTSTART;TZID=America/New_York:20190504T200000
DTEND;TZID=America/New_York:20190504T223000
DTSTAMP:20260423T074848
CREATED:20190220T175301Z
LAST-MODIFIED:20190404T235701Z
UID:10001077-1557000000-1557009000@steamworkscreative.com
SUMMARY:Jimmy Mac & The Attack
DESCRIPTION:Saturday\, May 4\, 2019 Jimmy Mac and The Attack features smoking harp and guitar(Clint Hoover\, Jim McCullough)\, and killer rhythm section (Don McGuirk\, Matthew Joseph). \n$10 cover\nBYOB/BYOF listening room\nDoors open one hour before show \n#steamworkscreative #listeningroom #acousticmusic\n#SitBackRelaxListenToTheMusic
URL:https://steamworkscreative.com/event/jimmy-mac-the-attack/
LOCATION:Steamworks Creative\, 4967 William Flinn Hwy #6\, Gibsonia\, Pennsylvania\, 15044
CATEGORIES:Music
ATTACH;FMTTYPE=image/jpeg:https://steamworkscreative.com/wp-content/uploads/2019/02/j-mac-may-4.jpg
GEO:40.6047353;-79.947467
X-APPLE-STRUCTURED-LOCATION;VALUE=URI;X-ADDRESS=Steamworks Creative 4967 William Flinn Hwy #6 Gibsonia Pennsylvania 15044;X-APPLE-RADIUS=500;X-TITLE=4967 William Flinn Hwy #6:geo:-79.947467,40.6047353
END:VEVENT
END:VCALENDAR