BEGIN:VCALENDAR
VERSION:2.0
PRODID:-//Steamworks Creative - ECPv6.10.0//NONSGML v1.0//EN
CALSCALE:GREGORIAN
METHOD:PUBLISH
X-ORIGINAL-URL:https://steamworkscreative.com
X-WR-CALDESC:Events for Steamworks Creative
REFRESH-INTERVAL;VALUE=DURATION:PT1H
X-Robots-Tag:noindex
X-PUBLISHED-TTL:PT1H
BEGIN:VTIMEZONE
TZID:America/New_York
BEGIN:DAYLIGHT
TZOFFSETFROM:-0500
TZOFFSETTO:-0400
TZNAME:EDT
DTSTART:20180311T070000
END:DAYLIGHT
BEGIN:STANDARD
TZOFFSETFROM:-0400
TZOFFSETTO:-0500
TZNAME:EST
DTSTART:20181104T060000
END:STANDARD
END:VTIMEZONE
BEGIN:VEVENT
DTSTART;TZID=America/New_York:20180904T193000
DTEND;TZID=America/New_York:20180904T220000
DTSTAMP:20260424T175210
CREATED:20180615T145020Z
LAST-MODIFIED:20180801T222155Z
UID:10000936-1536089400-1536098400@steamworkscreative.com
SUMMARY:Steamworks Sessions featuring Nevin James
DESCRIPTION:Tuesday\, September\, 4 2018 Featured Artist Nevin James followed by Open Stage Hosted by Mary Lou Scherder
URL:https://steamworkscreative.com/event/steamworks-sessions-2-2018-06-26-2018-07-10-2018-08-07-2018-09-04/
LOCATION:Steamworks Creative\, 4967 William Flinn Hwy #6\, Gibsonia\, Pennsylvania\, 15044
CATEGORIES:Music
ATTACH;FMTTYPE=image/jpeg:https://steamworkscreative.com/wp-content/uploads/2018/02/Steamworks-sessions.jpg
GEO:40.6047353;-79.947467
X-APPLE-STRUCTURED-LOCATION;VALUE=URI;X-ADDRESS=Steamworks Creative 4967 William Flinn Hwy #6 Gibsonia Pennsylvania 15044;X-APPLE-RADIUS=500;X-TITLE=4967 William Flinn Hwy #6:geo:-79.947467,40.6047353
END:VEVENT
BEGIN:VEVENT
DTSTART;TZID=America/New_York:20180905T193000
DTEND;TZID=America/New_York:20180905T220000
DTSTAMP:20260424T175210
CREATED:20230328T010144Z
LAST-MODIFIED:20230328T010144Z
UID:10000971-1536175800-1536184800@steamworkscreative.com
SUMMARY:All Ages Full Band Open Stage hosted by Ian Arthurs
DESCRIPTION:All Ages Full Band Open Stage hosted by Ian Arthurs \nAll drums\, amps\, and a keyboard will be provided for use. \nElectric and acoustic players welcome\, even full bands! \n  \n 7:30pm – The 1st & 3rd Wednesday of every month\, There is no alcohol permitted at these shows.
URL:https://steamworkscreative.com/event/all-ages-open-stage-hosted-by-ian-arthurs/2018-09-05/
LOCATION:Steamworks Creative\, 4967 William Flinn Hwy #6\, Gibsonia\, Pennsylvania\, 15044
CATEGORIES:Music
ATTACH;FMTTYPE=image/jpeg:https://steamworkscreative.com/wp-content/uploads/2018/06/Ian-show-poster-8-29-18.jpg
GEO:40.6047353;-79.947467
X-APPLE-STRUCTURED-LOCATION;VALUE=URI;X-ADDRESS=Steamworks Creative 4967 William Flinn Hwy #6 Gibsonia Pennsylvania 15044;X-APPLE-RADIUS=500;X-TITLE=4967 William Flinn Hwy #6:geo:-79.947467,40.6047353
END:VEVENT
BEGIN:VEVENT
DTSTART;TZID=America/New_York:20180907T200000
DTEND;TZID=America/New_York:20180907T223000
DTSTAMP:20260424T175210
CREATED:20180616T034026Z
LAST-MODIFIED:20180801T235953Z
UID:10000722-1536350400-1536359400@steamworkscreative.com
SUMMARY:David\, Pappy & Jill from theCAUSE
DESCRIPTION:September\, 7th\, 2018\, David\, Pappy and Jill from theCAUSE \nThere’s nothing quite like the transference of energy between the audience and the performers at a live concert.  The acoustic trio of David Tauberg (bass)\, Jill Simmons (vocals) and Eric “Pappy” Weingrad (guitar\, vocals) plays on this dynamic at a very high level.  They live in the moment. Any song can turn on a dime\, whether pushing its energy to the hilt or bringing it down to its most delicate moment.  These 3 musicians from Pittsburgh’s beloved jam band\, theCAUSE enjoy living in the moment and sharing that energy with the audience and no room is better for such an intimate experience than John Vento’s Steamworks Creative\, where people come to experience such moments. \nPurchase tickets \n\nwww.theCAUSEjams.com
URL:https://steamworkscreative.com/event/david-pappy-jill-from-thecause/
LOCATION:Steamworks Creative\, 4967 William Flinn Hwy #6\, Gibsonia\, Pennsylvania\, 15044
CATEGORIES:Music
ATTACH;FMTTYPE=image/jpeg:https://steamworkscreative.com/wp-content/uploads/2018/06/DBAC049E-08FF-424D-8469-0534C45A7772.jpeg
GEO:40.6047353;-79.947467
X-APPLE-STRUCTURED-LOCATION;VALUE=URI;X-ADDRESS=Steamworks Creative 4967 William Flinn Hwy #6 Gibsonia Pennsylvania 15044;X-APPLE-RADIUS=500;X-TITLE=4967 William Flinn Hwy #6:geo:-79.947467,40.6047353
END:VEVENT
BEGIN:VEVENT
DTSTART;TZID=America/New_York:20180908T200000
DTEND;TZID=America/New_York:20180908T223000
DTSTAMP:20260424T175210
CREATED:20180614T171426Z
LAST-MODIFIED:20180824T001230Z
UID:10000919-1536436800-1536445800@steamworkscreative.com
SUMMARY:Robin & Bob
DESCRIPTION:Saturday\, Sept. 8th\, 2018\, Robin & Bob are a musical duo that was formed in early 2017. Bob has been playing guitar for over 30 years and Robin has been singing in some capacity since she was a young girl. Their sound is a mix of blues\, folk and rock all intertwined. The duo have opened for The Danielle Nicole Band as well as Albert Cummings. They play throughout Western Pennsylvania and will soon be taking their music on the road! Be sure to look for them around the area and like their Facebook page! Robin and Bob \n\n \n\n\nWeb URL: www.facebook.com/RobinandBobpa\n\n\n\n\n\nYouTube: https://www.youtube.com/channel/UCXrcY4LIZIk-b3QITG_LlmQ\n\n\n\n\n\nFacebook: www.facebook.com/RobinandBobpa\n\n\n \n\n\n$10 Cover\n\n\nBYOB
URL:https://steamworkscreative.com/event/robin-bob/
LOCATION:Steamworks Creative\, 4967 William Flinn Hwy #6\, Gibsonia\, Pennsylvania\, 15044
CATEGORIES:Music
ATTACH;FMTTYPE=image/jpeg:https://steamworkscreative.com/wp-content/uploads/2018/06/RobinandBob1-with-logo.jpg
GEO:40.6047353;-79.947467
X-APPLE-STRUCTURED-LOCATION;VALUE=URI;X-ADDRESS=Steamworks Creative 4967 William Flinn Hwy #6 Gibsonia Pennsylvania 15044;X-APPLE-RADIUS=500;X-TITLE=4967 William Flinn Hwy #6:geo:-79.947467,40.6047353
END:VEVENT
BEGIN:VEVENT
DTSTART;TZID=America/New_York:20180911T193000
DTEND;TZID=America/New_York:20180911T220000
DTSTAMP:20260424T175210
CREATED:20180615T145020Z
LAST-MODIFIED:20180801T224358Z
UID:10000940-1536694200-1536703200@steamworkscreative.com
SUMMARY:Steamworks Sessions featuring Chris Hannigan
DESCRIPTION:Tuesday\, September 11\, 2018 Featured Artist Chris Hannigan followed by Open Stage Hosted by Mary Lou Scherder
URL:https://steamworkscreative.com/event/steamworks-sessions-2-2018-06-26-2018-07-10-2018-08-07-2018-09-11/
LOCATION:Steamworks Creative\, 4967 William Flinn Hwy #6\, Gibsonia\, Pennsylvania\, 15044
CATEGORIES:Music
ATTACH;FMTTYPE=image/jpeg:https://steamworkscreative.com/wp-content/uploads/2018/02/Steamworks-sessions.jpg
GEO:40.6047353;-79.947467
X-APPLE-STRUCTURED-LOCATION;VALUE=URI;X-ADDRESS=Steamworks Creative 4967 William Flinn Hwy #6 Gibsonia Pennsylvania 15044;X-APPLE-RADIUS=500;X-TITLE=4967 William Flinn Hwy #6:geo:-79.947467,40.6047353
END:VEVENT
BEGIN:VEVENT
DTSTART;TZID=America/New_York:20180914T200000
DTEND;TZID=America/New_York:20180914T223000
DTSTAMP:20260424T175210
CREATED:20180905T094345Z
LAST-MODIFIED:20180905T094345Z
UID:10000994-1536955200-1536964200@steamworkscreative.com
SUMMARY:Joe Rollin Porter
DESCRIPTION:Friday\, Sept 14th – Joe Rollin Porter \nJoe Rollin Porter – acoustic fingerstyle guitar and vocals\, playing rootsy folky blues\, bluesy folk & a few other surprises. \nHis new album ‘Take This Hammer’ hit the Top 10 on the Folk DJ chart for the month of May\, with 3 tracks in the top 25\, and airplay on more than 60 radio stations in 23 states\, 4 Canadian provinces\, and 6 overseas stations. \nJoe Rollin Porter performs full time since 2010\, playing over 1\,000 gigs in Ohio\, Indiana\, Kentucky\, Michigan\, Illinois & Iowa. \nhttp://www.joerollinporter.com \n  \n$10 cover \nBYOB
URL:https://steamworkscreative.com/event/joe-rollin-porter/
LOCATION:Steamworks Creative\, 4967 William Flinn Hwy #6\, Gibsonia\, Pennsylvania\, 15044
CATEGORIES:Music
ATTACH;FMTTYPE=image/jpeg:https://steamworkscreative.com/wp-content/uploads/2018/09/JP66B-A.jpg
GEO:40.6047353;-79.947467
X-APPLE-STRUCTURED-LOCATION;VALUE=URI;X-ADDRESS=Steamworks Creative 4967 William Flinn Hwy #6 Gibsonia Pennsylvania 15044;X-APPLE-RADIUS=500;X-TITLE=4967 William Flinn Hwy #6:geo:-79.947467,40.6047353
END:VEVENT
BEGIN:VEVENT
DTSTART;TZID=America/New_York:20180915T200000
DTEND;TZID=America/New_York:20180915T223000
DTSTAMP:20260424T175210
CREATED:20180614T171735Z
LAST-MODIFIED:20180824T001428Z
UID:10000920-1537041600-1537050600@steamworkscreative.com
SUMMARY:Joe Grushecky
DESCRIPTION:Saturday\, September 15th\, 2018\, Joe Grushecky \nEnjoy a special intimate acoustic evening with Joe Grushecky!\nWith over 35 years in the music industry\, Joe Grushecky has a vast repertoire of songs from the Iron City Houserockers\, to his solo work and\, of course\, with Joe Grushecky and the Houserockers! \nhttps://www.joegrushecky.com/events/default/view/618/ \n$20 advanced tickets/ $30 at the door (if available)\nGet your tickets now because this show will SELL OUT!
URL:https://steamworkscreative.com/event/joe-grushecky/
LOCATION:Steamworks Creative\, 4967 William Flinn Hwy #6\, Gibsonia\, Pennsylvania\, 15044
CATEGORIES:Music
ATTACH;FMTTYPE=image/jpeg:https://steamworkscreative.com/wp-content/uploads/2018/06/joe-grushecky.jpg
GEO:40.6047353;-79.947467
X-APPLE-STRUCTURED-LOCATION;VALUE=URI;X-ADDRESS=Steamworks Creative 4967 William Flinn Hwy #6 Gibsonia Pennsylvania 15044;X-APPLE-RADIUS=500;X-TITLE=4967 William Flinn Hwy #6:geo:-79.947467,40.6047353
END:VEVENT
BEGIN:VEVENT
DTSTART;TZID=America/New_York:20180916T190000
DTEND;TZID=America/New_York:20180916T220000
DTSTAMP:20260424T175210
CREATED:20180614T184157Z
LAST-MODIFIED:20180811T232529Z
UID:10000921-1537124400-1537135200@steamworkscreative.com
SUMMARY:mmhmm
DESCRIPTION:Sunday\, September\, 16th\, 2018 \nWhen midwest native\, Hannah Fairlight\, moved to Raelyn Nelson’s hometown of Nashville\, TN\, the people of the village kept confusing them for one another so they formed a band sometime in mid-December of 2016. \nThe pair have individually gained a lot of traction with their solo projects but the universe pushed them together to form an acoustic duo that is “clever as the dickens” and “envelope pushing” (Nashville Arts Magazine). Their “modern day Hee-Haw Show” has grabbed the attention of the Nashville music scene with features in the East Nashvillian’s “Women in Music” issue that claimed mmhmm was “the breakout duo of the year.” With catchy melodies\, pretty harmonies\, Fairlight on acoustic guitar\, Nelson on ukulele\, both donned with chaps\, it’s no wonder that the pair have been voted the “Cutest band around” by local publications. What makes the talented duo work so well?\n“There are no “no’s” in mmhmm”- Fairlight says. “mmhmm”- agrees Nelson. \nhttps://www.themmhmmband.com/ \n$10 cover\nBYOB
URL:https://steamworkscreative.com/event/mmhmm/
LOCATION:Steamworks Creative\, 4967 William Flinn Hwy #6\, Gibsonia\, Pennsylvania\, 15044
CATEGORIES:Music
ATTACH;FMTTYPE=image/jpeg:https://steamworkscreative.com/wp-content/uploads/2018/06/mmhmm.jpg
GEO:40.6047353;-79.947467
X-APPLE-STRUCTURED-LOCATION;VALUE=URI;X-ADDRESS=Steamworks Creative 4967 William Flinn Hwy #6 Gibsonia Pennsylvania 15044;X-APPLE-RADIUS=500;X-TITLE=4967 William Flinn Hwy #6:geo:-79.947467,40.6047353
END:VEVENT
BEGIN:VEVENT
DTSTART;TZID=America/New_York:20180918T193000
DTEND;TZID=America/New_York:20180918T220000
DTSTAMP:20260424T175210
CREATED:20180615T145020Z
LAST-MODIFIED:20180801T221520Z
UID:10000899-1537299000-1537308000@steamworkscreative.com
SUMMARY:Steamworks Sessions
DESCRIPTION:Steamworks Sessions Every Tuesday Night – 7:30pm – 10pm  \nHosted by Mary Lou Scherder. Featured Artist & Open Stage.
URL:https://steamworkscreative.com/event/steamworks-sessions-2-2018-06-26-2018-07-10-2018-08-07-2018-08-28/2018-09-18/
LOCATION:Steamworks Creative\, 4967 William Flinn Hwy #6\, Gibsonia\, Pennsylvania\, 15044
CATEGORIES:Music
ATTACH;FMTTYPE=image/jpeg:https://steamworkscreative.com/wp-content/uploads/2018/02/Steamworks-sessions.jpg
GEO:40.6047353;-79.947467
X-APPLE-STRUCTURED-LOCATION;VALUE=URI;X-ADDRESS=Steamworks Creative 4967 William Flinn Hwy #6 Gibsonia Pennsylvania 15044;X-APPLE-RADIUS=500;X-TITLE=4967 William Flinn Hwy #6:geo:-79.947467,40.6047353
END:VEVENT
BEGIN:VEVENT
DTSTART;TZID=America/New_York:20180919T193000
DTEND;TZID=America/New_York:20180919T220000
DTSTAMP:20260424T175210
CREATED:20180615T145353Z
LAST-MODIFIED:20180830T104730Z
UID:10000967-1537385400-1537394400@steamworkscreative.com
SUMMARY:All Ages Full Band Open Stage hosted by Ian Arthurs
DESCRIPTION:All Ages Full Band Open Stage hosted by Ian Arthurs \nAll drums\, amps\, and a keyboard will be provided for use. \nElectric and acoustic players welcome\, even full bands! \n  \n 7:30pm – The 1st & 3rd Wednesday of every month\, There is no alcohol permitted at these shows.
URL:https://steamworkscreative.com/event/all-ages-open-stage-hosted-by-ian-arthurs/2018-09-19/
LOCATION:Steamworks Creative\, 4967 William Flinn Hwy #6\, Gibsonia\, Pennsylvania\, 15044
CATEGORIES:Music
ATTACH;FMTTYPE=image/jpeg:https://steamworkscreative.com/wp-content/uploads/2018/06/Ian-show-poster-8-29-18.jpg
GEO:40.6047353;-79.947467
X-APPLE-STRUCTURED-LOCATION;VALUE=URI;X-ADDRESS=Steamworks Creative 4967 William Flinn Hwy #6 Gibsonia Pennsylvania 15044;X-APPLE-RADIUS=500;X-TITLE=4967 William Flinn Hwy #6:geo:-79.947467,40.6047353
END:VEVENT
BEGIN:VEVENT
DTSTART;TZID=America/New_York:20180921T200000
DTEND;TZID=America/New_York:20180921T223000
DTSTAMP:20260424T175210
CREATED:20180614T184402Z
LAST-MODIFIED:20180824T003746Z
UID:10000922-1537560000-1537569000@steamworkscreative.com
SUMMARY:Tullycavy
DESCRIPTION:Friday\, Sept\, 21st\, 2018\, Tullycavy \n\nBand Members\n*Maddie Arnold: vocals\, guitar\n*Mitch Arnold: guitar\, vocals\n*Michael Monahan: keyboard\, vocals\n*John Wilcox: electric guitar\, vocals\n\n\nGenre\nfolk\, roots\, celtic\n\n$10 Cover \nBYOB \n 
URL:https://steamworkscreative.com/event/tullycavy/
LOCATION:Steamworks Creative\, 4967 William Flinn Hwy #6\, Gibsonia\, Pennsylvania\, 15044
CATEGORIES:Music
ATTACH;FMTTYPE=image/jpeg:https://steamworkscreative.com/wp-content/uploads/2018/06/Tullycavy.jpg
GEO:40.6047353;-79.947467
X-APPLE-STRUCTURED-LOCATION;VALUE=URI;X-ADDRESS=Steamworks Creative 4967 William Flinn Hwy #6 Gibsonia Pennsylvania 15044;X-APPLE-RADIUS=500;X-TITLE=4967 William Flinn Hwy #6:geo:-79.947467,40.6047353
END:VEVENT
BEGIN:VEVENT
DTSTART;TZID=America/New_York:20180924T193000
DTEND;TZID=America/New_York:20180924T220000
DTSTAMP:20260424T175210
CREATED:20180614T193435Z
LAST-MODIFIED:20180917T134858Z
UID:10000923-1537817400-1537826400@steamworkscreative.com
SUMMARY:Melissa Sandullo
DESCRIPTION:Monday\, September 24\, 2018 Melissa Sandullo – “Eating Shadows” Tour \nMelissa Sandullo is a completely unique and powerful artist. Take everything you think you know about singer songwriters….and rip it up. For one woman and her piano to create such driven performance with a huge far-reaching sound that is energetic\, compelling and passionate is rare. Wether it’s two hundred people or twenty\, she blows the crowd away night after night with her ability to speak to the soul. \nThere’s just something about Melissa. She is all at once funny and wise\, thoughtful and uninhibited\, and her captivating voice is matched by her personal lyrics. Melissa’s performances are transformational; she leaves her audiences better than she finds them\, with softened edges & opened hearts. \nRIYL: Norah Jones\, Imogen Heap\, Sarah McLachlan\, & Bjork \n“Unmistakable. The music and voice that emanates from Melissa Sandullo is soulful\, powerful\, and teeming with originality. I can’t stop listening!”\n-Steven Potaczek\, Producer Hereafter Music \nYou can check her out on Facebook\, Spotify\, and Bandcamp.\nOr you can check out a live performance music video here: https://bit.ly/2K9MZj1 \nLinks:\nWebsite: https://www.melissasandullomusic.com/
URL:https://steamworkscreative.com/event/melissa-sandullo/
LOCATION:Steamworks Creative\, 4967 William Flinn Hwy #6\, Gibsonia\, Pennsylvania\, 15044
CATEGORIES:Music
ATTACH;FMTTYPE=image/jpeg:https://steamworkscreative.com/wp-content/uploads/2018/06/melissa-sandullo.jpg
GEO:40.6047353;-79.947467
X-APPLE-STRUCTURED-LOCATION;VALUE=URI;X-ADDRESS=Steamworks Creative 4967 William Flinn Hwy #6 Gibsonia Pennsylvania 15044;X-APPLE-RADIUS=500;X-TITLE=4967 William Flinn Hwy #6:geo:-79.947467,40.6047353
END:VEVENT
BEGIN:VEVENT
DTSTART;TZID=America/New_York:20180925T193000
DTEND;TZID=America/New_York:20180925T220000
DTSTAMP:20260424T175210
CREATED:20180615T145020Z
LAST-MODIFIED:20180801T221520Z
UID:10000900-1537903800-1537912800@steamworkscreative.com
SUMMARY:Steamworks Sessions
DESCRIPTION:Steamworks Sessions Every Tuesday Night – 7:30pm – 10pm  \nHosted by Mary Lou Scherder. Featured Artist & Open Stage.
URL:https://steamworkscreative.com/event/steamworks-sessions-2-2018-06-26-2018-07-10-2018-08-07-2018-08-28/2018-09-25/
LOCATION:Steamworks Creative\, 4967 William Flinn Hwy #6\, Gibsonia\, Pennsylvania\, 15044
CATEGORIES:Music
ATTACH;FMTTYPE=image/jpeg:https://steamworkscreative.com/wp-content/uploads/2018/02/Steamworks-sessions.jpg
GEO:40.6047353;-79.947467
X-APPLE-STRUCTURED-LOCATION;VALUE=URI;X-ADDRESS=Steamworks Creative 4967 William Flinn Hwy #6 Gibsonia Pennsylvania 15044;X-APPLE-RADIUS=500;X-TITLE=4967 William Flinn Hwy #6:geo:-79.947467,40.6047353
END:VEVENT
BEGIN:VEVENT
DTSTART;TZID=America/New_York:20180927T193000
DTEND;TZID=America/New_York:20180927T223000
DTSTAMP:20260424T175210
CREATED:20180705T175559Z
LAST-MODIFIED:20180824T004350Z
UID:10000730-1538076600-1538087400@steamworkscreative.com
SUMMARY:Red Strum
DESCRIPTION:Thursday\, Sept. 27\, 2018\, Red Strum \n  \n$10 C0ver \nBYOB
URL:https://steamworkscreative.com/event/red-strum-2/
LOCATION:Steamworks Creative\, 4967 William Flinn Hwy #6\, Gibsonia\, Pennsylvania\, 15044
CATEGORIES:Music
ATTACH;FMTTYPE=image/jpeg:https://steamworkscreative.com/wp-content/uploads/2018/06/red-strum.jpg
GEO:40.6047353;-79.947467
X-APPLE-STRUCTURED-LOCATION;VALUE=URI;X-ADDRESS=Steamworks Creative 4967 William Flinn Hwy #6 Gibsonia Pennsylvania 15044;X-APPLE-RADIUS=500;X-TITLE=4967 William Flinn Hwy #6:geo:-79.947467,40.6047353
END:VEVENT
BEGIN:VEVENT
DTSTART;TZID=America/New_York:20180928T200000
DTEND;TZID=America/New_York:20180928T223000
DTSTAMP:20260424T175210
CREATED:20180907T104757Z
LAST-MODIFIED:20180912T083456Z
UID:10000996-1538164800-1538173800@steamworkscreative.com
SUMMARY:Matt Aquiline & The Dead End Streets
DESCRIPTION:Friday\, September 28\, 2018 Matt Aquiline & The Dead End Streets \nM.A.D.E.S. was formed in 2016 after Matt Aquiline returned from 20 years of living and performing in DC.  They released their debut EP\,Coming Home\, in December 2017. The Dead End Streets’ music marries folk\, rock\, blues\, country and a little blue-eyed soul into an Americana sound that is pure Pittsburgh\, with skill\, authenticity and the kind of depth you develop surviving a few cold Winters.\n\nComing Home was recorded at The Church Recording Studio and features five Matt Aquiline original songs\, one perfect guitar solo by Neil Carr on “The Break” (according to Producer Dana Cannone)\, a standout vocal by Heather Catley on “Survivable” and a mandolin cameo by Rob James of The Clarks on “Pennsylvania”. It can be found on Spotify here: Pennsylvania\n\nwww.mattaquiline.com\nFacebook\nYouTube\n\n$10 cover\nBYOB
URL:https://steamworkscreative.com/event/matt-aquiline-the-dead-end-streets/
LOCATION:Steamworks Creative\, 4967 William Flinn Hwy #6\, Gibsonia\, Pennsylvania\, 15044
CATEGORIES:Music
ATTACH;FMTTYPE=image/jpeg:https://steamworkscreative.com/wp-content/uploads/2018/09/MADES-Band-Photo.jpeg
GEO:40.6047353;-79.947467
X-APPLE-STRUCTURED-LOCATION;VALUE=URI;X-ADDRESS=Steamworks Creative 4967 William Flinn Hwy #6 Gibsonia Pennsylvania 15044;X-APPLE-RADIUS=500;X-TITLE=4967 William Flinn Hwy #6:geo:-79.947467,40.6047353
END:VEVENT
BEGIN:VEVENT
DTSTART;TZID=America/New_York:20180929T200000
DTEND;TZID=America/New_York:20180929T223000
DTSTAMP:20260424T175210
CREATED:20180614T193623Z
LAST-MODIFIED:20180824T000324Z
UID:10000696-1538251200-1538260200@steamworkscreative.com
SUMMARY:Single Barrel Trio
DESCRIPTION:Saturday\, Sept 29th\, 2018\, Single Barrel Trio \nBYOB or Food \n$10 Cover
URL:https://steamworkscreative.com/event/single-barrel-trio/
LOCATION:Steamworks Creative\, 4967 William Flinn Hwy #6\, Gibsonia\, Pennsylvania\, 15044
CATEGORIES:Music
ATTACH;FMTTYPE=image/jpeg:https://steamworkscreative.com/wp-content/uploads/2018/06/Steamworks-flyer-3-Sept-29th.jpeg
GEO:40.6047353;-79.947467
X-APPLE-STRUCTURED-LOCATION;VALUE=URI;X-ADDRESS=Steamworks Creative 4967 William Flinn Hwy #6 Gibsonia Pennsylvania 15044;X-APPLE-RADIUS=500;X-TITLE=4967 William Flinn Hwy #6:geo:-79.947467,40.6047353
END:VEVENT
BEGIN:VEVENT
DTSTART;TZID=America/New_York:20180930T150000
DTEND;TZID=America/New_York:20180930T180000
DTSTAMP:20260424T175210
CREATED:20180614T193834Z
LAST-MODIFIED:20180917T183247Z
UID:10000698-1538319600-1538330400@steamworkscreative.com
SUMMARY:Autism Open Stage
DESCRIPTION:Sunday\, September 30th\, 2018 Autism Open Stage hosted by the Autism Society of Pittsburgh \nEveryone Welcome to come and have fun\, regardless of musical experience! \nWe have all mics\, keyboards\, guitars\, amps and percussion available! \nPizza and soft drinks will be provided. \nDonations Gladly Accepted. \n  \nAutism Society of Pittsburgh \nArts for Autism Foundation of Pittsburgh \nBand Together Pittsburgh
URL:https://steamworkscreative.com/event/all-ages-autism-open-stage-2/
LOCATION:Steamworks Creative\, 4967 William Flinn Hwy #6\, Gibsonia\, Pennsylvania\, 15044
CATEGORIES:Music
ATTACH;FMTTYPE=image/jpeg:https://steamworkscreative.com/wp-content/uploads/2018/06/autism-open-stage.jpg
GEO:40.6047353;-79.947467
X-APPLE-STRUCTURED-LOCATION;VALUE=URI;X-ADDRESS=Steamworks Creative 4967 William Flinn Hwy #6 Gibsonia Pennsylvania 15044;X-APPLE-RADIUS=500;X-TITLE=4967 William Flinn Hwy #6:geo:-79.947467,40.6047353
END:VEVENT
END:VCALENDAR