BEGIN:VCALENDAR
VERSION:2.0
PRODID:-//Steamworks Creative - ECPv6.10.0//NONSGML v1.0//EN
CALSCALE:GREGORIAN
METHOD:PUBLISH
X-ORIGINAL-URL:https://steamworkscreative.com
X-WR-CALDESC:Events for Steamworks Creative
REFRESH-INTERVAL;VALUE=DURATION:PT1H
X-Robots-Tag:noindex
X-PUBLISHED-TTL:PT1H
BEGIN:VTIMEZONE
TZID:America/New_York
BEGIN:DAYLIGHT
TZOFFSETFROM:-0500
TZOFFSETTO:-0400
TZNAME:EDT
DTSTART:20180311T070000
END:DAYLIGHT
BEGIN:STANDARD
TZOFFSETFROM:-0400
TZOFFSETTO:-0500
TZNAME:EST
DTSTART:20181104T060000
END:STANDARD
END:VTIMEZONE
BEGIN:VEVENT
DTSTART;TZID=America/New_York:20181201T170000
DTEND;TZID=America/New_York:20181201T190000
DTSTAMP:20260424T035511
CREATED:20181016T234956Z
LAST-MODIFIED:20181024T234417Z
UID:10000739-1543683600-1543690800@steamworkscreative.com
SUMMARY:LITTLE LIGHT concert
DESCRIPTION:Saturday\, December 1\, 2018 – Two shows 5pm and 8pm – LITTLE LIGHT concert Brought to you by Sing Sing Sing and Bonner & Bibza Realty. \nLittle Light brings strong area talent together for an evening of collaborative music inspired by the Christmas season.  Artists donate 100% of their time and the ticket sales to Band Together Pittsburgh\, a community based organization engaging youth with autism\, using music.  BYOB private event — online ticket sales pre-show ONLY! \n 
URL:https://steamworkscreative.com/event/little-light-concert/2018-12-01/1/
LOCATION:Steamworks Creative\, 4967 William Flinn Hwy #6\, Gibsonia\, Pennsylvania\, 15044
CATEGORIES:Music
ATTACH;FMTTYPE=image/jpeg:https://steamworkscreative.com/wp-content/uploads/2018/10/1A17E722-4596-4A86-BF9B-D180364F81F3.jpeg
GEO:40.6047353;-79.947467
X-APPLE-STRUCTURED-LOCATION;VALUE=URI;X-ADDRESS=Steamworks Creative 4967 William Flinn Hwy #6 Gibsonia Pennsylvania 15044;X-APPLE-RADIUS=500;X-TITLE=4967 William Flinn Hwy #6:geo:-79.947467,40.6047353
END:VEVENT
BEGIN:VEVENT
DTSTART;TZID=America/New_York:20181201T200000
DTEND;TZID=America/New_York:20181201T220000
DTSTAMP:20260424T035511
CREATED:20181016T234956Z
LAST-MODIFIED:20181024T234417Z
UID:10000740-1543694400-1543701600@steamworkscreative.com
SUMMARY:LITTLE LIGHT concert
DESCRIPTION:Saturday\, December 1\, 2018 – Two shows 5pm and 8pm – LITTLE LIGHT concert Brought to you by Sing Sing Sing and Bonner & Bibza Realty. \nLittle Light brings strong area talent together for an evening of collaborative music inspired by the Christmas season.  Artists donate 100% of their time and the ticket sales to Band Together Pittsburgh\, a community based organization engaging youth with autism\, using music.  BYOB private event — online ticket sales pre-show ONLY! \n 
URL:https://steamworkscreative.com/event/little-light-concert/2018-12-01/2/
LOCATION:Steamworks Creative\, 4967 William Flinn Hwy #6\, Gibsonia\, Pennsylvania\, 15044
CATEGORIES:Music
ATTACH;FMTTYPE=image/jpeg:https://steamworkscreative.com/wp-content/uploads/2018/10/1A17E722-4596-4A86-BF9B-D180364F81F3.jpeg
GEO:40.6047353;-79.947467
X-APPLE-STRUCTURED-LOCATION;VALUE=URI;X-ADDRESS=Steamworks Creative 4967 William Flinn Hwy #6 Gibsonia Pennsylvania 15044;X-APPLE-RADIUS=500;X-TITLE=4967 William Flinn Hwy #6:geo:-79.947467,40.6047353
END:VEVENT
BEGIN:VEVENT
DTSTART;TZID=America/New_York:20181204T193000
DTEND;TZID=America/New_York:20181204T220000
DTSTAMP:20260424T035511
CREATED:20180615T145020Z
LAST-MODIFIED:20181111T223338Z
UID:10000954-1543951800-1543960800@steamworkscreative.com
SUMMARY:Steamworks Sessions with Featured Artist Adam Fritz
DESCRIPTION:Steamworks Sessions – 7:30pm – 10pm  \nHosted by Mary Lou Scherder with Featured Artist Adam Fritz & Open Stage.
URL:https://steamworkscreative.com/event/steamworks-sessions-2-2018-06-26-2018-07-10-2018-08-07-2018-12-04/
LOCATION:Steamworks Creative\, 4967 William Flinn Hwy #6\, Gibsonia\, Pennsylvania\, 15044
CATEGORIES:Music
ATTACH;FMTTYPE=image/jpeg:https://steamworkscreative.com/wp-content/uploads/2018/02/Steamworks-sessions.jpg
GEO:40.6047353;-79.947467
X-APPLE-STRUCTURED-LOCATION;VALUE=URI;X-ADDRESS=Steamworks Creative 4967 William Flinn Hwy #6 Gibsonia Pennsylvania 15044;X-APPLE-RADIUS=500;X-TITLE=4967 William Flinn Hwy #6:geo:-79.947467,40.6047353
END:VEVENT
BEGIN:VEVENT
DTSTART;TZID=America/New_York:20181205T193000
DTEND;TZID=America/New_York:20181205T220000
DTSTAMP:20260424T035511
CREATED:20230328T010144Z
LAST-MODIFIED:20230328T010144Z
UID:10000974-1544038200-1544047200@steamworkscreative.com
SUMMARY:All Ages Full Band Open Stage hosted by Ian Arthurs
DESCRIPTION:All Ages Full Band Open Stage hosted by Ian Arthurs \nAll drums\, amps\, and a keyboard will be provided for use. \nElectric and acoustic players welcome\, even full bands! \n  \n 7:30pm – The 1st & 3rd Wednesday of every month\, There is no alcohol permitted at these shows.
URL:https://steamworkscreative.com/event/all-ages-open-stage-hosted-by-ian-arthurs/2018-12-05/
LOCATION:Steamworks Creative\, 4967 William Flinn Hwy #6\, Gibsonia\, Pennsylvania\, 15044
CATEGORIES:Music
ATTACH;FMTTYPE=image/jpeg:https://steamworkscreative.com/wp-content/uploads/2018/06/Ian-show-poster-8-29-18.jpg
GEO:40.6047353;-79.947467
X-APPLE-STRUCTURED-LOCATION;VALUE=URI;X-ADDRESS=Steamworks Creative 4967 William Flinn Hwy #6 Gibsonia Pennsylvania 15044;X-APPLE-RADIUS=500;X-TITLE=4967 William Flinn Hwy #6:geo:-79.947467,40.6047353
END:VEVENT
BEGIN:VEVENT
DTSTART;TZID=America/New_York:20181207T200000
DTEND;TZID=America/New_York:20181207T223000
DTSTAMP:20260424T035511
CREATED:20181117T183633Z
LAST-MODIFIED:20181117T183633Z
UID:10001006-1544212800-1544221800@steamworkscreative.com
SUMMARY:The Damaged Pies
DESCRIPTION:Friday\, Dec. 7th\, 2018 Damaged Pies\nEstablished 1987 Pittsburgh\, PA \nhttps://thedamagedpies.bandcamp.com \nSince its’ inception\, Damaged Pies has played and recorded at some of the most legendary venues in world. From CBGB’s in New York City to the Whisky a-go-go in L.A.\, from Liverpool’s Cavern to Sun Studio in Memphis to Trident Studios in London\, from Farm Aid Eve in Hershey to The Surf Ballroom in Iowa\, from Damaged Pies Day in Pittsburgh to Toronto to Philly\, from Athens to Boston\, from Wrigley Field to Three Rivers Stadium from the Rock and Roll Hall of Fame to Golden Gate Park in San Francisco to the Wheeling Jamboree to Nashville and all points in between\, Damaged Pies has been one of rock and roll’s most durable and well-traveled acts. \nDamaged Pies/ Steve Bodner has also been honored with the Jefferson Award for Public Service. \nThe Damaged Pies new single to benefit WhyHunger’s Artists Against Hunger and Poverty is entitled Same Circus\, Different Town and features a musical introduction by David Hentschel (Elton John\, Genesis\, George Harrison and Ringo Starr).\nThe Damaged Pies new album\, The Stars on a Summer’s Night\, is available now on Amazon\, I-Tunes\, CD Baby and Spotify and features cover art\, And Blue by Bernie Taupin. One of the tracks\, We Must Learn to Live Together features the words of Civil Rights Leader and Georgia State Representative John Lewis. The upcoming album You Can Lead A Horse to Water features a cover photograph by Lynn Goldsmith.\nMusicians for Hunger Relief’s new song\, Louder Than Concorde features Rock and Roll Legends Adam Marsland (The Beach Boys\, Wilson Phillips)\, Spooner Oldham (Aretha Franklin\, Crosby Stills\, Nash and Young\, Percy Sledge) and Caleb Quaye (Elton John\, Hall and Oates). \nDamaged Pies has opened for former Beatle Pete Best\, Marshall Crenshaw\, Alejandro Escovedo\, Pegi Young (Neil’s wife)\, James McCartney\, The Atomic Punks\, Peter Case\, former Eagle Don Felder\, Peter Mulvey\, John Hall (Orleans)\, Wayne “The Train” Hancock\, Eric Sommer and Jen Chapin.\nDamaged Pies is a member of WhyHunger’s Artists Against Hunger & Poverty\, The Recording Academy\, Pittsburgh Legends Awards and ASCAP. Damaged Pies also founded Pittsburgh Musicians for Hunger Relief. The Damaged Pies Steve Bodner is also a District Advocate Team Captain for The Recording Academy/ The Grammys and Farm Aid 2017 Homegrown Prosperity\, Hope Grows Here events.\nFarm Aid 2017 Community at the Confluence\nDamaged Pies movie Same Circus\, Different Town is available on You Tube. \nhttps://youtu.be/X47yU_JJCVA \n \n. \n$10 cover\nBYOB\nDoors open one hour before showtime.
URL:https://steamworkscreative.com/event/the-damaged-pies/
LOCATION:Steamworks Creative\, 4967 William Flinn Hwy #6\, Gibsonia\, Pennsylvania\, 15044
CATEGORIES:Music
ATTACH;FMTTYPE=image/jpeg:https://steamworkscreative.com/wp-content/uploads/2018/11/the-damaged-pies.jpeg
GEO:40.6047353;-79.947467
X-APPLE-STRUCTURED-LOCATION;VALUE=URI;X-ADDRESS=Steamworks Creative 4967 William Flinn Hwy #6 Gibsonia Pennsylvania 15044;X-APPLE-RADIUS=500;X-TITLE=4967 William Flinn Hwy #6:geo:-79.947467,40.6047353
END:VEVENT
BEGIN:VEVENT
DTSTART;TZID=America/New_York:20181208T200000
DTEND;TZID=America/New_York:20181208T223000
DTSTAMP:20260424T035511
CREATED:20181031T194535Z
LAST-MODIFIED:20181125T145641Z
UID:10000761-1544299200-1544308200@steamworkscreative.com
SUMMARY:The Sarah James Project
DESCRIPTION:Saturday\, Dec. 8th\, 2018 – The Sarah James Project \nNo stranger to the STEAMWORKS stage\, Sarah James makes her final Pittsburgh appearance for the year. Joining Sarah for the evening is the notable session drummer/percussionist and producer Mr. Jules Granati.  Sarah is a vocalist/guitarist from Phoenix\, AZ\, with deep roots in wesern PA\, where she grew up and spends her summers.  Sarah says that what drives her acoustic-driven vintage pop music is her desire to “let people know that they are not alone and that they are loved.” \nBYOB 21+ \nDoors open one hour before show. \n  \nPhoto: Mara Rago
URL:https://steamworkscreative.com/event/sarah-james-project/
LOCATION:Steamworks Creative\, 4967 William Flinn Hwy #6\, Gibsonia\, Pennsylvania\, 15044
CATEGORIES:Music
ATTACH;FMTTYPE=image/jpeg:https://steamworkscreative.com/wp-content/uploads/2018/10/sarah-james-120818.jpeg
GEO:40.6047353;-79.947467
X-APPLE-STRUCTURED-LOCATION;VALUE=URI;X-ADDRESS=Steamworks Creative 4967 William Flinn Hwy #6 Gibsonia Pennsylvania 15044;X-APPLE-RADIUS=500;X-TITLE=4967 William Flinn Hwy #6:geo:-79.947467,40.6047353
END:VEVENT
BEGIN:VEVENT
DTSTART;TZID=America/New_York:20181209T080000
DTEND;TZID=America/New_York:20181209T170000
DTSTAMP:20260424T035511
CREATED:20181209T221055Z
LAST-MODIFIED:20181209T221055Z
UID:10001046-1544342400-1544374800@steamworkscreative.com
SUMMARY:Tullycavy
DESCRIPTION:Friday\, March 8\, 2019 – Tullycavy
URL:https://steamworkscreative.com/event/tullycavy-2/
LOCATION:Steamworks Creative\, 4967 William Flinn Hwy #6\, Gibsonia\, Pennsylvania\, 15044
CATEGORIES:Music
GEO:40.6047353;-79.947467
X-APPLE-STRUCTURED-LOCATION;VALUE=URI;X-ADDRESS=Steamworks Creative 4967 William Flinn Hwy #6 Gibsonia Pennsylvania 15044;X-APPLE-RADIUS=500;X-TITLE=4967 William Flinn Hwy #6:geo:-79.947467,40.6047353
END:VEVENT
BEGIN:VEVENT
DTSTART;TZID=America/New_York:20181211T193000
DTEND;TZID=America/New_York:20181211T220000
DTSTAMP:20260424T035511
CREATED:20180615T145020Z
LAST-MODIFIED:20181111T223550Z
UID:10000956-1544556600-1544565600@steamworkscreative.com
SUMMARY:Steamworks Sessions - Open Stage Only
DESCRIPTION:Steamworks Sessions  – 7:30pm – 10pm  \nHosted by Mary Lou Scherder.  Open Stage Only
URL:https://steamworkscreative.com/event/steamworks-sessions-2-2018-06-26-2018-07-10-2018-08-07-2018-12-11/
LOCATION:Steamworks Creative\, 4967 William Flinn Hwy #6\, Gibsonia\, Pennsylvania\, 15044
CATEGORIES:Music
ATTACH;FMTTYPE=image/jpeg:https://steamworkscreative.com/wp-content/uploads/2018/02/Steamworks-sessions.jpg
GEO:40.6047353;-79.947467
X-APPLE-STRUCTURED-LOCATION;VALUE=URI;X-ADDRESS=Steamworks Creative 4967 William Flinn Hwy #6 Gibsonia Pennsylvania 15044;X-APPLE-RADIUS=500;X-TITLE=4967 William Flinn Hwy #6:geo:-79.947467,40.6047353
END:VEVENT
BEGIN:VEVENT
DTSTART;TZID=America/New_York:20181213T193000
DTEND;TZID=America/New_York:20181213T220000
DTSTAMP:20260424T035511
CREATED:20181031T194728Z
LAST-MODIFIED:20181120T015727Z
UID:10000762-1544729400-1544738400@steamworkscreative.com
SUMMARY:Nick Tarquinio with special guest Sophia Blake
DESCRIPTION:Thursday\, Dec. 13th\, 2018 Nick Tarquinio with special guest Sophia Blake \nNick is a 20 year old\, Pittsburgh native singer songwriter that is currently living and studying music in Nashville\, TN. His music is influenced from artists such as Ben Rector\, Vance Joy\, and John Mayer. Nick has been writing songs for various up and coming singers in Nashville and has decided to put his own project together. Nick will be performing songs off of his soon to be released EP named “nameless”. \n  \nSophia Blake \nwww.sophiablakemusic.com
URL:https://steamworkscreative.com/event/nick-tarquinio/
LOCATION:Steamworks Creative\, 4967 William Flinn Hwy #6\, Gibsonia\, Pennsylvania\, 15044
CATEGORIES:Music
ATTACH;FMTTYPE=image/jpeg:https://steamworkscreative.com/wp-content/uploads/2018/10/nick-tarquino.jpg
GEO:40.6047353;-79.947467
X-APPLE-STRUCTURED-LOCATION;VALUE=URI;X-ADDRESS=Steamworks Creative 4967 William Flinn Hwy #6 Gibsonia Pennsylvania 15044;X-APPLE-RADIUS=500;X-TITLE=4967 William Flinn Hwy #6:geo:-79.947467,40.6047353
END:VEVENT
BEGIN:VEVENT
DTSTART;TZID=America/New_York:20181215T200000
DTEND;TZID=America/New_York:20181215T223000
DTSTAMP:20260424T035511
CREATED:20180914T211858Z
LAST-MODIFIED:20181108T153238Z
UID:10000998-1544904000-1544913000@steamworkscreative.com
SUMMARY:Steel Mill Rising
DESCRIPTION:Saturday\, December 15\, 2018 Steel Mill Rising \nSteel Mill Rising is a rock n’ roll cover band. The band plays all of the classic rock hits spanning over ALL decades. One of Western Pennsylvania’s youngest bands; Steel Mill Rising puts on an energetic show that promises a great time with even better music! \nBand Members: \n\nRhythm Guitar and Lead Vocals – Matt Kamenicky\nLead Guitar – Alex Weibel\nBass Guitar – Keegan Dziadik\nDrums – Dan Falk\nSaxophone – Spencer McNeill\n\nhttps://sites.google.com/view/steelmillrising \nFacebook https://www.facebook.com/SteelMillRising/ \nInstagram https://www.instagram.com/steel_mill_rising/ \nYoutube https://www.youtube.com/channel/UC8m3J2mtOId6looFoicRxGA?view_as=subscriber
URL:https://steamworkscreative.com/event/matt-kamenicky/
LOCATION:Steamworks Creative\, 4967 William Flinn Hwy #6\, Gibsonia\, Pennsylvania\, 15044
CATEGORIES:Music
ATTACH;FMTTYPE=image/jpeg:https://steamworkscreative.com/wp-content/uploads/2018/09/Steel-Mill-Rising-Band-Picture.jpg
GEO:40.6047353;-79.947467
X-APPLE-STRUCTURED-LOCATION;VALUE=URI;X-ADDRESS=Steamworks Creative 4967 William Flinn Hwy #6 Gibsonia Pennsylvania 15044;X-APPLE-RADIUS=500;X-TITLE=4967 William Flinn Hwy #6:geo:-79.947467,40.6047353
END:VEVENT
BEGIN:VEVENT
DTSTART;TZID=America/New_York:20181218T193000
DTEND;TZID=America/New_York:20181218T220000
DTSTAMP:20260424T035511
CREATED:20180615T145020Z
LAST-MODIFIED:20181111T223917Z
UID:10000963-1545161400-1545170400@steamworkscreative.com
SUMMARY:Steamworks Sessions with Featured Artist Colin Suierveid
DESCRIPTION:Steamworks Sessions – 7:30pm – 10pm  \nHosted by Mary Lou Scherder with Featured Artist Colin Suierveid & Open Stage.
URL:https://steamworkscreative.com/event/steamworks-sessions-2-2018-06-26-2018-07-10-2018-08-07-2018-12-18/
LOCATION:Steamworks Creative\, 4967 William Flinn Hwy #6\, Gibsonia\, Pennsylvania\, 15044
CATEGORIES:Music
ATTACH;FMTTYPE=image/jpeg:https://steamworkscreative.com/wp-content/uploads/2018/02/Steamworks-sessions.jpg
GEO:40.6047353;-79.947467
X-APPLE-STRUCTURED-LOCATION;VALUE=URI;X-ADDRESS=Steamworks Creative 4967 William Flinn Hwy #6 Gibsonia Pennsylvania 15044;X-APPLE-RADIUS=500;X-TITLE=4967 William Flinn Hwy #6:geo:-79.947467,40.6047353
END:VEVENT
BEGIN:VEVENT
DTSTART;TZID=America/New_York:20181219T193000
DTEND;TZID=America/New_York:20181219T220000
DTSTAMP:20260424T035511
CREATED:20180615T145353Z
LAST-MODIFIED:20180830T104730Z
UID:10000969-1545247800-1545256800@steamworkscreative.com
SUMMARY:All Ages Full Band Open Stage hosted by Ian Arthurs
DESCRIPTION:All Ages Full Band Open Stage hosted by Ian Arthurs \nAll drums\, amps\, and a keyboard will be provided for use. \nElectric and acoustic players welcome\, even full bands! \n  \n 7:30pm – The 1st & 3rd Wednesday of every month\, There is no alcohol permitted at these shows.
URL:https://steamworkscreative.com/event/all-ages-open-stage-hosted-by-ian-arthurs/2018-12-19/
LOCATION:Steamworks Creative\, 4967 William Flinn Hwy #6\, Gibsonia\, Pennsylvania\, 15044
CATEGORIES:Music
ATTACH;FMTTYPE=image/jpeg:https://steamworkscreative.com/wp-content/uploads/2018/06/Ian-show-poster-8-29-18.jpg
GEO:40.6047353;-79.947467
X-APPLE-STRUCTURED-LOCATION;VALUE=URI;X-ADDRESS=Steamworks Creative 4967 William Flinn Hwy #6 Gibsonia Pennsylvania 15044;X-APPLE-RADIUS=500;X-TITLE=4967 William Flinn Hwy #6:geo:-79.947467,40.6047353
END:VEVENT
BEGIN:VEVENT
DTSTART;TZID=America/New_York:20181220T193000
DTEND;TZID=America/New_York:20181220T220000
DTSTAMP:20260424T035511
CREATED:20181031T194940Z
LAST-MODIFIED:20181117T210343Z
UID:10000763-1545334200-1545343200@steamworkscreative.com
SUMMARY:Lenny\, Larry & Clint Trio
DESCRIPTION:Thursday\, Dec. 20th\, 2018 Lenny\, Larry\, & Clint Trio return to Steamworks! \nLenny Smith – guitar & vocals\nLarry Siefers – keyboards \, sax & flute & vocals\nClint Hoover – Harmonicas & vocals \nThis trio has a unique sound covering some of the 60’s & 70’s classic rock and also some of their original material \nAcoustic Genre – New Age / World Music \nWeb URL – www.lennysmithguitar.com\nYou Tube – https://www.youtube.com/watch?v=0IcC-57Eqak\nLenny Smith
URL:https://steamworkscreative.com/event/lenny-larry-clint-trio-2/
LOCATION:Steamworks Creative\, 4967 William Flinn Hwy #6\, Gibsonia\, Pennsylvania\, 15044
CATEGORIES:Music
ATTACH;FMTTYPE=image/jpeg:https://steamworkscreative.com/wp-content/uploads/2018/06/lenny-larry-clint.jpg
GEO:40.6047353;-79.947467
X-APPLE-STRUCTURED-LOCATION;VALUE=URI;X-ADDRESS=Steamworks Creative 4967 William Flinn Hwy #6 Gibsonia Pennsylvania 15044;X-APPLE-RADIUS=500;X-TITLE=4967 William Flinn Hwy #6:geo:-79.947467,40.6047353
END:VEVENT
BEGIN:VEVENT
DTSTART;TZID=America/New_York:20181221T200000
DTEND;TZID=America/New_York:20181221T223000
DTSTAMP:20260424T035511
CREATED:20181207T001431Z
LAST-MODIFIED:20181207T010444Z
UID:10000779-1545422400-1545431400@steamworkscreative.com
SUMMARY:Christmas Party - Open Stage / Christmas Jam Session
DESCRIPTION:Christmas Party – Open Stage / Christmas Jam Session\, Friday\, Dec. 21st\, 2018 \nBYOB – Hors d’Oeuvres \nN0 Cover
URL:https://steamworkscreative.com/event/christmas-party-open-stage-christmas-jam-session/
LOCATION:Steamworks Creative\, 4967 William Flinn Hwy #6\, Gibsonia\, Pennsylvania\, 15044
CATEGORIES:Music
ATTACH;FMTTYPE=image/jpeg:https://steamworkscreative.com/wp-content/uploads/2018/12/SW-Christmas-Party.jpg
GEO:40.6047353;-79.947467
X-APPLE-STRUCTURED-LOCATION;VALUE=URI;X-ADDRESS=Steamworks Creative 4967 William Flinn Hwy #6 Gibsonia Pennsylvania 15044;X-APPLE-RADIUS=500;X-TITLE=4967 William Flinn Hwy #6:geo:-79.947467,40.6047353
END:VEVENT
BEGIN:VEVENT
DTSTART;TZID=America/New_York:20181227T193000
DTEND;TZID=America/New_York:20181227T223000
DTSTAMP:20260424T035511
CREATED:20180614T194947Z
LAST-MODIFIED:20181208T164852Z
UID:10000703-1545939000-1545949800@steamworkscreative.com
SUMMARY:Darling Nikki & Acoustic Prince
DESCRIPTION:Thursday\, December 27th\, 2018 Darling Nikki & Acoustic Prince \nAn acoustic trio version of the Prince tribute project. \nDarling Nikki featuring vocalist Jason Walker\, Lou Ross on percussion and Steve Delach on guitar. Darling Nikki unplugged performs popular Prince material as well as some deep cuts and music composed by Prince and recorded/performed by other popular artists. \n \nAdvanced Tickets $12: https://bit.ly/2QRh3n9 / $15 at door\nBYOB\nDoors open one hour before showtime.
URL:https://steamworkscreative.com/event/darling-nikki-acoustic-prince/
LOCATION:Steamworks Creative\, 4967 William Flinn Hwy #6\, Gibsonia\, Pennsylvania\, 15044
CATEGORIES:Music
ATTACH;FMTTYPE=image/jpeg:https://steamworkscreative.com/wp-content/uploads/2018/06/darling-nikki.jpg
GEO:40.6047353;-79.947467
X-APPLE-STRUCTURED-LOCATION;VALUE=URI;X-ADDRESS=Steamworks Creative 4967 William Flinn Hwy #6 Gibsonia Pennsylvania 15044;X-APPLE-RADIUS=500;X-TITLE=4967 William Flinn Hwy #6:geo:-79.947467,40.6047353
END:VEVENT
BEGIN:VEVENT
DTSTART;TZID=America/New_York:20181228T200000
DTEND;TZID=America/New_York:20181228T223000
DTSTAMP:20260424T035511
CREATED:20181208T025008Z
LAST-MODIFIED:20181208T162358Z
UID:10000781-1546027200-1546036200@steamworkscreative.com
SUMMARY:Red Strum
DESCRIPTION:Friday\, Dec. 28\, 2018 \nRed Strum returns to Steamworks!! \nRed Strum & The Sick Strings are an Indie Rock/Blues band out of Pittsburgh PA. Rhythm and vocals Red Strum\, drums J.P. Finger\, Bass guitar Steve Viale\, Lead guitar Zack Nine \n$10 cover\nBYOB\nDoors open one hour before showtime \n#steamworkscreative #listeningroom #acousticmusic #singersongwriter\n#SitBackRelaxListenToTheMusic
URL:https://steamworkscreative.com/event/red-strum-3/
LOCATION:Steamworks Creative\, 4967 William Flinn Hwy #6\, Gibsonia\, Pennsylvania\, 15044
CATEGORIES:Music
ATTACH;FMTTYPE=image/jpeg:https://steamworkscreative.com/wp-content/uploads/2018/06/red-strum.jpg
GEO:40.6047353;-79.947467
X-APPLE-STRUCTURED-LOCATION;VALUE=URI;X-ADDRESS=Steamworks Creative 4967 William Flinn Hwy #6 Gibsonia Pennsylvania 15044;X-APPLE-RADIUS=500;X-TITLE=4967 William Flinn Hwy #6:geo:-79.947467,40.6047353
END:VEVENT
END:VCALENDAR