BEGIN:VCALENDAR
VERSION:2.0
PRODID:-//Steamworks Creative - ECPv6.10.0//NONSGML v1.0//EN
CALSCALE:GREGORIAN
METHOD:PUBLISH
X-ORIGINAL-URL:https://steamworkscreative.com
X-WR-CALDESC:Events for Steamworks Creative
REFRESH-INTERVAL;VALUE=DURATION:PT1H
X-Robots-Tag:noindex
X-PUBLISHED-TTL:PT1H
BEGIN:VTIMEZONE
TZID:America/New_York
BEGIN:DAYLIGHT
TZOFFSETFROM:-0500
TZOFFSETTO:-0400
TZNAME:EDT
DTSTART:20190310T070000
END:DAYLIGHT
BEGIN:STANDARD
TZOFFSETFROM:-0400
TZOFFSETTO:-0500
TZNAME:EST
DTSTART:20191103T060000
END:STANDARD
END:VTIMEZONE
BEGIN:VEVENT
DTSTART;TZID=America/New_York:20190105T200000
DTEND;TZID=America/New_York:20190105T223000
DTSTAMP:20260424T051937
CREATED:20181210T205443Z
LAST-MODIFIED:20181210T210552Z
UID:10001054-1546718400-1546727400@steamworkscreative.com
SUMMARY:Dazed Days of Yesteryear with Bryan V
DESCRIPTION:Saturday\, January 5\, 2019 – Dazed Days of Yesteryear with Bryan V \nJoin Keyboardist/Singer Bryan V for a tribute to the big songs of the Seventies!! Grand songs by Led Zeppelin\, Queen\, Pink Floyd\, The Doors\, Rolling Stones\, Jethro Tull\, Stevie Wonder\, Elton John\, Billy Joel\, will be played live on Keyboard. \nKeyboardist Brian William Ogle aka Bryan V. has been performing and writing an array of music in multiple styles since the late1970’s. He currently performs weekly at various venues and establishments throughout the Greater Pittsburgh region\, having previously earned degrees in Music Composition from Crane\, Jacobs and Scheidt Schools of Music. He has written thirty Modern Classical works\, including a Symphony\, a String Quartet\, Various Choral pieces\, a Saxophone Quartet\, and a Song Cycle. \n  \nBYOB \nDoors open one hour before showtime
URL:https://steamworkscreative.com/event/dazed-days-of-yesteryear-with-bryan-v/
LOCATION:Steamworks Creative\, 4967 William Flinn Hwy #6\, Gibsonia\, Pennsylvania\, 15044
CATEGORIES:Music
ATTACH;FMTTYPE=image/jpeg:https://steamworkscreative.com/wp-content/uploads/2018/12/bryan-v.jpg
GEO:40.6047353;-79.947467
X-APPLE-STRUCTURED-LOCATION;VALUE=URI;X-ADDRESS=Steamworks Creative 4967 William Flinn Hwy #6 Gibsonia Pennsylvania 15044;X-APPLE-RADIUS=500;X-TITLE=4967 William Flinn Hwy #6:geo:-79.947467,40.6047353
END:VEVENT
BEGIN:VEVENT
DTSTART;TZID=America/New_York:20190108T193000
DTEND;TZID=America/New_York:20190108T220000
DTSTAMP:20260424T051937
CREATED:20181205T171547Z
LAST-MODIFIED:20181231T160631Z
UID:10001008-1546975800-1546984800@steamworkscreative.com
SUMMARY:Steamworks Sessions with Featured Artist Frank Vieira
DESCRIPTION:Steamworks Sessions 7:30pm – 10pm hosted by Mary Lou Scherder  with Featured Artist Frank Vieira followed by  Open Stage \n2nd & 4th Tuesday of the month\n7:30-10pm – Donations Accepted \n#steamworkscreative #listeningroom #acousticmusic #singersongwriter#openstage\n#SitBackRelaxListenToTheMusic
URL:https://steamworkscreative.com/event/steamworks-sessions-3/
LOCATION:Steamworks Creative\, 4967 William Flinn Hwy #6\, Gibsonia\, Pennsylvania\, 15044
CATEGORIES:Music
ATTACH;FMTTYPE=image/jpeg:https://steamworkscreative.com/wp-content/uploads/2018/12/Steamworks-Sessions-square.jpg
GEO:40.6047353;-79.947467
X-APPLE-STRUCTURED-LOCATION;VALUE=URI;X-ADDRESS=Steamworks Creative 4967 William Flinn Hwy #6 Gibsonia Pennsylvania 15044;X-APPLE-RADIUS=500;X-TITLE=4967 William Flinn Hwy #6:geo:-79.947467,40.6047353
END:VEVENT
BEGIN:VEVENT
DTSTART;TZID=America/New_York:20190109T193000
DTEND;TZID=America/New_York:20190109T220000
DTSTAMP:20260424T051937
CREATED:20181205T173946Z
LAST-MODIFIED:20190102T203957Z
UID:10001034-1547062200-1547071200@steamworkscreative.com
SUMMARY:All Ages Full Band Open Stage
DESCRIPTION:Second Wednesday of the month\,  Ian Arthurs hosts the All Ages Full Band Open Stage (Electric & Acoustic Open Stage) \nAll drums\, amps\, and a keyboard will be provided for use. ??? Electric and Acoustic players welcome\, even full bands! \n#steamworkscreative #listeningroom#acousticmusic #singersongwriter #openstage#SitBackRelaxListenToTheMusic
URL:https://steamworkscreative.com/event/all-ages-full-band-open-stage/2019-01-09/
LOCATION:Steamworks Creative\, 4967 William Flinn Hwy #6\, Gibsonia\, Pennsylvania\, 15044
CATEGORIES:Music
ATTACH;FMTTYPE=image/jpeg:https://steamworkscreative.com/wp-content/uploads/2018/12/Ian-show-poster-1-2-19.jpg
GEO:40.6047353;-79.947467
X-APPLE-STRUCTURED-LOCATION;VALUE=URI;X-ADDRESS=Steamworks Creative 4967 William Flinn Hwy #6 Gibsonia Pennsylvania 15044;X-APPLE-RADIUS=500;X-TITLE=4967 William Flinn Hwy #6:geo:-79.947467,40.6047353
END:VEVENT
BEGIN:VEVENT
DTSTART;TZID=America/New_York:20190112T193000
DTEND;TZID=America/New_York:20190112T223000
DTSTAMP:20260424T051937
CREATED:20181231T165326Z
LAST-MODIFIED:20181231T165948Z
UID:10001057-1547321400-1547332200@steamworkscreative.com
SUMMARY:Saturday Night Open Mic Party
DESCRIPTION:Larry Demas hosts a new weekend open stage. \nSpecial guest David Hipchen\, on his birthday!! Come celebrate. David is working on getting his band\, Tilted Shadows gig ready for 2019.\nCome hear what he is working on!! \nBring your instrument and some Friends. \n7:30-10:30pm – Donations Accepted \n#steamworkscreative #listeningroom #acousticmusic #singersongwriter#openstage\n#SitBackRelaxListenToTheMusic
URL:https://steamworkscreative.com/event/saturday-night-open-mic-party/
LOCATION:Steamworks Creative\, 4967 William Flinn Hwy #6\, Gibsonia\, Pennsylvania\, 15044
CATEGORIES:Music
ATTACH;FMTTYPE=image/jpeg:https://steamworkscreative.com/wp-content/uploads/2017/05/cropped-favicon-1.jpg
GEO:40.6047353;-79.947467
X-APPLE-STRUCTURED-LOCATION;VALUE=URI;X-ADDRESS=Steamworks Creative 4967 William Flinn Hwy #6 Gibsonia Pennsylvania 15044;X-APPLE-RADIUS=500;X-TITLE=4967 William Flinn Hwy #6:geo:-79.947467,40.6047353
END:VEVENT
BEGIN:VEVENT
DTSTART;TZID=America/New_York:20190113T140000
DTEND;TZID=America/New_York:20190113T170000
DTSTAMP:20260424T051937
CREATED:20181018T223443Z
LAST-MODIFIED:20190113T150345Z
UID:10000744-1547388000-1547398800@steamworkscreative.com
SUMMARY:Autism Open Mic
DESCRIPTION:Join us the 2nd Sunday of the month from 2-5 pm for our Family Friendly\, Alcohol Free\, Autism Open Mic hosted by Autism Society of Pittsburgh! \nEveryone Welcome to come and have fun\, regardless of musical experience! We have all mics\, keyboards\, guitars\, amps and percussion available! ????\nPizza and soft drinks will be provided.\nDonations Gladly Accepted. \nAlcohol Not Permitted – Family Friendly Entertainment\nBand Together Pittsburgh – Evolve Coaching’s Arts for Autism Program\n#steamworkscreative #AustimOpenMic #Aut2KnowPgh#BandTogetherPgh #AFAPgh #ASDMusic
URL:https://steamworkscreative.com/event/autism-open-mic-2/2019-01-13/
LOCATION:Steamworks Creative\, 4967 William Flinn Hwy #6\, Gibsonia\, Pennsylvania\, 15044
CATEGORIES:Music
ATTACH;FMTTYPE=image/jpeg:https://steamworkscreative.com/wp-content/uploads/2018/10/IMG_2631.jpg
GEO:40.6047353;-79.947467
X-APPLE-STRUCTURED-LOCATION;VALUE=URI;X-ADDRESS=Steamworks Creative 4967 William Flinn Hwy #6 Gibsonia Pennsylvania 15044;X-APPLE-RADIUS=500;X-TITLE=4967 William Flinn Hwy #6:geo:-79.947467,40.6047353
END:VEVENT
BEGIN:VEVENT
DTSTART;TZID=America/New_York:20190117T193000
DTEND;TZID=America/New_York:20190117T220000
DTSTAMP:20260424T051937
CREATED:20190101T234942Z
LAST-MODIFIED:20190105T215207Z
UID:10001059-1547753400-1547762400@steamworkscreative.com
SUMMARY:Bobby V (5)
DESCRIPTION:Thursday\, January 17\, 2019 Bobby 5 \n\nBOBBY V (5) ( www.bobby5.com )is a fun\, entertaining acoustic act covering all types of songs from the 50’s to present day music. \nBobby is a well known musician in Western Pennsylvania\, as well as the South Florida area\, splitting his time spending winters in Florida and summers in Pittsburgh and Nashville he has been hailed as one of the best entertainers in the music industry. \nAs a singer-song writer he is an acoustic guitarist\, and also plays harmonica and percussion. He covers over 1000 songs from the fifties to present day music with no backing tracks\, including classic rock\, southern rock\, modern rock\, light rock\, blues\, folk\, bluegrass\, and country. He also has written more than 200 original songs. When not performing solo\, he features some of the finest musicians in the country to join him at his shows. \nHe has been a great supporter of local\, regional\, and national music for many years. with his great passion for the acoustic guitar\, he has been performing professionally for more than 20 years. \nWith his love for music\, Bobby has made a career in the music industry. He is currently working on his new cd\, which will feature some of the finest musicians in Western Pennsylvania and South Florida. \n$10 cover\nBYOB listening room\nDoors open one hour before show \n#steamworkscreative #listeningroom #acousticmusic #singersongwriter\n#SitBackRelaxListenToTheMusic
URL:https://steamworkscreative.com/event/bobby-5/
LOCATION:Steamworks Creative\, 4967 William Flinn Hwy #6\, Gibsonia\, Pennsylvania\, 15044
CATEGORIES:Music
ATTACH;FMTTYPE=image/jpeg:https://steamworkscreative.com/wp-content/uploads/2019/01/34443DE0-2A6F-4BE5-B756-D0DC9EC210F9.jpg
GEO:40.6047353;-79.947467
X-APPLE-STRUCTURED-LOCATION;VALUE=URI;X-ADDRESS=Steamworks Creative 4967 William Flinn Hwy #6 Gibsonia Pennsylvania 15044;X-APPLE-RADIUS=500;X-TITLE=4967 William Flinn Hwy #6:geo:-79.947467,40.6047353
END:VEVENT
BEGIN:VEVENT
DTSTART;TZID=America/New_York:20190118T200000
DTEND;TZID=America/New_York:20190118T223000
DTSTAMP:20260424T051937
CREATED:20181205T165605Z
LAST-MODIFIED:20181224T203858Z
UID:10001007-1547841600-1547850600@steamworkscreative.com
SUMMARY:The Dead End Streets
DESCRIPTION:Friday\, 1/18/19 8pm – The Dead End Streets \n \nSinger/songwriter Matt Aquiline began performing in Pittsburgh in the early ’90s and recorded his 1997 cd\, Dice Roll\, at Dave World in Ambridge\, PA\, backed by some of Pittsburgh’s best musicians including Whitey Cooper and Sam Klingensmith of Norman Nardini and the Tigers\, Joe Marini of Jim Donovan and the Sun King Warriors and at least 1 Granati brother. He moved to DC to further other career pursuits\, where he formed the band\, Kid Goat\, which performed in the DC area for ten years and recorded the 2009 cd\, “These People Aren’t You.”\nKid Goat disbanded in 2013 and Aquiline returned to Pittsburgh to continue writing and performing his music in the town where it was formed. \nTo help bring his sound home\, Aquiline enlisted veterans of the local scene Stefan Rodriguez (Bad Attitude\, Full Circle Band\, Electriflyers) on Bass\, Neil Carr (Scene 14\, RockHeart\, Gringo Zydeco) on Lead Guitar and Vocals and Bill Maruca (Sandoz\, The Pawnbrokers\, TheCAUSE\, Billy Price) on Keys\, and the youthful talents of Evan Cvejkus on Drums and Heather Catley on Vocals and Guitar. Catley and other band members have also begun contributing their own stellar original material to Aquiline’s\, adding even more dimension to a sound that already married folk\, rock\, blues\, country and a little blue-eyed soul into an Americana sound that is pure Pittsburgh\, with skill\, authenticity and the kind of depth you develop surviving a few cold Winters. \nMatt Aquiline and The Dead End Streets released their debut EP “Coming Home” in December 2017. They released a two-song single of original Christmas songs in December 2018\, “No Excuse Not To Have A Merry Christmas.” \n$10 cover\nBYOB listening room\nDoors open one hour before show \n#steamworkscreative #listeningroom #acousticmusic #singersongwriter\n#SitBackRelaxListenToTheMusic
URL:https://steamworkscreative.com/event/dead-end-streets/
LOCATION:Steamworks Creative\, 4967 William Flinn Hwy #6\, Gibsonia\, Pennsylvania\, 15044
CATEGORIES:Music
ATTACH;FMTTYPE=image/jpeg:https://steamworkscreative.com/wp-content/uploads/2018/12/x-The-Dead-End-Streets-Band-Photo.jpeg
GEO:40.6047353;-79.947467
X-APPLE-STRUCTURED-LOCATION;VALUE=URI;X-ADDRESS=Steamworks Creative 4967 William Flinn Hwy #6 Gibsonia Pennsylvania 15044;X-APPLE-RADIUS=500;X-TITLE=4967 William Flinn Hwy #6:geo:-79.947467,40.6047353
END:VEVENT
BEGIN:VEVENT
DTSTART;TZID=America/New_York:20190119T200000
DTEND;TZID=America/New_York:20190119T223000
DTSTAMP:20260424T051937
CREATED:20181209T214918Z
LAST-MODIFIED:20181224T193958Z
UID:10000783-1547928000-1547937000@steamworkscreative.com
SUMMARY:Jim Relja of The Regular Joes with special guest Martin Vincent
DESCRIPTION:Saturday\, January 19\, 2019 8pm Jim Relja with special guest Martin Vincent \nJim Relja of The Regular Joes is a guitarist/vocalist in Americana/Rock/Country/Blues/Jazz/Pop.\nJim also owned Jim’s Music Shop in Elizabeth\, PA for years. He\nworked with Dave Pahanish who has written hit country songs\nfor notable artists. \nSpecial guest Martin Vincent is a singer-songwriter. \n$10 cover\nBYOB listening room\nDoors open one hour before show \n#steamworkscreative #listeningroom #acousticmusic #singersongwriter\n#SitBackRelaxListenToTheMusic
URL:https://steamworkscreative.com/event/jim-relja-with-special-guest-martin-vincent/
LOCATION:Steamworks Creative\, 4967 William Flinn Hwy #6\, Gibsonia\, Pennsylvania\, 15044
CATEGORIES:Music
ATTACH;FMTTYPE=image/jpeg:https://steamworkscreative.com/wp-content/uploads/2018/12/jim-relja-martin-vincent.jpg
GEO:40.6047353;-79.947467
X-APPLE-STRUCTURED-LOCATION;VALUE=URI;X-ADDRESS=Steamworks Creative 4967 William Flinn Hwy #6 Gibsonia Pennsylvania 15044;X-APPLE-RADIUS=500;X-TITLE=4967 William Flinn Hwy #6:geo:-79.947467,40.6047353
END:VEVENT
BEGIN:VEVENT
DTSTART;TZID=America/New_York:20190122T193000
DTEND;TZID=America/New_York:20190122T220000
DTSTAMP:20260424T051937
CREATED:20181205T171547Z
LAST-MODIFIED:20181231T160846Z
UID:10001009-1548185400-1548194400@steamworkscreative.com
SUMMARY:Steamworks Sessions with Featured Artist Ethan Sauer
DESCRIPTION:Steamworks Sessions 7:30pm – 10pm hosted by Mary Lou Scherder  with Featured Artist Ethan Sauer followed by  Open Stage. \n2nd & 4th Tuesday of the month\n7:30-10pm – Donations Accepted \n#steamworkscreative #listeningroom #acousticmusic #singersongwriter#openstage\n#SitBackRelaxListenToTheMusic
URL:https://steamworkscreative.com/event/steamworks-sessions-3-2019-01-22/
LOCATION:Steamworks Creative\, 4967 William Flinn Hwy #6\, Gibsonia\, Pennsylvania\, 15044
CATEGORIES:Music
ATTACH;FMTTYPE=image/jpeg:https://steamworkscreative.com/wp-content/uploads/2018/12/Steamworks-Sessions-square.jpg
GEO:40.6047353;-79.947467
X-APPLE-STRUCTURED-LOCATION;VALUE=URI;X-ADDRESS=Steamworks Creative 4967 William Flinn Hwy #6 Gibsonia Pennsylvania 15044;X-APPLE-RADIUS=500;X-TITLE=4967 William Flinn Hwy #6:geo:-79.947467,40.6047353
END:VEVENT
BEGIN:VEVENT
DTSTART;TZID=America/New_York:20190123T193000
DTEND;TZID=America/New_York:20190123T220000
DTSTAMP:20260424T051937
CREATED:20190110T201607Z
LAST-MODIFIED:20190116T012622Z
UID:10000796-1548271800-1548280800@steamworkscreative.com
SUMMARY:Eclectic Night hosted by Lou Ross
DESCRIPTION:Lou Ross hosts Eclectic Night every Fourth Wednesday of the month. \nJoin Lou as Steamworks explores the Creative side of Music.\nMusic | Art | Spoken Word \nAll Ages Welcome – Donations Accepted \n#steamworkscreative #listeningroom #eclectic\n#music #art #spokenword\n#SitBackRelaxListenToTheMusic
URL:https://steamworkscreative.com/event/eclectic-night/2019-01-23/
LOCATION:Steamworks Creative\, 4967 William Flinn Hwy #6\, Gibsonia\, Pennsylvania\, 15044
CATEGORIES:Music
ATTACH;FMTTYPE=image/jpeg:https://steamworkscreative.com/wp-content/uploads/2019/01/Lou-Ross-Night.jpg
GEO:40.6047353;-79.947467
X-APPLE-STRUCTURED-LOCATION;VALUE=URI;X-ADDRESS=Steamworks Creative 4967 William Flinn Hwy #6 Gibsonia Pennsylvania 15044;X-APPLE-RADIUS=500;X-TITLE=4967 William Flinn Hwy #6:geo:-79.947467,40.6047353
END:VEVENT
BEGIN:VEVENT
DTSTART;TZID=America/New_York:20190124T193000
DTEND;TZID=America/New_York:20190124T220000
DTSTAMP:20260424T051937
CREATED:20181209T215612Z
LAST-MODIFIED:20190118T162953Z
UID:10000785-1548358200-1548367200@steamworkscreative.com
SUMMARY:Danny Gochnour with special guest John Vento
DESCRIPTION:Thursday\, January 24th\, 2019 Danny Gochnour Band with special guest John Vento \nDanny (Danny Gochnour Music) joined Joe Grushecky and the Houserockers in 2006. Their latest record More Yesterdays Than Tomorrows was named one of 2018’s Top 10 Best Records by Disiples of Sound. \nhttps://disciplesofsound.blogspot.com/?m=1 \nIn 2018\, Danny released his first solo record The Despair of Summer where he steps out front shifting focus from his guitar work to his introspective songwriting. The record has received rave reviews and has been compared to works by Tom Petty and Jason Isbell. \n \nwww.dannygochnour.com \n— \nJohn Vento (John Vento – Music) is best-known as the lead singer of The Nied’s Hotel Band. His recent release\, “Love\, Lust & Other Wreckage”\, can be downloaded on his website: www.johnvento.com \n \nIan Arthurs and Sal Monteverde will be joining John. \n$10 cover\nBYOB listening room\nDoors open one hour before show \n#steamworkscreative #listeningroom #acousticmusic #singersongwriter\n#SitBackRelaxListenToTheMusic
URL:https://steamworkscreative.com/event/danny-gochnour-band-with-special-guest-john-vento/
LOCATION:Steamworks Creative\, 4967 William Flinn Hwy #6\, Gibsonia\, Pennsylvania\, 15044
CATEGORIES:Music
ATTACH;FMTTYPE=image/jpeg:https://steamworkscreative.com/wp-content/uploads/2018/12/68940.jpeg
GEO:40.6047353;-79.947467
X-APPLE-STRUCTURED-LOCATION;VALUE=URI;X-ADDRESS=Steamworks Creative 4967 William Flinn Hwy #6 Gibsonia Pennsylvania 15044;X-APPLE-RADIUS=500;X-TITLE=4967 William Flinn Hwy #6:geo:-79.947467,40.6047353
END:VEVENT
BEGIN:VEVENT
DTSTART;TZID=America/New_York:20190125T200000
DTEND;TZID=America/New_York:20190125T223000
DTSTAMP:20260424T051937
CREATED:20181209T215831Z
LAST-MODIFIED:20190116T023807Z
UID:10000786-1548446400-1548455400@steamworkscreative.com
SUMMARY:Steamworks Creative 1st Anniversary Jam Session
DESCRIPTION:Join us on Friday\, January 25th as we celebrate our 1st anniversary! What a great 1st year we’ve had. Thank you to all the talented musicians that took the stage and our wonderful music loving audience! \nCelebrate our namesake with some of your best songs with trains in the title or lyrics! ?? \nBYOB\nNo Cover \n#steamworkscreative #listeningroom #acousticmusic #jamsession #singersongwriter #openstage #SitBackRelaxListenToTheMusic \n 
URL:https://steamworkscreative.com/event/steamworks-creative-1st-anniversary-jam-session/
LOCATION:Steamworks Creative\, 4967 William Flinn Hwy #6\, Gibsonia\, Pennsylvania\, 15044
CATEGORIES:Music
ATTACH;FMTTYPE=image/jpeg:https://steamworkscreative.com/wp-content/uploads/2018/07/steamworks-creative-montage.jpg
GEO:40.6047353;-79.947467
X-APPLE-STRUCTURED-LOCATION;VALUE=URI;X-ADDRESS=Steamworks Creative 4967 William Flinn Hwy #6 Gibsonia Pennsylvania 15044;X-APPLE-RADIUS=500;X-TITLE=4967 William Flinn Hwy #6:geo:-79.947467,40.6047353
END:VEVENT
BEGIN:VEVENT
DTSTART;TZID=America/New_York:20190126T190000
DTEND;TZID=America/New_York:20190126T220000
DTSTAMP:20260424T051937
CREATED:20181218T025106Z
LAST-MODIFIED:20190118T205014Z
UID:10001055-1548529200-1548540000@steamworkscreative.com
SUMMARY:Second Breakfast
DESCRIPTION:Saturday\, January 26\, 2019 A product of love for good music and great friendships\, Second Breakfast is a band comprised of thoughtful musicians. Their journey began when husband and wife duo\, Kendell and Rick Romanelli\, began performing together in 2002. Kendell’s soulfully sweet yet powerful voice\, developed over many years of vocal experience was complimented by Rick’s bluesy accompaniment. It wasn’t long before Doug Wells (of Kids After Dark fame) joined them\, providing a solid bass foundation. In 2016\, they partnered with Rick’s lifelong friend and cousin\, Maria Elliott\, whose well crafted jazz and rock guitar styling provided a perfect fit. Second Breakfast’s repertoire consists of various musical treats from Beatles to Police and from Texas country blues to Tin Pan Alley.standards. \n$10 cover\nBYOB listening room\nDoors open one hour before show \n#steamworkscreative #listeningroom #acousticmusic #singersongwriter\n#SitBackRelaxListenToTheMusic
URL:https://steamworkscreative.com/event/second-breakfast-3/
LOCATION:Steamworks Creative\, 4967 William Flinn Hwy #6\, Gibsonia\, Pennsylvania\, 15044
CATEGORIES:Music
ATTACH;FMTTYPE=image/jpeg:https://steamworkscreative.com/wp-content/uploads/2018/12/IMG_2753.jpg
GEO:40.6047353;-79.947467
X-APPLE-STRUCTURED-LOCATION;VALUE=URI;X-ADDRESS=Steamworks Creative 4967 William Flinn Hwy #6 Gibsonia Pennsylvania 15044;X-APPLE-RADIUS=500;X-TITLE=4967 William Flinn Hwy #6:geo:-79.947467,40.6047353
END:VEVENT
END:VCALENDAR