BEGIN:VCALENDAR
VERSION:2.0
PRODID:-//Steamworks Creative - ECPv6.10.0//NONSGML v1.0//EN
CALSCALE:GREGORIAN
METHOD:PUBLISH
X-WR-CALNAME:Steamworks Creative
X-ORIGINAL-URL:https://steamworkscreative.com
X-WR-CALDESC:Events for Steamworks Creative
REFRESH-INTERVAL;VALUE=DURATION:PT1H
X-Robots-Tag:noindex
X-PUBLISHED-TTL:PT1H
BEGIN:VTIMEZONE
TZID:America/New_York
BEGIN:DAYLIGHT
TZOFFSETFROM:-0500
TZOFFSETTO:-0400
TZNAME:EDT
DTSTART:20190310T070000
END:DAYLIGHT
BEGIN:STANDARD
TZOFFSETFROM:-0400
TZOFFSETTO:-0500
TZNAME:EST
DTSTART:20191103T060000
END:STANDARD
END:VTIMEZONE
BEGIN:VEVENT
DTSTART;TZID=America/New_York:20190202T200000
DTEND;TZID=America/New_York:20190202T223000
DTSTAMP:20260424T023911
CREATED:20181209T220137Z
LAST-MODIFIED:20190129T010915Z
UID:10000787-1549137600-1549146600@steamworkscreative.com
SUMMARY:Jimmy Mac and The Attack
DESCRIPTION:Saturday\, February 2\, 2019 \nJimmy Mac and The Attack features smoking harp and guitar (Clint Hoover\, Jim McCullough)\, and killer rhythm section (Don McGuirk\, Matthew Joseph). \n \n$10 cover\nBYOB listening room\nDoors open one hour before show \n#steamworkscreative #listeningroom #acousticmusic\n#SitBackRelaxListenToTheMusic
URL:https://steamworkscreative.com/event/jimmy-mac-and-the-attack/
LOCATION:Steamworks Creative\, 4967 William Flinn Hwy #6\, Gibsonia\, Pennsylvania\, 15044
CATEGORIES:Music
ATTACH;FMTTYPE=image/jpeg:https://steamworkscreative.com/wp-content/uploads/2018/12/groupbw_jma_web.jpg
GEO:40.6047353;-79.947467
X-APPLE-STRUCTURED-LOCATION;VALUE=URI;X-ADDRESS=Steamworks Creative 4967 William Flinn Hwy #6 Gibsonia Pennsylvania 15044;X-APPLE-RADIUS=500;X-TITLE=4967 William Flinn Hwy #6:geo:-79.947467,40.6047353
END:VEVENT
BEGIN:VEVENT
DTSTART;TZID=America/New_York:20190208T200000
DTEND;TZID=America/New_York:20190208T223000
DTSTAMP:20260424T023911
CREATED:20181209T220347Z
LAST-MODIFIED:20190109T004205Z
UID:10001042-1549656000-1549665000@steamworkscreative.com
SUMMARY:Kash Acoustics
DESCRIPTION:Friday\, February 8\, 2019 Kash Acoustics \nWe are very excited to be visiting Steamworks Creative!! We started our acoustic journey three years ago. My father Richard Jackman and myself Dawn Jackman and have been singing in the family all our lives. We recently added Jose Gonzalez to our duo and have a blast. Our family has always had music in our blood. \nDawn Jackman- Music has always been my passion and it was a perfect time in my life to have created Kash Acoustics! I grew up singing in chorus for my school district for 7 years. I went on singing with my father at a church in Herman and then eventually joined a praise and worship band for another church in Butler making lots of memories.  I have enjoyed singing leisurely in different events throughout my life. I’ve also had the privilege to perform with MTG Jesus Christ Superstar and Evita!  It wasn’t until about three years ago where we started our band that I truly strengthened as a performer and have learned a lot about myself. I would not be here today if it was not for the talent\, love\, and support of my father.  I have always had such a love of singing and performing for others. I continue to challenge and strengthen myself as a singer.\n\nRichard Jackman-  The father of lead singer\, Dawn Jackman. Plays guitar and vocals for Kash.  He has always had a deep passion for music and has been making music ever since he was a kid. Growing up he always sung with his talented family who all had their own musical talents. He has played for various bands in Butler throughout his career playing guitar and vocals with family and friends for many years. He too was a member of the church praise team in Herman. It was here that he wrote and recorded a Christian song along with other contributions for a CD created with friends. He has sung for many weddings and other events. He’s been volunteering once a month for over a year now to sing at the VA in Butler for a church service. Him and his daughter Dawn have grown stronger and taught each other a lot since they’ve started their band together. They can’t wait to continue entertaining people and making memories.\n\nJose Gonzalez–  He started out his music career in Puerto Rico performing for about seven different bands in local Cantinas. Since the age of 16 he’s  been playing many Latin musical instruments and has done some minor recordings. He has also performed in Pittsburgh in his earlier years playing and dancing with Latin music. Currently he is blessing Kash with his Latin flare to add to their acoustic feel performing in local venues and fundraisers. He has made a wonderful addition. This is his second year with Kash.\n\nPlease come help us entertain you!\nJoin us $10 cover\nBYOB. 2/8/19\nFacebook and twitter- Kash Acoustic Band\nInstagram- kash_acoustics22
URL:https://steamworkscreative.com/event/kash-acoustics/
LOCATION:Steamworks Creative\, 4967 William Flinn Hwy #6\, Gibsonia\, Pennsylvania\, 15044
CATEGORIES:Music
ATTACH;FMTTYPE=image/jpeg:https://steamworkscreative.com/wp-content/uploads/2018/12/45902C01-E5CB-4BD8-8E51-F3CD4E73BA11.jpeg
GEO:40.6047353;-79.947467
X-APPLE-STRUCTURED-LOCATION;VALUE=URI;X-ADDRESS=Steamworks Creative 4967 William Flinn Hwy #6 Gibsonia Pennsylvania 15044;X-APPLE-RADIUS=500;X-TITLE=4967 William Flinn Hwy #6:geo:-79.947467,40.6047353
END:VEVENT
BEGIN:VEVENT
DTSTART;TZID=America/New_York:20190209T200000
DTEND;TZID=America/New_York:20190209T223000
DTSTAMP:20260424T023911
CREATED:20181209T220520Z
LAST-MODIFIED:20190113T154121Z
UID:10001043-1549742400-1549751400@steamworkscreative.com
SUMMARY:Koz with special guest nikki
DESCRIPTION:Saturday\, February 9\, 2019 Koz with special guest nikki \nKoz is a Pittsburgh-based guitarist and vocalist who plays a range of styles and genres. Fascinated by the guitar virtuosity of artists like Duane Allman and Jimi Hendrix\, he picked up his first guitar at the age of 10 and hasn’t put it down since. During acoustic shows\, Koz wows the audience with his dynamic soloing ability and sophisticated live loops.  Fresh off his first performance at the Deutschtown Music Festival\, Koz is sharing his innovative songs and sounds around Pennsylvania in preparation for his debut album. \nFacebook: www.facebook.com/musicofkoz \nnikki is a 22-year-old singer/songwriter from Pittsburgh\, Pennsylvania. Growing up in a music loving family\, Nikki discovered her admiration and desire to play and create music. She is a self-taught guitarist from the age of 15 who is just at the beginning of her journey to pursue music. Her versatility and ability to blend different genres of music allow her to have her own original sound\, which she expresses through her music – most recently on her first EP titled PLAY. \n  \n \n  \n$10 cover will get you complimentary wine and beer provided by Koz.\nBYOB listening room\nDoors open one hour before show \n#steamworkscreative #listeningroom #acousticmusic #singersongwriter\n#SitBackRelaxListenToTheMusic
URL:https://steamworkscreative.com/event/matthew-koz/
LOCATION:Steamworks Creative\, 4967 William Flinn Hwy #6\, Gibsonia\, Pennsylvania\, 15044
CATEGORIES:Music
ATTACH;FMTTYPE=image/jpeg:https://steamworkscreative.com/wp-content/uploads/2018/12/koz-2019.jpg
GEO:40.6047353;-79.947467
X-APPLE-STRUCTURED-LOCATION;VALUE=URI;X-ADDRESS=Steamworks Creative 4967 William Flinn Hwy #6 Gibsonia Pennsylvania 15044;X-APPLE-RADIUS=500;X-TITLE=4967 William Flinn Hwy #6:geo:-79.947467,40.6047353
END:VEVENT
BEGIN:VEVENT
DTSTART;TZID=America/New_York:20190210T140000
DTEND;TZID=America/New_York:20190210T170000
DTSTAMP:20260424T023911
CREATED:20181018T223443Z
LAST-MODIFIED:20190113T150345Z
UID:10000745-1549807200-1549818000@steamworkscreative.com
SUMMARY:Autism Open Mic
DESCRIPTION:Join us the 2nd Sunday of the month from 2-5 pm for our Family Friendly\, Alcohol Free\, Autism Open Mic hosted by Autism Society of Pittsburgh! \nEveryone Welcome to come and have fun\, regardless of musical experience! We have all mics\, keyboards\, guitars\, amps and percussion available! ????\nPizza and soft drinks will be provided.\nDonations Gladly Accepted. \nAlcohol Not Permitted – Family Friendly Entertainment\nBand Together Pittsburgh – Evolve Coaching’s Arts for Autism Program\n#steamworkscreative #AustimOpenMic #Aut2KnowPgh#BandTogetherPgh #AFAPgh #ASDMusic
URL:https://steamworkscreative.com/event/autism-open-mic-2/2019-02-10/
LOCATION:Steamworks Creative\, 4967 William Flinn Hwy #6\, Gibsonia\, Pennsylvania\, 15044
CATEGORIES:Music
ATTACH;FMTTYPE=image/jpeg:https://steamworkscreative.com/wp-content/uploads/2018/10/IMG_2631.jpg
GEO:40.6047353;-79.947467
X-APPLE-STRUCTURED-LOCATION;VALUE=URI;X-ADDRESS=Steamworks Creative 4967 William Flinn Hwy #6 Gibsonia Pennsylvania 15044;X-APPLE-RADIUS=500;X-TITLE=4967 William Flinn Hwy #6:geo:-79.947467,40.6047353
END:VEVENT
BEGIN:VEVENT
DTSTART;TZID=America/New_York:20190212T193000
DTEND;TZID=America/New_York:20190212T220000
DTSTAMP:20260424T023911
CREATED:20181205T171547Z
LAST-MODIFIED:20181231T161916Z
UID:10001010-1549999800-1550008800@steamworkscreative.com
SUMMARY:Steamworks Sessions with Featured Artist Sophie Lockhart
DESCRIPTION:Steamworks Sessions 7:30pm – 10pm hosted by Mary Lou Scherder  with Featured Artist Sophie Lockhart followed by  Open Stage. \n2nd & 4th Tuesday of the month\n7:30-10pm – Donations Accepted \n#steamworkscreative #listeningroom #acousticmusic #singersongwriter#openstage\n#SitBackRelaxListenToTheMusic
URL:https://steamworkscreative.com/event/steamworks-sessions-3-2019-02-12/
LOCATION:Steamworks Creative\, 4967 William Flinn Hwy #6\, Gibsonia\, Pennsylvania\, 15044
CATEGORIES:Music
ATTACH;FMTTYPE=image/jpeg:https://steamworkscreative.com/wp-content/uploads/2018/12/Steamworks-Sessions-square.jpg
GEO:40.6047353;-79.947467
X-APPLE-STRUCTURED-LOCATION;VALUE=URI;X-ADDRESS=Steamworks Creative 4967 William Flinn Hwy #6 Gibsonia Pennsylvania 15044;X-APPLE-RADIUS=500;X-TITLE=4967 William Flinn Hwy #6:geo:-79.947467,40.6047353
END:VEVENT
BEGIN:VEVENT
DTSTART;TZID=America/New_York:20190213T193000
DTEND;TZID=America/New_York:20190213T220000
DTSTAMP:20260424T023911
CREATED:20181205T173946Z
LAST-MODIFIED:20190102T203957Z
UID:10001035-1550086200-1550095200@steamworkscreative.com
SUMMARY:All Ages Full Band Open Stage
DESCRIPTION:Second Wednesday of the month\,  Ian Arthurs hosts the All Ages Full Band Open Stage (Electric & Acoustic Open Stage) \nAll drums\, amps\, and a keyboard will be provided for use. ??? Electric and Acoustic players welcome\, even full bands! \n#steamworkscreative #listeningroom#acousticmusic #singersongwriter #openstage#SitBackRelaxListenToTheMusic
URL:https://steamworkscreative.com/event/all-ages-full-band-open-stage/2019-02-13/
LOCATION:Steamworks Creative\, 4967 William Flinn Hwy #6\, Gibsonia\, Pennsylvania\, 15044
CATEGORIES:Music
ATTACH;FMTTYPE=image/jpeg:https://steamworkscreative.com/wp-content/uploads/2018/12/Ian-show-poster-1-2-19.jpg
GEO:40.6047353;-79.947467
X-APPLE-STRUCTURED-LOCATION;VALUE=URI;X-ADDRESS=Steamworks Creative 4967 William Flinn Hwy #6 Gibsonia Pennsylvania 15044;X-APPLE-RADIUS=500;X-TITLE=4967 William Flinn Hwy #6:geo:-79.947467,40.6047353
END:VEVENT
BEGIN:VEVENT
DTSTART;TZID=America/New_York:20190215T193000
DTEND;TZID=America/New_York:20190215T223000
DTSTAMP:20260424T023911
CREATED:20190120T205200Z
LAST-MODIFIED:20190215T005111Z
UID:10000815-1550259000-1550269800@steamworkscreative.com
SUMMARY:Acoustic Open Stage Featured Artist Kevin Ward
DESCRIPTION:Friday\, February 15\, 2019 – Acoustic Open Stage hosted by Larry Demas – Featured Artist Kevin Ward \n \nLarry Demas hosts a new weekend open stage. \nBring your instrument and some Friends. \n7:30-10:30pm – Donations Accepted \n#steamworkscreative #listeningroom #acousticmusic #singersongwriter #openstage\n#SitBackRelaxListenToTheMusic
URL:https://steamworkscreative.com/event/acoustic-open-stage-hosted-by-larry-demas/
LOCATION:Steamworks Creative\, 4967 William Flinn Hwy #6\, Gibsonia\, Pennsylvania\, 15044
CATEGORIES:Music
ATTACH;FMTTYPE=image/jpeg:https://steamworkscreative.com/wp-content/uploads/2019/01/Acoustic-Open-Stage-Demas.jpg
GEO:40.6047353;-79.947467
X-APPLE-STRUCTURED-LOCATION;VALUE=URI;X-ADDRESS=Steamworks Creative 4967 William Flinn Hwy #6 Gibsonia Pennsylvania 15044;X-APPLE-RADIUS=500;X-TITLE=4967 William Flinn Hwy #6:geo:-79.947467,40.6047353
END:VEVENT
BEGIN:VEVENT
DTSTART;TZID=America/New_York:20190216T200000
DTEND;TZID=America/New_York:20190216T223000
DTSTAMP:20260424T023911
CREATED:20181209T220726Z
LAST-MODIFIED:20190105T203645Z
UID:10001044-1550347200-1550356200@steamworkscreative.com
SUMMARY:Jim Vivirito with special guest William Sparks
DESCRIPTION:Saturday\, February 16\, 2019 Jim Vivirito with special guest William Sparks \nJames Vivirito\nA genre-defying original singer/songwriter\, Pittsburgh-area native James Vivirito’s lyrics and voice are equally powerful and soul-reaching in songs that run the gamut of human emotions from love and heartbreak to joy and despair. \nWilliam Sparks\nWriting songs since he was only 13 years old\, William Sparks began playing shows during his high school years\, and decided early into college that writing and performing is what he wanted to do with his life. He soon after delved into the recording process of his best songs. Mixed and mastered over the course of 2016 and into 2017. He is currently at work on his full length LP. \n$10 cover\nBYOB listening room\nDoors open one hour before show \n#steamworkscreative #listeningroom #acousticmusic #singersongwriter\n#SitBackRelaxListenToTheMusic
URL:https://steamworkscreative.com/event/jim-vivirito/
LOCATION:Steamworks Creative\, 4967 William Flinn Hwy #6\, Gibsonia\, Pennsylvania\, 15044
CATEGORIES:Music
ATTACH;FMTTYPE=image/jpeg:https://steamworkscreative.com/wp-content/uploads/2018/12/29F92E63-F27D-4623-B1E9-ABB9B68FE2A8.jpg
GEO:40.6047353;-79.947467
X-APPLE-STRUCTURED-LOCATION;VALUE=URI;X-ADDRESS=Steamworks Creative 4967 William Flinn Hwy #6 Gibsonia Pennsylvania 15044;X-APPLE-RADIUS=500;X-TITLE=4967 William Flinn Hwy #6:geo:-79.947467,40.6047353
END:VEVENT
BEGIN:VEVENT
DTSTART;TZID=America/New_York:20190222T200000
DTEND;TZID=America/New_York:20190222T223000
DTSTAMP:20260424T023911
CREATED:20190120T202654Z
LAST-MODIFIED:20190215T005544Z
UID:10000814-1550865600-1550874600@steamworkscreative.com
SUMMARY:Doug Edgell  - Guitar Student Open Stage
DESCRIPTION:February 22\, 2019 – Doug Edgell – Guitar Student Open Stage \nGuitar instructor Doug Edgell from www.fingersonthefrets.com is inviting some of his best students to perform.\nwww.fingersonthefrets.com has helped thousands to become better guitarists and now they’ll have a chance to perform live at Steamworks Creative!\n\nMost will be local students but some are coming from as far as Arizona and New Jersey!\nThis event is open to the public but only Doug’s student will have the opportunity to perform.\n\nThe Doug Edgell Trio will be playing some original music from their new CD https://dougedgelltrio.hearnow.com/beautiful-life\nand backing up some of the performers!\n\nPlease join us and support these folks as they go from “the bedroom to the stage”!\n\nMore information can be found at:\nwww.dougedgell.com\n\n\n$10 cover\nBYOB listening room\nDoors open one hour before show \n#steamworkscreative #listeningroom #acousticmusic #singersongwriter #SitBackRelaxListenToTheMusic
URL:https://steamworkscreative.com/event/doug-edgell-guitar-student-open-stage-2/
LOCATION:Steamworks Creative\, 4967 William Flinn Hwy #6\, Gibsonia\, Pennsylvania\, 15044
CATEGORIES:Music
ATTACH;FMTTYPE=image/png:https://steamworkscreative.com/wp-content/uploads/2019/01/doug-edgell.png
GEO:40.6047353;-79.947467
X-APPLE-STRUCTURED-LOCATION;VALUE=URI;X-ADDRESS=Steamworks Creative 4967 William Flinn Hwy #6 Gibsonia Pennsylvania 15044;X-APPLE-RADIUS=500;X-TITLE=4967 William Flinn Hwy #6:geo:-79.947467,40.6047353
END:VEVENT
BEGIN:VEVENT
DTSTART;TZID=America/New_York:20190223T200000
DTEND;TZID=America/New_York:20190223T223000
DTSTAMP:20260424T023911
CREATED:20181209T220935Z
LAST-MODIFIED:20190215T011241Z
UID:10001045-1550952000-1550961000@steamworkscreative.com
SUMMARY:An Acoustic Evening with Joe Grushecky - SOLD OUT
DESCRIPTION:Saturday\, February 23\, 2019 Joe Grushecky \nEnjoy a special intimate acoustic evening with Joe Grushecky!\nWith over 35 years in the music industry\, Joe Grushecky has a vast repertoire of songs from the Iron City Houserockers\, to his solo work and\, of course\, with Joe Grushecky and the Houserockers! \nhttps://www.joegrushecky.com \nSOLD OUT \nBYOB listening room\nDoors open one hour before show \n#steamworkscreative #listeningroom #acousticmusic #singersongwriter\n#SitBackRelaxListenToTheMusic
URL:https://steamworkscreative.com/event/joe-grushecky-2/
LOCATION:Steamworks Creative\, 4967 William Flinn Hwy #6\, Gibsonia\, Pennsylvania\, 15044
CATEGORIES:Music
ATTACH;FMTTYPE=image/jpeg:https://steamworkscreative.com/wp-content/uploads/2018/12/JoeG-sold-out.jpg
GEO:40.6047353;-79.947467
X-APPLE-STRUCTURED-LOCATION;VALUE=URI;X-ADDRESS=Steamworks Creative 4967 William Flinn Hwy #6 Gibsonia Pennsylvania 15044;X-APPLE-RADIUS=500;X-TITLE=4967 William Flinn Hwy #6:geo:-79.947467,40.6047353
END:VEVENT
BEGIN:VEVENT
DTSTART;TZID=America/New_York:20190225T180000
DTEND;TZID=America/New_York:20190225T200000
DTSTAMP:20260424T023911
CREATED:20190206T181744Z
LAST-MODIFIED:20190209T181858Z
UID:10001068-1551117600-1551124800@steamworkscreative.com
SUMMARY:Open Mic featuring Sing Sing Sing! Students
DESCRIPTION:Monday\, 2/25/19  Open Mic hosted and featuring students of Sing Sing Sing! \nWill be open to public. Come SING with us! \n$8 cover \nPurchase tickets: http://bit.ly/mic-sing \n#steamworkscreative #listeningroom #acousticmusic #singersongwriter\n#SitBackRelaxListenToTheMusic
URL:https://steamworkscreative.com/event/sing-sing-sing/
LOCATION:Steamworks Creative\, 4967 William Flinn Hwy #6\, Gibsonia\, Pennsylvania\, 15044
CATEGORIES:Music
ATTACH;FMTTYPE=image/jpeg:https://steamworkscreative.com/wp-content/uploads/2019/02/open-mic-sing-web.jpg
GEO:40.6047353;-79.947467
X-APPLE-STRUCTURED-LOCATION;VALUE=URI;X-ADDRESS=Steamworks Creative 4967 William Flinn Hwy #6 Gibsonia Pennsylvania 15044;X-APPLE-RADIUS=500;X-TITLE=4967 William Flinn Hwy #6:geo:-79.947467,40.6047353
END:VEVENT
BEGIN:VEVENT
DTSTART;TZID=America/New_York:20190226T193000
DTEND;TZID=America/New_York:20190226T220000
DTSTAMP:20260424T023911
CREATED:20181205T171547Z
LAST-MODIFIED:20190215T014159Z
UID:10001011-1551209400-1551218400@steamworkscreative.com
SUMMARY:Steamworks Sessions with Featured Artist Joel Friend
DESCRIPTION:Steamworks Sessions 7:30pm – 10pm hosted by Mary Lou Scherder  with Featured Artist Joel Friend followed by  Open Stage. \n2nd & 4th Tuesday of the month\n7:30-10pm – Donations Accepted \n#steamworkscreative #listeningroom #acousticmusic #singersongwriter#openstage\n#SitBackRelaxListenToTheMusic
URL:https://steamworkscreative.com/event/steamworks-sessions-3-2019-02-26/
LOCATION:Steamworks Creative\, 4967 William Flinn Hwy #6\, Gibsonia\, Pennsylvania\, 15044
CATEGORIES:Music
ATTACH;FMTTYPE=image/jpeg:https://steamworkscreative.com/wp-content/uploads/2018/12/Steamworks-Sessions-square.jpg
GEO:40.6047353;-79.947467
X-APPLE-STRUCTURED-LOCATION;VALUE=URI;X-ADDRESS=Steamworks Creative 4967 William Flinn Hwy #6 Gibsonia Pennsylvania 15044;X-APPLE-RADIUS=500;X-TITLE=4967 William Flinn Hwy #6:geo:-79.947467,40.6047353
END:VEVENT
BEGIN:VEVENT
DTSTART;TZID=America/New_York:20190227T193000
DTEND;TZID=America/New_York:20190227T220000
DTSTAMP:20260424T023911
CREATED:20190110T201607Z
LAST-MODIFIED:20190116T012622Z
UID:10000797-1551295800-1551304800@steamworkscreative.com
SUMMARY:Eclectic Night hosted by Lou Ross
DESCRIPTION:Lou Ross hosts Eclectic Night every Fourth Wednesday of the month. \nJoin Lou as Steamworks explores the Creative side of Music.\nMusic | Art | Spoken Word \nAll Ages Welcome – Donations Accepted \n#steamworkscreative #listeningroom #eclectic\n#music #art #spokenword\n#SitBackRelaxListenToTheMusic
URL:https://steamworkscreative.com/event/eclectic-night/2019-02-27/
LOCATION:Steamworks Creative\, 4967 William Flinn Hwy #6\, Gibsonia\, Pennsylvania\, 15044
CATEGORIES:Music
ATTACH;FMTTYPE=image/jpeg:https://steamworkscreative.com/wp-content/uploads/2019/01/Lou-Ross-Night.jpg
GEO:40.6047353;-79.947467
X-APPLE-STRUCTURED-LOCATION;VALUE=URI;X-ADDRESS=Steamworks Creative 4967 William Flinn Hwy #6 Gibsonia Pennsylvania 15044;X-APPLE-RADIUS=500;X-TITLE=4967 William Flinn Hwy #6:geo:-79.947467,40.6047353
END:VEVENT
END:VCALENDAR