BEGIN:VCALENDAR
VERSION:2.0
PRODID:-//Steamworks Creative - ECPv6.10.0//NONSGML v1.0//EN
CALSCALE:GREGORIAN
METHOD:PUBLISH
X-ORIGINAL-URL:https://steamworkscreative.com
X-WR-CALDESC:Events for Steamworks Creative
REFRESH-INTERVAL;VALUE=DURATION:PT1H
X-Robots-Tag:noindex
X-PUBLISHED-TTL:PT1H
BEGIN:VTIMEZONE
TZID:America/New_York
BEGIN:DAYLIGHT
TZOFFSETFROM:-0500
TZOFFSETTO:-0400
TZNAME:EDT
DTSTART:20190310T070000
END:DAYLIGHT
BEGIN:STANDARD
TZOFFSETFROM:-0400
TZOFFSETTO:-0500
TZNAME:EST
DTSTART:20191103T060000
END:STANDARD
END:VTIMEZONE
BEGIN:VEVENT
DTSTART;TZID=America/New_York:20190601T200000
DTEND;TZID=America/New_York:20190601T223000
DTSTAMP:20260422T182440
CREATED:20190315T154426Z
LAST-MODIFIED:20190514T214529Z
UID:10000827-1559419200-1559428200@steamworkscreative.com
SUMMARY:Soulful Femme
DESCRIPTION:Soulful Femme \nStephanie Wellons\nV O C A L I S T\n​​​Vocalist Stephanie Wellons\, aka Stevee Wellons\, has been performing in the tri-state area for the last 25 years and is known for her high-energy stage presence and performance. In her early twenties she began her musical career. Since then\, Stevee has performed with numerous area bands and currently teaches and coaches voice at the prestigious Afro-American Institute in the Homewood Area of Pittsburgh. An experienced recording artist as well\, Stevee has recorded in Pittsburgh\, New York\, Chicago and Baltimore. Stevee Wellons Band won the 2015 Blues Society of Western PA’s Blues Challenge and represented Western PA at the 2016 International Blues Challenge.​ \nCheryl Rinovato\nG U I T A R I S T\nDelaney Guitars Endorsed Artist\n​​Applied Music with 2nd major in Arranging and Composition at famed Berklee College of Music\, Cheryl began her musical career as a studio musician throughout New England. Since moving to Pittsburgh\, Cheryl has pursued her musical career as a professional musician for numerous area bands and has done extensive studio work. Cheryl has also been the recipient of the prestigious Jim Weber Award\, given to blues guitarist of the year\, three times; in 2012\, 2103 and 2015. \n$10 cover\nBYOB listening room\nDoors open one hour before show \n#steamworkscreative #listeningroom #acousticmusic\n#SitBackRelaxListenToTheMusic
URL:https://steamworkscreative.com/event/soulful-femme-3/
LOCATION:Steamworks Creative\, 4967 William Flinn Hwy #6\, Gibsonia\, Pennsylvania\, 15044
CATEGORIES:Music
ATTACH;FMTTYPE=image/jpeg:https://steamworkscreative.com/wp-content/uploads/2019/03/soulfoul-femme-6119.jpg
GEO:40.6047353;-79.947467
X-APPLE-STRUCTURED-LOCATION;VALUE=URI;X-ADDRESS=Steamworks Creative 4967 William Flinn Hwy #6 Gibsonia Pennsylvania 15044;X-APPLE-RADIUS=500;X-TITLE=4967 William Flinn Hwy #6:geo:-79.947467,40.6047353
END:VEVENT
BEGIN:VEVENT
DTSTART;TZID=America/New_York:20190604T190000
DTEND;TZID=America/New_York:20190604T210000
DTSTAMP:20260422T182440
CREATED:20190323T201113Z
LAST-MODIFIED:20191130T171425Z
UID:10000833-1559674800-1559682000@steamworkscreative.com
SUMMARY:Open Mic hosted and featuring students of Sing Sing Sing
DESCRIPTION:First Tuesday of the Month \nOpen Mic hosted and featuring students of Sing Sing Sing! Will be open to public. Come SING with us! \nDonations appreciated. \n#steamworkscreative #listeningroom #acousticmusic #singersongwriter\n#SitBackRelaxListenToTheMusic
URL:https://steamworkscreative.com/event/open-mic-hosted-and-featuring-students-of-sing-sing-sing/2019-06-04/
LOCATION:Steamworks Creative\, 4967 William Flinn Hwy #6\, Gibsonia\, Pennsylvania\, 15044
CATEGORIES:Music
ATTACH;FMTTYPE=image/jpeg:https://steamworkscreative.com/wp-content/uploads/2019/03/67296945_1292519897577169_7461680549157928960_o.jpg
GEO:40.6047353;-79.947467
X-APPLE-STRUCTURED-LOCATION;VALUE=URI;X-ADDRESS=Steamworks Creative 4967 William Flinn Hwy #6 Gibsonia Pennsylvania 15044;X-APPLE-RADIUS=500;X-TITLE=4967 William Flinn Hwy #6:geo:-79.947467,40.6047353
END:VEVENT
BEGIN:VEVENT
DTSTART;TZID=America/New_York:20190607T200000
DTEND;TZID=America/New_York:20190607T223000
DTSTAMP:20260422T182440
CREATED:20190305T174615Z
LAST-MODIFIED:20190305T174615Z
UID:10000821-1559937600-1559946600@steamworkscreative.com
SUMMARY:Jimmy and The Frogmen
DESCRIPTION:Come on out and see why every one who sees our show leaves laughing and singing. \n(Jimmy Buckley\, Tim Hadley\, JC Collins & Derrick Edwards) \n$10 cover\nBYOB/BYOF listening room\nDoors open one hour before show \n#steamworkscreative #listeningroom #acousticmusic\n#SitBackRelaxListenToTheMusic
URL:https://steamworkscreative.com/event/jimmy-and-the-frogmen-3/
LOCATION:Steamworks Creative\, 4967 William Flinn Hwy #6\, Gibsonia\, Pennsylvania\, 15044
CATEGORIES:Music
ATTACH;FMTTYPE=image/jpeg:https://steamworkscreative.com/wp-content/uploads/2019/03/53111100_867259966952616_1170474469009915904_o.jpg
GEO:40.6047353;-79.947467
X-APPLE-STRUCTURED-LOCATION;VALUE=URI;X-ADDRESS=Steamworks Creative 4967 William Flinn Hwy #6 Gibsonia Pennsylvania 15044;X-APPLE-RADIUS=500;X-TITLE=4967 William Flinn Hwy #6:geo:-79.947467,40.6047353
END:VEVENT
BEGIN:VEVENT
DTSTART;TZID=America/New_York:20190608T200000
DTEND;TZID=America/New_York:20190608T223000
DTSTAMP:20260422T182440
CREATED:20190514T220144Z
LAST-MODIFIED:20190514T221439Z
UID:10001095-1560024000-1560033000@steamworkscreative.com
SUMMARY:Kash Acoustics Band with Marshall Street 'Rents
DESCRIPTION:Summer kick off celebration …we are pleased to welcome to the stage with us the very talented Marshall Street ‘Rents as they warm up the night with their acoustic originals and fun music followed by Kash Acoustics Band. \n@Kashacoustics \n  \n$10 cover\nBYOB listening room\nDoors open one hour before show \n#steamworkscreative #listeningroom #acousticmusic\n#SitBackRelaxListenToTheMusic
URL:https://steamworkscreative.com/event/msr-opens-for-kash-acoustics-band/
LOCATION:Steamworks Creative\, 4967 William Flinn Hwy #6\, Gibsonia\, Pennsylvania\, 15044
CATEGORIES:Music
ATTACH;FMTTYPE=image/jpeg:https://steamworkscreative.com/wp-content/uploads/2019/05/56890470_2121507934631224_1903767150422654976_o.jpg
GEO:40.6047353;-79.947467
X-APPLE-STRUCTURED-LOCATION;VALUE=URI;X-ADDRESS=Steamworks Creative 4967 William Flinn Hwy #6 Gibsonia Pennsylvania 15044;X-APPLE-RADIUS=500;X-TITLE=4967 William Flinn Hwy #6:geo:-79.947467,40.6047353
END:VEVENT
BEGIN:VEVENT
DTSTART;TZID=America/New_York:20190609T140000
DTEND;TZID=America/New_York:20190609T170000
DTSTAMP:20260422T182440
CREATED:20181018T223443Z
LAST-MODIFIED:20190113T150345Z
UID:10000749-1560088800-1560099600@steamworkscreative.com
SUMMARY:Autism Open Mic
DESCRIPTION:Join us the 2nd Sunday of the month from 2-5 pm for our Family Friendly\, Alcohol Free\, Autism Open Mic hosted by Autism Society of Pittsburgh! \nEveryone Welcome to come and have fun\, regardless of musical experience! We have all mics\, keyboards\, guitars\, amps and percussion available! ????\nPizza and soft drinks will be provided.\nDonations Gladly Accepted. \nAlcohol Not Permitted – Family Friendly Entertainment\nBand Together Pittsburgh – Evolve Coaching’s Arts for Autism Program\n#steamworkscreative #AustimOpenMic #Aut2KnowPgh#BandTogetherPgh #AFAPgh #ASDMusic
URL:https://steamworkscreative.com/event/autism-open-mic-2/2019-06-09/
LOCATION:Steamworks Creative\, 4967 William Flinn Hwy #6\, Gibsonia\, Pennsylvania\, 15044
CATEGORIES:Music
ATTACH;FMTTYPE=image/jpeg:https://steamworkscreative.com/wp-content/uploads/2018/10/IMG_2631.jpg
GEO:40.6047353;-79.947467
X-APPLE-STRUCTURED-LOCATION;VALUE=URI;X-ADDRESS=Steamworks Creative 4967 William Flinn Hwy #6 Gibsonia Pennsylvania 15044;X-APPLE-RADIUS=500;X-TITLE=4967 William Flinn Hwy #6:geo:-79.947467,40.6047353
END:VEVENT
BEGIN:VEVENT
DTSTART;TZID=America/New_York:20190611T193000
DTEND;TZID=America/New_York:20190611T220000
DTSTAMP:20260422T182440
CREATED:20181205T171547Z
LAST-MODIFIED:20190404T224711Z
UID:10001022-1560281400-1560290400@steamworkscreative.com
SUMMARY:Steamworks Sessions
DESCRIPTION:Steamworks Sessions 7:30pm – 10pm hosted by Mary Lou Scherder  with Featured Artist followed by Open Stage.
URL:https://steamworkscreative.com/event/steamworks-sessions-3-2019-04-09-2019-06-11/2019-06-11/
LOCATION:Steamworks Creative\, 4967 William Flinn Hwy #6\, Gibsonia\, Pennsylvania\, 15044
CATEGORIES:Music
ATTACH;FMTTYPE=image/jpeg:https://steamworkscreative.com/wp-content/uploads/2018/12/Steamworks-Sessions-square-1-2-19.jpg
GEO:40.6047353;-79.947467
X-APPLE-STRUCTURED-LOCATION;VALUE=URI;X-ADDRESS=Steamworks Creative 4967 William Flinn Hwy #6 Gibsonia Pennsylvania 15044;X-APPLE-RADIUS=500;X-TITLE=4967 William Flinn Hwy #6:geo:-79.947467,40.6047353
END:VEVENT
BEGIN:VEVENT
DTSTART;TZID=America/New_York:20190612T193000
DTEND;TZID=America/New_York:20190612T220000
DTSTAMP:20260422T182440
CREATED:20181205T173946Z
LAST-MODIFIED:20190102T203957Z
UID:10001038-1560367800-1560376800@steamworkscreative.com
SUMMARY:All Ages Full Band Open Stage
DESCRIPTION:Second Wednesday of the month\,  Ian Arthurs hosts the All Ages Full Band Open Stage (Electric & Acoustic Open Stage) \nAll drums\, amps\, and a keyboard will be provided for use. ??? Electric and Acoustic players welcome\, even full bands! \n#steamworkscreative #listeningroom#acousticmusic #singersongwriter #openstage#SitBackRelaxListenToTheMusic
URL:https://steamworkscreative.com/event/all-ages-full-band-open-stage/2019-06-12/
LOCATION:Steamworks Creative\, 4967 William Flinn Hwy #6\, Gibsonia\, Pennsylvania\, 15044
CATEGORIES:Music
ATTACH;FMTTYPE=image/jpeg:https://steamworkscreative.com/wp-content/uploads/2018/12/Ian-show-poster-1-2-19.jpg
GEO:40.6047353;-79.947467
X-APPLE-STRUCTURED-LOCATION;VALUE=URI;X-ADDRESS=Steamworks Creative 4967 William Flinn Hwy #6 Gibsonia Pennsylvania 15044;X-APPLE-RADIUS=500;X-TITLE=4967 William Flinn Hwy #6:geo:-79.947467,40.6047353
END:VEVENT
BEGIN:VEVENT
DTSTART;TZID=America/New_York:20190613T193000
DTEND;TZID=America/New_York:20190613T220000
DTSTAMP:20260422T182440
CREATED:20190527T135844Z
LAST-MODIFIED:20190604T225003Z
UID:10000867-1560454200-1560463200@steamworkscreative.com
SUMMARY:Joel David Weir
DESCRIPTION:Indiana based singer-songwriter-storyteller Joel David Weir performs original songs ranging from working class folk\, confessional ballads\, and observational anthems from the almost great midwest. Joining Joel is Pittsburgh singer songwriter Dylan Rooke. \n$5 Cover \nBYOB/BYOF listening room\nDoors open one hour before show \n#steamworkscreative #listeningroom #acousticmusic\n#SitBackRelaxListenToTheMusic
URL:https://steamworkscreative.com/event/joel-david-weir/
LOCATION:Steamworks Creative\, 4967 William Flinn Hwy #6\, Gibsonia\, Pennsylvania\, 15044
CATEGORIES:Music
ATTACH;FMTTYPE=image/png:https://steamworkscreative.com/wp-content/uploads/2019/05/Joel-David-Weir-3.png
GEO:40.6047353;-79.947467
X-APPLE-STRUCTURED-LOCATION;VALUE=URI;X-ADDRESS=Steamworks Creative 4967 William Flinn Hwy #6 Gibsonia Pennsylvania 15044;X-APPLE-RADIUS=500;X-TITLE=4967 William Flinn Hwy #6:geo:-79.947467,40.6047353
END:VEVENT
BEGIN:VEVENT
DTSTART;TZID=America/New_York:20190614T190000
DTEND;TZID=America/New_York:20190614T220000
DTSTAMP:20260422T182440
CREATED:20190514T222909Z
LAST-MODIFIED:20190514T222909Z
UID:10001096-1560538800-1560549600@steamworkscreative.com
SUMMARY:Second Breakfast
DESCRIPTION:@secondbreakfastband \nA product of love for good music and great friendships\, Second Breakfast is a band comprised of thoughtful musicians. Their journey began when husband and wife duo\, Kendell and Rick Romanelli\, began performing together in 2002. Kendell’s soulfully sweet yet powerful voice\, developed over many years of vocal experience was complimented by Rick’s bluesy accompaniment. It wasn’t long before Doug Wells (of Kids After Dark fame) joined them\, providing a solid bass foundation. In 2016\, they partnered with Rick’s lifelong friend and cousin\, Maria Elliott\, whose well crafted jazz and rock guitar styling provided a perfect fit. Second Breakfast’s repertoire consists of various musical treats from Beatles to Police and from Texas country blues to Tin Pan Alley.standards. \n$10 cover\nBYOB listening room\nDoors open one hour before show \n#steamworkscreative #listeningroom #acousticmusic #singersongwriter\n#SitBackRelaxListenToTheMusic
URL:https://steamworkscreative.com/event/second-breakfast-5/
LOCATION:Steamworks Creative\, 4967 William Flinn Hwy #6\, Gibsonia\, Pennsylvania\, 15044
CATEGORIES:Music
ATTACH;FMTTYPE=image/jpeg:https://steamworkscreative.com/wp-content/uploads/2019/05/55940016_816924088665472_3969971063491657728_n.jpg
GEO:40.6047353;-79.947467
X-APPLE-STRUCTURED-LOCATION;VALUE=URI;X-ADDRESS=Steamworks Creative 4967 William Flinn Hwy #6 Gibsonia Pennsylvania 15044;X-APPLE-RADIUS=500;X-TITLE=4967 William Flinn Hwy #6:geo:-79.947467,40.6047353
END:VEVENT
BEGIN:VEVENT
DTSTART;VALUE=DATE:20190620
DTEND;VALUE=DATE:20190621
DTSTAMP:20260422T182440
CREATED:20190323T202734Z
LAST-MODIFIED:20190604T231512Z
UID:10000847-1560988800-1561075199@steamworkscreative.com
SUMMARY:Country COOL
DESCRIPTION:Country COOL is a Country Music Songwriter series at Steamworks Creative in Gibsonia PA. The event features the best local\, regional\, and national songwriters sharing their stories and their music on an intimate acoustic stage. \nJune 20 Featured Artists:\nDevon Allen Johnson of (Ruff Creek)\nJackson Gardner\nFrank Vieira \nBYOB/BYOF listening room\nDoors open one hour before show \n#steamworkscreative #listeningroom #acousticmusic\n#SitBackRelaxListenToTheMusic
URL:https://steamworkscreative.com/event/country-songwriters-night/
LOCATION:Steamworks Creative\, 4967 William Flinn Hwy #6\, Gibsonia\, Pennsylvania\, 15044
CATEGORIES:Music
ATTACH;FMTTYPE=image/jpeg:https://steamworkscreative.com/wp-content/uploads/2019/03/62141002_2252336261694331_2445281566314725376_o.jpg
GEO:40.6047353;-79.947467
X-APPLE-STRUCTURED-LOCATION;VALUE=URI;X-ADDRESS=Steamworks Creative 4967 William Flinn Hwy #6 Gibsonia Pennsylvania 15044;X-APPLE-RADIUS=500;X-TITLE=4967 William Flinn Hwy #6:geo:-79.947467,40.6047353
END:VEVENT
BEGIN:VEVENT
DTSTART;TZID=America/New_York:20190621T193000
DTEND;TZID=America/New_York:20190621T223000
DTSTAMP:20260422T182440
CREATED:20190514T223806Z
LAST-MODIFIED:20190514T223806Z
UID:10001097-1561145400-1561156200@steamworkscreative.com
SUMMARY:Acoustic Open Stage hosted by Larry Demas
DESCRIPTION:Larry Demas hosts a new weekend open stage. \nBring your instrument and some Friends. \n7:30-10:30pm – Donations Accepted \n#steamworkscreative #listeningroom #acousticmusic #singersongwriter #openstage\n#SitBackRelaxListenToTheMusic
URL:https://steamworkscreative.com/event/acoustic-open-stage-hosted-by-larry-demas-2/
LOCATION:Steamworks Creative\, 4967 William Flinn Hwy #6\, Gibsonia\, Pennsylvania\, 15044
CATEGORIES:Music
ATTACH;FMTTYPE=image/jpeg:https://steamworkscreative.com/wp-content/uploads/2019/01/Acoustic-Open-Stage-Demas.jpg
GEO:40.6047353;-79.947467
X-APPLE-STRUCTURED-LOCATION;VALUE=URI;X-ADDRESS=Steamworks Creative 4967 William Flinn Hwy #6 Gibsonia Pennsylvania 15044;X-APPLE-RADIUS=500;X-TITLE=4967 William Flinn Hwy #6:geo:-79.947467,40.6047353
END:VEVENT
BEGIN:VEVENT
DTSTART;TZID=America/New_York:20190622T200000
DTEND;TZID=America/New_York:20190622T223000
DTSTAMP:20260422T182440
CREATED:20190301T022647Z
LAST-MODIFIED:20190515T130140Z
UID:10001080-1561233600-1561242600@steamworkscreative.com
SUMMARY:An Acoustic Evening with Joe Grushecky
DESCRIPTION:Enjoy a special intimate acoustic evening with Joe Grushecky! \nJoe Grushecky has a vast repertoire of songs from the Iron City Houserockers\, to his solo work and\, of course\, with Joe Grushecky and the Houserockers! \nhttps://www.joegrushecky.com/ \n$20 advanced tickets/ $30 at the door (if available)\nGet your tickets now because this show will SELL OUT! \nhttp://bit.ly/JoeG-0622 \nBYOB listening room\nDoors open one hour before show \n#steamworkscreative #listeningroom #acousticmusic #singersongwriter\n#SitBackRelaxListenToTheMusic
URL:https://steamworkscreative.com/event/joe-grushecky-3/
LOCATION:Steamworks Creative\, 4967 William Flinn Hwy #6\, Gibsonia\, Pennsylvania\, 15044
CATEGORIES:Music
ATTACH;FMTTYPE=image/png:https://steamworkscreative.com/wp-content/uploads/2019/02/Joe-Grushecky-622.png
GEO:40.6047353;-79.947467
X-APPLE-STRUCTURED-LOCATION;VALUE=URI;X-ADDRESS=Steamworks Creative 4967 William Flinn Hwy #6 Gibsonia Pennsylvania 15044;X-APPLE-RADIUS=500;X-TITLE=4967 William Flinn Hwy #6:geo:-79.947467,40.6047353
END:VEVENT
BEGIN:VEVENT
DTSTART;TZID=America/New_York:20190625T193000
DTEND;TZID=America/New_York:20190625T220000
DTSTAMP:20260422T182440
CREATED:20230328T010259Z
LAST-MODIFIED:20230328T010259Z
UID:10001023-1561491000-1561500000@steamworkscreative.com
SUMMARY:Steamworks Sessions
DESCRIPTION:Steamworks Sessions 7:30pm – 10pm hosted by Mary Lou Scherder  with Featured Artist followed by Open Stage.
URL:https://steamworkscreative.com/event/steamworks-sessions-3-2019-04-09-2019-06-11/2019-06-25/
LOCATION:Steamworks Creative\, 4967 William Flinn Hwy #6\, Gibsonia\, Pennsylvania\, 15044
CATEGORIES:Music
ATTACH;FMTTYPE=image/jpeg:https://steamworkscreative.com/wp-content/uploads/2018/12/Steamworks-Sessions-square-1-2-19.jpg
GEO:40.6047353;-79.947467
X-APPLE-STRUCTURED-LOCATION;VALUE=URI;X-ADDRESS=Steamworks Creative 4967 William Flinn Hwy #6 Gibsonia Pennsylvania 15044;X-APPLE-RADIUS=500;X-TITLE=4967 William Flinn Hwy #6:geo:-79.947467,40.6047353
END:VEVENT
BEGIN:VEVENT
DTSTART;TZID=America/New_York:20190626T193000
DTEND;TZID=America/New_York:20190626T220000
DTSTAMP:20260422T182440
CREATED:20190110T201607Z
LAST-MODIFIED:20190618T234830Z
UID:10000805-1561577400-1561586400@steamworkscreative.com
SUMMARY:Eclectic Night hosted by Lou Ross | Guest Artist Frank Ferraro
DESCRIPTION:Join us on June 26 as Frank Ferraro will be the guest artist at Steamworks Creative \nFrank Ferraro is a self-taught multi-disiplinary artist\, working individually and collaboratively in painting\, sculpture\, video\, sound\, theater and writing. His work has appeared in local and international publications as well as radio\, television and film. Mr. Ferraro’s theater productions have premiered at the August Wilson Theater\, Byham Theater\, New Hazlett Theater and others. His first feature documentary\, Wine & Dust\, was a part of the 2011 Three Rivers Film Festival. He recently released a film on internationally known Progressive rock band\, Crack The Sky. He also is an advocate for the awareness of young onset Parkinson’s Disease. \nLou Ross hosts Eclectic Night\nMusic | Art | Spoken Word \nDonations Accepted \n#steamworkscreative #listeningroom #eclectic\n#music #art #spokenword\n#SitBackRelaxListenToTheMusic
URL:https://steamworkscreative.com/event/eclectic-night-2019-06-26/
LOCATION:Steamworks Creative\, 4967 William Flinn Hwy #6\, Gibsonia\, Pennsylvania\, 15044
CATEGORIES:Music
ATTACH;FMTTYPE=image/png:https://steamworkscreative.com/wp-content/uploads/2019/01/eclectic-night-Ferraro-2.png
GEO:40.6047353;-79.947467
X-APPLE-STRUCTURED-LOCATION;VALUE=URI;X-ADDRESS=Steamworks Creative 4967 William Flinn Hwy #6 Gibsonia Pennsylvania 15044;X-APPLE-RADIUS=500;X-TITLE=4967 William Flinn Hwy #6:geo:-79.947467,40.6047353
END:VEVENT
BEGIN:VEVENT
DTSTART;TZID=America/New_York:20190628T200000
DTEND;TZID=America/New_York:20190628T223000
DTSTAMP:20260422T182440
CREATED:20190518T111025Z
LAST-MODIFIED:20190518T111450Z
UID:10001098-1561752000-1561761000@steamworkscreative.com
SUMMARY:Bryan V and Jess sides
DESCRIPTION:Jess Sides and Bryan V will be playing a mix of acoustic rock covers and Originals both as solo performers and together as a duo. \nVocal/Keyboardist Bryan V has been performing and writing music in various styles since 1987. Originally from Buffalo\, New York\, he currently performs at various establishments throughout the North Eastern Unites States and Canada. He has previously earned a Music degree from Indiana University\, and is the composer of several Modern Classical compositions\, including works for solo instruments\, string quartet\, chorus\, mixed ensemble\, and orchestra. \n$10 cover\nBYOB/BYOF listening room\nDoors open one hour before show \n#steamworkscreative #listeningroom #acousticmusic\n#SitBackRelaxListenToTheMusic
URL:https://steamworkscreative.com/event/bryan-v-and-jess-sides/
LOCATION:Steamworks Creative\, 4967 William Flinn Hwy #6\, Gibsonia\, Pennsylvania\, 15044
CATEGORIES:Music
ATTACH;FMTTYPE=image/png:https://steamworkscreative.com/wp-content/uploads/2019/05/Bryan-V-and-Jess-.png
GEO:40.6047353;-79.947467
X-APPLE-STRUCTURED-LOCATION;VALUE=URI;X-ADDRESS=Steamworks Creative 4967 William Flinn Hwy #6 Gibsonia Pennsylvania 15044;X-APPLE-RADIUS=500;X-TITLE=4967 William Flinn Hwy #6:geo:-79.947467,40.6047353
END:VEVENT
BEGIN:VEVENT
DTSTART;TZID=America/New_York:20190629T203000
DTEND;TZID=America/New_York:20190629T220000
DTSTAMP:20260422T182440
CREATED:20190304T003203Z
LAST-MODIFIED:20190604T235407Z
UID:10001085-1561840200-1561845600@steamworkscreative.com
SUMMARY:Steel Mill Rising
DESCRIPTION:Steel Mill Rising is back at Steamworks Creative! The band is promoting their new album “Shame”. Join us June 29th\, 2019 for an evening of rock n’ roll! Performance starts at 8 p.m. \n$10 Cover \nBYOB/BYOF listening room\nDoors open one hour before show \n#steamworkscreative #listeningroom #acousticmusic\n#SitBackRelaxListenToTheMusic
URL:https://steamworkscreative.com/event/steel-mill-rising-2/
LOCATION:Steamworks Creative\, 4967 William Flinn Hwy #6\, Gibsonia\, Pennsylvania\, 15044
CATEGORIES:Music
ATTACH;FMTTYPE=image/jpeg:https://steamworkscreative.com/wp-content/uploads/2019/03/60891164_392955104642185_2047280643645112320_n.jpg
GEO:40.6047353;-79.947467
X-APPLE-STRUCTURED-LOCATION;VALUE=URI;X-ADDRESS=Steamworks Creative 4967 William Flinn Hwy #6 Gibsonia Pennsylvania 15044;X-APPLE-RADIUS=500;X-TITLE=4967 William Flinn Hwy #6:geo:-79.947467,40.6047353
END:VEVENT
END:VCALENDAR