BEGIN:VCALENDAR
VERSION:2.0
PRODID:-//Steamworks Creative - ECPv6.10.0//NONSGML v1.0//EN
CALSCALE:GREGORIAN
METHOD:PUBLISH
X-WR-CALNAME:Steamworks Creative
X-ORIGINAL-URL:https://steamworkscreative.com
X-WR-CALDESC:Events for Steamworks Creative
REFRESH-INTERVAL;VALUE=DURATION:PT1H
X-Robots-Tag:noindex
X-PUBLISHED-TTL:PT1H
BEGIN:VTIMEZONE
TZID:America/New_York
BEGIN:DAYLIGHT
TZOFFSETFROM:-0500
TZOFFSETTO:-0400
TZNAME:EDT
DTSTART:20190310T070000
END:DAYLIGHT
BEGIN:STANDARD
TZOFFSETFROM:-0400
TZOFFSETTO:-0500
TZNAME:EST
DTSTART:20191103T060000
END:STANDARD
END:VTIMEZONE
BEGIN:VEVENT
DTSTART;TZID=America/New_York:20191001T190000
DTEND;TZID=America/New_York:20191001T210000
DTSTAMP:20260421T142246
CREATED:20190323T201113Z
LAST-MODIFIED:20191130T171425Z
UID:10000837-1569956400-1569963600@steamworkscreative.com
SUMMARY:Open Mic hosted and featuring students of Sing Sing Sing
DESCRIPTION:First Tuesday of the Month \nOpen Mic hosted and featuring students of Sing Sing Sing! Will be open to public. Come SING with us! \nDonations appreciated. \n#steamworkscreative #listeningroom #acousticmusic #singersongwriter\n#SitBackRelaxListenToTheMusic
URL:https://steamworkscreative.com/event/open-mic-hosted-and-featuring-students-of-sing-sing-sing/2019-10-01/
LOCATION:Steamworks Creative\, 4967 William Flinn Hwy #6\, Gibsonia\, Pennsylvania\, 15044
CATEGORIES:Music
ATTACH;FMTTYPE=image/jpeg:https://steamworkscreative.com/wp-content/uploads/2019/03/67296945_1292519897577169_7461680549157928960_o.jpg
GEO:40.6047353;-79.947467
X-APPLE-STRUCTURED-LOCATION;VALUE=URI;X-ADDRESS=Steamworks Creative 4967 William Flinn Hwy #6 Gibsonia Pennsylvania 15044;X-APPLE-RADIUS=500;X-TITLE=4967 William Flinn Hwy #6:geo:-79.947467,40.6047353
END:VEVENT
BEGIN:VEVENT
DTSTART;TZID=America/New_York:20191005T200000
DTEND;TZID=America/New_York:20191005T223000
DTSTAMP:20260421T142246
CREATED:20190518T114944Z
LAST-MODIFIED:20190902T195911Z
UID:10001111-1570305600-1570314600@steamworkscreative.com
SUMMARY:Bill Toms | Advance Ticket Show
DESCRIPTION:While it’s hard to put a finger on any one sound that defines “American music\,” the compositions of Bill Toms are as close a template as any. The Pittsburgh native\, along with his band Hard Rain\, delivers a sound that takes the greatest of America’s most beloved genres and melds them into a poetic representation of the best the country has to offer. \nwww.billtoms.com \n \n  \n\nBUY TICKETS NOW \n\n$12 Advance Tickets \n$15 at door (if available) \n  \n#steamworkscreative #listeningroom\n#acousticmusic #singersongwriter\n#SitBackRelaxListenToTheMusic
URL:https://steamworkscreative.com/event/bill-toms-3/
LOCATION:Steamworks Creative\, 4967 William Flinn Hwy #6\, Gibsonia\, Pennsylvania\, 15044
CATEGORIES:Music
ATTACH;FMTTYPE=image/png:https://steamworkscreative.com/wp-content/uploads/2019/05/BILL-TOMS.png
GEO:40.6047353;-79.947467
X-APPLE-STRUCTURED-LOCATION;VALUE=URI;X-ADDRESS=Steamworks Creative 4967 William Flinn Hwy #6 Gibsonia Pennsylvania 15044;X-APPLE-RADIUS=500;X-TITLE=4967 William Flinn Hwy #6:geo:-79.947467,40.6047353
END:VEVENT
BEGIN:VEVENT
DTSTART;TZID=America/New_York:20191008T193000
DTEND;TZID=America/New_York:20191008T220000
DTSTAMP:20260421T142246
CREATED:20181205T171547Z
LAST-MODIFIED:20191004T131803Z
UID:10001027-1570563000-1570572000@steamworkscreative.com
SUMMARY:Steamworks Sessions - Featured Artist Jeff Schmutz followed by Open Stage
DESCRIPTION:Steamworks Sessions 7:30pm – 10pm hosted by Mary Lou Scherder with Featured Artist Jeff Schmutz (of the band Good Brother Earl) followed by Open Stage. \n7:30-10pm – Donations Accepted \n#steamworkscreative #listeningroom #acousticmusic #singersongwriter #openstage\n#SitBackRelaxListenToTheMusic
URL:https://steamworkscreative.com/event/steamworks-sessions-3-2019-04-09-2019-10-08/
LOCATION:Steamworks Creative\, 4967 William Flinn Hwy #6\, Gibsonia\, Pennsylvania\, 15044
CATEGORIES:Music
ATTACH;FMTTYPE=image/png:https://steamworkscreative.com/wp-content/uploads/2018/12/2019_1008.png
GEO:40.6047353;-79.947467
X-APPLE-STRUCTURED-LOCATION;VALUE=URI;X-ADDRESS=Steamworks Creative 4967 William Flinn Hwy #6 Gibsonia Pennsylvania 15044;X-APPLE-RADIUS=500;X-TITLE=4967 William Flinn Hwy #6:geo:-79.947467,40.6047353
END:VEVENT
BEGIN:VEVENT
DTSTART;TZID=America/New_York:20191009T193000
DTEND;TZID=America/New_York:20191009T220000
DTSTAMP:20260421T142246
CREATED:20181205T173946Z
LAST-MODIFIED:20190929T155341Z
UID:10000775-1570649400-1570658400@steamworkscreative.com
SUMMARY:All Ages Full Band Open Stage hosted by Ian Arthurs
DESCRIPTION:Second Wednesday of the month\,  Ian Arthurs hosts the All Ages Full Band Open Stage (Electric & Acoustic Open Stage) \nAll drums\, amps\, and a keyboard will be provided for use. ??? Electric and Acoustic players welcome\, even full bands! \n#steamworkscreative #listeningroom#acousticmusic #singersongwriter #openstage#SitBackRelaxListenToTheMusic
URL:https://steamworkscreative.com/event/all-ages-full-band-open-stage-2019-10-09/
LOCATION:Steamworks Creative\, 4967 William Flinn Hwy #6\, Gibsonia\, Pennsylvania\, 15044
CATEGORIES:Music
ATTACH;FMTTYPE=image/png:https://steamworkscreative.com/wp-content/uploads/2018/12/2019_1009.png
GEO:40.6047353;-79.947467
X-APPLE-STRUCTURED-LOCATION;VALUE=URI;X-ADDRESS=Steamworks Creative 4967 William Flinn Hwy #6 Gibsonia Pennsylvania 15044;X-APPLE-RADIUS=500;X-TITLE=4967 William Flinn Hwy #6:geo:-79.947467,40.6047353
END:VEVENT
BEGIN:VEVENT
DTSTART;TZID=America/New_York:20191010T190000
DTEND;TZID=America/New_York:20191010T210000
DTSTAMP:20260421T142246
CREATED:20181018T223443Z
LAST-MODIFIED:20191005T152014Z
UID:10000756-1570734000-1570741200@steamworkscreative.com
SUMMARY:Autism Friendly Open Mic - Special Evening Event
DESCRIPTION:Join us from 7-9pm on Thursday 10/10/19 for our Family Friendly\, Alcohol Free\, Autism Open Mic hosted by Autism Society of Pittsburgh ! \nEveryone Welcome to come and have fun\, regardless of musical experience! We have all mics\, keyboards\, guitars\, amps and percussion available! ????\nPizza and soft drinks will be provided. \nDonations Gladly Accepted.\nAutism Society of Pittsburgh Band Together Pittsburgh \n#SteamworksCreative #AustimOpenMic\n#AutismSocietyOfPittsburgh #BandTogetherPgh \n 
URL:https://steamworkscreative.com/event/autism-open-mic-2-2019-10-13/
LOCATION:Steamworks Creative\, 4967 William Flinn Hwy #6\, Gibsonia\, Pennsylvania\, 15044
CATEGORIES:Music
ATTACH;FMTTYPE=image/png:https://steamworkscreative.com/wp-content/uploads/2018/10/Autism-10_10_19.png
GEO:40.6047353;-79.947467
X-APPLE-STRUCTURED-LOCATION;VALUE=URI;X-ADDRESS=Steamworks Creative 4967 William Flinn Hwy #6 Gibsonia Pennsylvania 15044;X-APPLE-RADIUS=500;X-TITLE=4967 William Flinn Hwy #6:geo:-79.947467,40.6047353
END:VEVENT
BEGIN:VEVENT
DTSTART;TZID=America/New_York:20191011T200000
DTEND;TZID=America/New_York:20191011T223000
DTSTAMP:20260421T142246
CREATED:20190819T000656Z
LAST-MODIFIED:20190929T200436Z
UID:10001130-1570824000-1570833000@steamworkscreative.com
SUMMARY:IT’S IN MY SONG | Grushecky in Gibsonia | Advance Ticket Show
DESCRIPTION:“Looking back at the songs I have written over the years\, I came to realize that I had a collection of songs that portrayed my family and life here in Western Pennsylvania. My personal history was similar to that of countless others in this unique little corner of the world. My grandparents came over from Europe to work the coalmines. My parents grew up in the Great Depression and came of age during World War II. My world was shaped by the sixties and the music of that era that was so important to so many of us. We all lived through the collapse of the steel mills and the re-inventing of the city we love. Through it all\, we grew up\, raised families\, and pursued our own individual dreams. Our lives all weave together like fabric in a cloth and I’ve got songs to sing and stories to tell.” – Joe Grushecky \nwww.joegrushecky.com \n\nPhoto Credit: Danny Clinch \n$20 Advance Tickets | $25 At Door (if available) \n\nBUY TICKETS NOW \n\nOctober 11th & 12th\nBYOB listening room \n#steamworkscreative #listeningroom\n#acousticmusic #singersongwriter\n#SitBackRelaxListenToTheMusic
URL:https://steamworkscreative.com/event/grushecky-in-gibsonia/
LOCATION:Steamworks Creative\, 4967 William Flinn Hwy #6\, Gibsonia\, Pennsylvania\, 15044
CATEGORIES:Music
ATTACH;FMTTYPE=image/png:https://steamworkscreative.com/wp-content/uploads/2019/08/GRUSHECCKY-GIBSONIA.png
GEO:40.6047353;-79.947467
X-APPLE-STRUCTURED-LOCATION;VALUE=URI;X-ADDRESS=Steamworks Creative 4967 William Flinn Hwy #6 Gibsonia Pennsylvania 15044;X-APPLE-RADIUS=500;X-TITLE=4967 William Flinn Hwy #6:geo:-79.947467,40.6047353
END:VEVENT
BEGIN:VEVENT
DTSTART;TZID=America/New_York:20191012T200000
DTEND;TZID=America/New_York:20191012T223000
DTSTAMP:20260421T142246
CREATED:20190819T000656Z
LAST-MODIFIED:20190929T200340Z
UID:10001131-1570910400-1570919400@steamworkscreative.com
SUMMARY:IT’S IN MY SONG | Grushecky in Gibsonia | Advance Ticket Show
DESCRIPTION:“Looking back at the songs I have written over the years\, I came to realize that I had a collection of songs that portrayed my family and life here in Western Pennsylvania. My personal history was similar to that of countless others in this unique little corner of the world. My grandparents came over from Europe to work the coalmines. My parents grew up in the Great Depression and came of age during World War II. My world was shaped by the sixties and the music of that era that was so important to so many of us. We all lived through the collapse of the steel mills and the re-inventing of the city we love. Through it all\, we grew up\, raised families\, and pursued our own individual dreams. Our lives all weave together like fabric in a cloth and I’ve got songs to sing and stories to tell.” – Joe Grushecky \nwww.joegrushecky.com \n\nPhoto Credit: Danny Clinch \n$20 Advance Tickets | $25 At Door (if available) \n\nBUY TICKETS NOW \n\nOctober 11th & 12th\nBYOB listening room \n#steamworkscreative #listeningroom\n#acousticmusic #singersongwriter\n#SitBackRelaxListenToTheMusic
URL:https://steamworkscreative.com/event/grushecky-in-gibsonia-2019-10-12/
LOCATION:Steamworks Creative\, 4967 William Flinn Hwy #6\, Gibsonia\, Pennsylvania\, 15044
CATEGORIES:Music
ATTACH;FMTTYPE=image/png:https://steamworkscreative.com/wp-content/uploads/2019/08/GRUSHECCKY-GIBSONIA.png
GEO:40.6047353;-79.947467
X-APPLE-STRUCTURED-LOCATION;VALUE=URI;X-ADDRESS=Steamworks Creative 4967 William Flinn Hwy #6 Gibsonia Pennsylvania 15044;X-APPLE-RADIUS=500;X-TITLE=4967 William Flinn Hwy #6:geo:-79.947467,40.6047353
END:VEVENT
BEGIN:VEVENT
DTSTART;TZID=America/New_York:20191017T193000
DTEND;TZID=America/New_York:20191017T220000
DTSTAMP:20260421T142246
CREATED:20190323T202734Z
LAST-MODIFIED:20191017T111237Z
UID:10001090-1571340600-1571349600@steamworkscreative.com
SUMMARY:Country COOL Songwriters Series
DESCRIPTION:Steamworks Creative presents a great night of country music.
URL:https://steamworkscreative.com/event/country-songwriters-night-2019-10-17/
LOCATION:Steamworks Creative\, 4967 William Flinn Hwy #6\, Gibsonia\, Pennsylvania\, 15044
CATEGORIES:Music
ATTACH;FMTTYPE=image/png:https://steamworkscreative.com/wp-content/uploads/2019/03/2019_1017.png
GEO:40.6047353;-79.947467
X-APPLE-STRUCTURED-LOCATION;VALUE=URI;X-ADDRESS=Steamworks Creative 4967 William Flinn Hwy #6 Gibsonia Pennsylvania 15044;X-APPLE-RADIUS=500;X-TITLE=4967 William Flinn Hwy #6:geo:-79.947467,40.6047353
END:VEVENT
BEGIN:VEVENT
DTSTART;TZID=America/New_York:20191018T200000
DTEND;TZID=America/New_York:20191018T223000
DTSTAMP:20260421T142246
CREATED:20190713T133659Z
LAST-MODIFIED:20190929T161442Z
UID:10001120-1571428800-1571437800@steamworkscreative.com
SUMMARY:Christopher Mark Jones Trio
DESCRIPTION:Christopher Mark Jones is returning\, this time as an acoustic trio\, with Jim Spears on stand-up bass and David Hart on mandolin\, second guitar and vocals
URL:https://steamworkscreative.com/event/christopher-mark-jones/
LOCATION:Steamworks Creative\, 4967 William Flinn Hwy #6\, Gibsonia\, Pennsylvania\, 15044
CATEGORIES:Music
ATTACH;FMTTYPE=image/png:https://steamworkscreative.com/wp-content/uploads/2019/09/2019_1018.png
GEO:40.6047353;-79.947467
X-APPLE-STRUCTURED-LOCATION;VALUE=URI;X-ADDRESS=Steamworks Creative 4967 William Flinn Hwy #6 Gibsonia Pennsylvania 15044;X-APPLE-RADIUS=500;X-TITLE=4967 William Flinn Hwy #6:geo:-79.947467,40.6047353
END:VEVENT
BEGIN:VEVENT
DTSTART;TZID=America/New_York:20191019T190000
DTEND;TZID=America/New_York:20191019T220000
DTSTAMP:20260421T142246
CREATED:20190315T155423Z
LAST-MODIFIED:20191017T111006Z
UID:10000829-1571511600-1571522400@steamworkscreative.com
SUMMARY:Lou Ross & Ian Arthurs Live Eclectic Recording Sessions
DESCRIPTION:
URL:https://steamworkscreative.com/event/reserved-2/
LOCATION:Steamworks Creative\, 4967 William Flinn Hwy #6\, Gibsonia\, Pennsylvania\, 15044
CATEGORIES:Music
GEO:40.6047353;-79.947467
X-APPLE-STRUCTURED-LOCATION;VALUE=URI;X-ADDRESS=Steamworks Creative 4967 William Flinn Hwy #6 Gibsonia Pennsylvania 15044;X-APPLE-RADIUS=500;X-TITLE=4967 William Flinn Hwy #6:geo:-79.947467,40.6047353
END:VEVENT
BEGIN:VEVENT
DTSTART;TZID=America/New_York:20191022T193000
DTEND;TZID=America/New_York:20191022T220000
DTSTAMP:20260421T142246
CREATED:20181205T171547Z
LAST-MODIFIED:20191004T131816Z
UID:10001028-1571772600-1571781600@steamworkscreative.com
SUMMARY:Steamworks Sessions - Featured Artist FIA followed by Open Stage
DESCRIPTION:Steamworks Sessions 7:30pm – 10pm hosted by Mary Lou Scherder with Featured Artist Fia followed by Open Stage. \n7:30-10pm – Donations Accepted \n#steamworkscreative #listeningroom #acousticmusic #singersongwriter #openstage\n#SitBackRelaxListenToTheMusic
URL:https://steamworkscreative.com/event/steamworks-sessions-3-2019-04-09-2019-10-22/
LOCATION:Steamworks Creative\, 4967 William Flinn Hwy #6\, Gibsonia\, Pennsylvania\, 15044
CATEGORIES:Music
ATTACH;FMTTYPE=image/png:https://steamworkscreative.com/wp-content/uploads/2018/12/2019_1022.png
GEO:40.6047353;-79.947467
X-APPLE-STRUCTURED-LOCATION;VALUE=URI;X-ADDRESS=Steamworks Creative 4967 William Flinn Hwy #6 Gibsonia Pennsylvania 15044;X-APPLE-RADIUS=500;X-TITLE=4967 William Flinn Hwy #6:geo:-79.947467,40.6047353
END:VEVENT
BEGIN:VEVENT
DTSTART;TZID=America/New_York:20191023T193000
DTEND;TZID=America/New_York:20191023T220000
DTSTAMP:20260421T142246
CREATED:20190110T201607Z
LAST-MODIFIED:20200101T002419Z
UID:10000811-1571859000-1571868000@steamworkscreative.com
SUMMARY:Eclectic Night Open Stage - Music | Art | Spoken Word - hosted by Lou Ross
DESCRIPTION:Lou Ross hosts Eclectic Night every Fourth Wednesday of the month. \nJoin Lou as Steamworks explores the Creative side of Music.\nMusic | Art | Spoken Word \nAll Ages Welcome – Donations Accepted \n#steamworkscreative #listeningroom #eclectic\n#music #art #spokenword\n#SitBackRelaxListenToTheMusic
URL:https://steamworkscreative.com/event/eclectic-night-2019-10-23/
LOCATION:Steamworks Creative\, 4967 William Flinn Hwy #6\, Gibsonia\, Pennsylvania\, 15044
CATEGORIES:Music
ATTACH;FMTTYPE=image/png:https://steamworkscreative.com/wp-content/uploads/2019/01/2020_EN-2.png
GEO:40.6047353;-79.947467
X-APPLE-STRUCTURED-LOCATION;VALUE=URI;X-ADDRESS=Steamworks Creative 4967 William Flinn Hwy #6 Gibsonia Pennsylvania 15044;X-APPLE-RADIUS=500;X-TITLE=4967 William Flinn Hwy #6:geo:-79.947467,40.6047353
END:VEVENT
END:VCALENDAR