BEGIN:VCALENDAR
VERSION:2.0
PRODID:-//Steamworks Creative - ECPv6.10.0//NONSGML v1.0//EN
CALSCALE:GREGORIAN
METHOD:PUBLISH
X-WR-CALNAME:Steamworks Creative
X-ORIGINAL-URL:https://steamworkscreative.com
X-WR-CALDESC:Events for Steamworks Creative
REFRESH-INTERVAL;VALUE=DURATION:PT1H
X-Robots-Tag:noindex
X-PUBLISHED-TTL:PT1H
BEGIN:VTIMEZONE
TZID:America/New_York
BEGIN:DAYLIGHT
TZOFFSETFROM:-0500
TZOFFSETTO:-0400
TZNAME:EDT
DTSTART:20190310T070000
END:DAYLIGHT
BEGIN:STANDARD
TZOFFSETFROM:-0400
TZOFFSETTO:-0500
TZNAME:EST
DTSTART:20191103T060000
END:STANDARD
END:VTIMEZONE
BEGIN:VEVENT
DTSTART;TZID=America/New_York:20191203T190000
DTEND;TZID=America/New_York:20191203T210000
DTSTAMP:20260420T205331
CREATED:20190323T201113Z
LAST-MODIFIED:20200101T014458Z
UID:10000841-1575399600-1575406800@steamworkscreative.com
SUMMARY:Open Mic hosted and featuring students of Sing Sing Sing
DESCRIPTION:First Tuesday of the Month \nOpen Mic hosted and featuring students of Sing Sing Sing! Will be open to public. Come SING with us! \nDonations appreciated. \n#steamworkscreative #listeningroom #acousticmusic #singersongwriter\n#SitBackRelaxListenToTheMusic
URL:https://steamworkscreative.com/event/open-mic-hosted-and-featuring-students-of-sing-sing-sing-2019-11-05/2019-12-03/
LOCATION:Steamworks Creative\, 4967 William Flinn Hwy #6\, Gibsonia\, Pennsylvania\, 15044
CATEGORIES:Music
ATTACH;FMTTYPE=image/jpeg:https://steamworkscreative.com/wp-content/uploads/2019/03/67296945_1292519897577169_7461680549157928960_o.jpg
GEO:40.6047353;-79.947467
X-APPLE-STRUCTURED-LOCATION;VALUE=URI;X-ADDRESS=Steamworks Creative 4967 William Flinn Hwy #6 Gibsonia Pennsylvania 15044;X-APPLE-RADIUS=500;X-TITLE=4967 William Flinn Hwy #6:geo:-79.947467,40.6047353
END:VEVENT
BEGIN:VEVENT
DTSTART;TZID=America/New_York:20191205T193000
DTEND;TZID=America/New_York:20191205T220000
DTSTAMP:20260420T205331
CREATED:20191127T190357Z
LAST-MODIFIED:20191127T200809Z
UID:10000907-1575574200-1575583200@steamworkscreative.com
SUMMARY:David O's Karaoke Show
DESCRIPTION:David Oleniacz has been hosting karaoke shows for nearly two decades and entertaining crowds locally for over 40 years. His only goal is to make sure everyone has a good time. \nDonations Kindly Accepted
URL:https://steamworkscreative.com/event/david-os-karaoke-show/
LOCATION:Steamworks Creative\, 4967 William Flinn Hwy #6\, Gibsonia\, Pennsylvania\, 15044
CATEGORIES:Music
ATTACH;FMTTYPE=image/png:https://steamworkscreative.com/wp-content/uploads/2019/11/2019_1205-3.png
GEO:40.6047353;-79.947467
X-APPLE-STRUCTURED-LOCATION;VALUE=URI;X-ADDRESS=Steamworks Creative 4967 William Flinn Hwy #6 Gibsonia Pennsylvania 15044;X-APPLE-RADIUS=500;X-TITLE=4967 William Flinn Hwy #6:geo:-79.947467,40.6047353
END:VEVENT
BEGIN:VEVENT
DTSTART;TZID=America/New_York:20191210T193000
DTEND;TZID=America/New_York:20191210T220000
DTSTAMP:20260420T205331
CREATED:20181205T171547Z
LAST-MODIFIED:20191118T205608Z
UID:10001033-1576006200-1576015200@steamworkscreative.com
SUMMARY:Steamworks Sessions hosted by Mary Lou Scherder | Featured Artist Laurel Lamb
DESCRIPTION:Steamworks Sessions 7:30pm – 10pm hosted by Mary Lou Scherder  with Featured Artist followed by Open Stage.
URL:https://steamworkscreative.com/event/steamworks-sessions-3-2019-04-09-2019-12-10/
LOCATION:Steamworks Creative\, 4967 William Flinn Hwy #6\, Gibsonia\, Pennsylvania\, 15044
CATEGORIES:Music
ATTACH;FMTTYPE=image/jpeg:https://steamworkscreative.com/wp-content/uploads/2018/12/Steamworks-Sessions-square-1-2-19.jpg
GEO:40.6047353;-79.947467
X-APPLE-STRUCTURED-LOCATION;VALUE=URI;X-ADDRESS=Steamworks Creative 4967 William Flinn Hwy #6 Gibsonia Pennsylvania 15044;X-APPLE-RADIUS=500;X-TITLE=4967 William Flinn Hwy #6:geo:-79.947467,40.6047353
END:VEVENT
BEGIN:VEVENT
DTSTART;TZID=America/New_York:20191211T193000
DTEND;TZID=America/New_York:20191211T220000
DTSTAMP:20260420T205331
CREATED:20181205T173946Z
LAST-MODIFIED:20190102T203957Z
UID:10001040-1576092600-1576101600@steamworkscreative.com
SUMMARY:All Ages Full Band Open Stage
DESCRIPTION:Second Wednesday of the month\,  Ian Arthurs hosts the All Ages Full Band Open Stage (Electric & Acoustic Open Stage) \nAll drums\, amps\, and a keyboard will be provided for use. ??? Electric and Acoustic players welcome\, even full bands! \n#steamworkscreative #listeningroom#acousticmusic #singersongwriter #openstage#SitBackRelaxListenToTheMusic
URL:https://steamworkscreative.com/event/all-ages-full-band-open-stage/2019-12-11/
LOCATION:Steamworks Creative\, 4967 William Flinn Hwy #6\, Gibsonia\, Pennsylvania\, 15044
CATEGORIES:Music
ATTACH;FMTTYPE=image/jpeg:https://steamworkscreative.com/wp-content/uploads/2018/12/Ian-show-poster-1-2-19.jpg
GEO:40.6047353;-79.947467
X-APPLE-STRUCTURED-LOCATION;VALUE=URI;X-ADDRESS=Steamworks Creative 4967 William Flinn Hwy #6 Gibsonia Pennsylvania 15044;X-APPLE-RADIUS=500;X-TITLE=4967 William Flinn Hwy #6:geo:-79.947467,40.6047353
END:VEVENT
BEGIN:VEVENT
DTSTART;TZID=America/New_York:20191219T193000
DTEND;TZID=America/New_York:20191219T220000
DTSTAMP:20260420T205331
CREATED:20191028T022212Z
LAST-MODIFIED:20191204T011357Z
UID:10001145-1576783800-1576792800@steamworkscreative.com
SUMMARY:Sarah Tilghman
DESCRIPTION:At every defining moment\, you’re faced with fear. The anxiety kicks in and suddenly who you thought you were and what you thought you wanted doesn’t seem so clear any longer. It’s a place of tension where you get to choose to follow your heart or follow fear. That’s why Sarah Tilghman makes music. Sarah was raised in a small town outside of Pittsburgh\, PA\, where dreams were lofty and leaving\, was rare. From a very young age\, Sarah always knew she wanted to share music with the world.\nSarah and her best friend formed a band in high school\, this is where her love of songwriting and performing began to develop. They played local shows and put demos on MySpace when that was still a thing. Sarah received her first singing lessons at the age of 17 at a performing arts charter school. Here she began getting immersed in the rich diversity of music and vocal training. With musical knowledge in theory and piano\, Sarah started teaching herself how to play guitar on a loaned Yamaha that never really seemed to stay in tune. Songwriting is something that did not always come easy for her\, but with time the melodies got catchier and the lyrics more meaningful. \nCollege came and Sarah knew she wanted to get serious about music. Sarah recorded her first EP “Sanctuary” with Lu Rubino. Soon after the recording was complete\, Sarah signed with a small record label. Sarah went on two tours that traveled throughout the east coast and the Midwest. After a trip to Russia\, Sarah found love. She always dreamed of living in California\, and the dream became a reality when she met Jonathan Tilghman. Sarah moved to San Diego\, got married\, and started her new life with her husband at the age of 22. \nMany changes started taking place in Sarah’s music career\, and she decided it was time to take her career in a new way as an independent artist. This decision came with the loss of her EP among other things that she worked hard for. That feeling of fear started becoming a familiar feeling. What once seemed easy for her\, became very difficult because of leaving everything she knew with the label and venturing into the unknown. It was like a loss of security in her music career\, and she felt lost. After a time of walking through a journey of anxiety & fear that was so consuming\, Sarah began songwriting again\, but this time the songs had so much more meaning and the “why” behind everything became so much more clear. These songs weren’t just for her\, there was a story to share with others. \nSarah recorded a live album with Resurgent Sound. This was an 11 track album titled “Foreign Affair”. These songs shared her story about struggling with anxiety\, fear\, and feeling hopeless. As her story has unfolded\, Sarah is more driven than ever to share this message with the world. “Fear is a liar and it does not have to steal who you are. We all walk through difficulty\, but it doesn’t have to overcome us. You owe it to yourself to get back up when you get knocked down because you are full of goodness…exactly what the world needs more of.” \nGetting in touch with her roots of influence from jazz & classical music\, Sarah has developed into a pop/soul artist that writes love songs\, songs about loss\, and songs that awaken the dreamer within you. This isn’t just feel good music…this is dream fulfillment music. \nWebsite: http://www.sarahtilghman.com/\nYoutube: https://www.youtube.com/channel/UCiJ6JPHk5e5dDpbPesn_UuQ\nFacebook: https://www.facebook.com/sarahtilghmanmusic/\nInstagram: https://www.instagram.com/sarahtilghmanmusic/
URL:https://steamworkscreative.com/event/sarah-tilghman/
LOCATION:Steamworks Creative\, 4967 William Flinn Hwy #6\, Gibsonia\, Pennsylvania\, 15044
CATEGORIES:Music
ATTACH;FMTTYPE=image/png:https://steamworkscreative.com/wp-content/uploads/2019/10/2019_1219.png
GEO:40.6047353;-79.947467
X-APPLE-STRUCTURED-LOCATION;VALUE=URI;X-ADDRESS=Steamworks Creative 4967 William Flinn Hwy #6 Gibsonia Pennsylvania 15044;X-APPLE-RADIUS=500;X-TITLE=4967 William Flinn Hwy #6:geo:-79.947467,40.6047353
END:VEVENT
BEGIN:VEVENT
DTSTART;TZID=America/New_York:20191220T190000
DTEND;TZID=America/New_York:20191220T220000
DTSTAMP:20260420T205331
CREATED:20190713T134903Z
LAST-MODIFIED:20191204T012345Z
UID:10001123-1576868400-1576879200@steamworkscreative.com
SUMMARY:Second Breakfast
DESCRIPTION:Enjoy an evening with local band Second Breakfast as they infuse some Holiday favorites into their eclectic bluesy set list! Be sure to bring your favorite holiday beverage and snacks as we celebrate the season! \n$10 cover/ BYOB
URL:https://steamworkscreative.com/event/second-breakfast-7/
LOCATION:Steamworks Creative\, 4967 William Flinn Hwy #6\, Gibsonia\, Pennsylvania\, 15044
CATEGORIES:Music
ATTACH;FMTTYPE=image/png:https://steamworkscreative.com/wp-content/uploads/2019/07/2019_1220.png
GEO:40.6047353;-79.947467
X-APPLE-STRUCTURED-LOCATION;VALUE=URI;X-ADDRESS=Steamworks Creative 4967 William Flinn Hwy #6 Gibsonia Pennsylvania 15044;X-APPLE-RADIUS=500;X-TITLE=4967 William Flinn Hwy #6:geo:-79.947467,40.6047353
END:VEVENT
BEGIN:VEVENT
DTSTART;TZID=America/New_York:20191224T120000
DTEND;TZID=America/New_York:20191224T170000
DTSTAMP:20260420T205331
CREATED:20191210T174706Z
LAST-MODIFIED:20191210T174706Z
UID:10000917-1577188800-1577206800@steamworkscreative.com
SUMMARY:Annual Shady Lady XMas Party and Acoustic Open Stage Jam
DESCRIPTION:– Dec 24th\n– Noon to 4/5p\n– Open to all\n– BYOB\n– Some beverage and snacks will be provided \nStop by and say hi. Mingle with other musicians\, meet local music fans\nPlay some songs\, or just kick back and listen \n#steamworkscreative #listeningroom #acousticmusic\n#singersongwriter #openstage #openmic\n#SitBackRelaxListenToTheMusic
URL:https://steamworkscreative.com/event/annual-shady-lady-xmas-party-and-acoustic-open-stage-jam/
LOCATION:Steamworks Creative\, 4967 William Flinn Hwy #6\, Gibsonia\, Pennsylvania\, 15044
CATEGORIES:Music
GEO:40.6047353;-79.947467
X-APPLE-STRUCTURED-LOCATION;VALUE=URI;X-ADDRESS=Steamworks Creative 4967 William Flinn Hwy #6 Gibsonia Pennsylvania 15044;X-APPLE-RADIUS=500;X-TITLE=4967 William Flinn Hwy #6:geo:-79.947467,40.6047353
END:VEVENT
BEGIN:VEVENT
DTSTART;TZID=America/New_York:20191224T193000
DTEND;TZID=America/New_York:20191224T220000
DTSTAMP:20260420T205331
CREATED:20230328T010259Z
LAST-MODIFIED:20230328T010259Z
UID:10001024-1577215800-1577224800@steamworkscreative.com
SUMMARY:Steamworks Sessions
DESCRIPTION:Steamworks Sessions 7:30pm – 10pm hosted by Mary Lou Scherder  with Featured Artist followed by Open Stage.
URL:https://steamworkscreative.com/event/steamworks-sessions-3-2019-04-09-2019-06-11/2019-12-24/
LOCATION:Steamworks Creative\, 4967 William Flinn Hwy #6\, Gibsonia\, Pennsylvania\, 15044
CATEGORIES:Music
ATTACH;FMTTYPE=image/jpeg:https://steamworkscreative.com/wp-content/uploads/2018/12/Steamworks-Sessions-square-1-2-19.jpg
GEO:40.6047353;-79.947467
X-APPLE-STRUCTURED-LOCATION;VALUE=URI;X-ADDRESS=Steamworks Creative 4967 William Flinn Hwy #6 Gibsonia Pennsylvania 15044;X-APPLE-RADIUS=500;X-TITLE=4967 William Flinn Hwy #6:geo:-79.947467,40.6047353
END:VEVENT
BEGIN:VEVENT
DTSTART;TZID=America/New_York:20191228T200000
DTEND;TZID=America/New_York:20191228T223000
DTSTAMP:20260420T205331
CREATED:20191028T182428Z
LAST-MODIFIED:20191223T020834Z
UID:10001146-1577563200-1577572200@steamworkscreative.com
SUMMARY:Holiday Showcase-GOATS | Mary Lou Scherder | FIA
DESCRIPTION:
URL:https://steamworkscreative.com/event/goats-mary-lou-scherder-fia/
LOCATION:Steamworks Creative\, 4967 William Flinn Hwy #6\, Gibsonia\, Pennsylvania\, 15044
CATEGORIES:Music
GEO:40.6047353;-79.947467
X-APPLE-STRUCTURED-LOCATION;VALUE=URI;X-ADDRESS=Steamworks Creative 4967 William Flinn Hwy #6 Gibsonia Pennsylvania 15044;X-APPLE-RADIUS=500;X-TITLE=4967 William Flinn Hwy #6:geo:-79.947467,40.6047353
END:VEVENT
END:VCALENDAR