BEGIN:VCALENDAR
VERSION:2.0
PRODID:-//Steamworks Creative - ECPv6.10.0//NONSGML v1.0//EN
CALSCALE:GREGORIAN
METHOD:PUBLISH
X-WR-CALNAME:Steamworks Creative
X-ORIGINAL-URL:https://steamworkscreative.com
X-WR-CALDESC:Events for Steamworks Creative
REFRESH-INTERVAL;VALUE=DURATION:PT1H
X-Robots-Tag:noindex
X-PUBLISHED-TTL:PT1H
BEGIN:VTIMEZONE
TZID:America/New_York
BEGIN:DAYLIGHT
TZOFFSETFROM:-0500
TZOFFSETTO:-0400
TZNAME:EDT
DTSTART:20240310T070000
END:DAYLIGHT
BEGIN:STANDARD
TZOFFSETFROM:-0400
TZOFFSETTO:-0500
TZNAME:EST
DTSTART:20241103T060000
END:STANDARD
TZID:America/New_York
BEGIN:DAYLIGHT
TZOFFSETFROM:-0500
TZOFFSETTO:-0400
TZNAME:EDT
DTSTART:20240310T070000
END:DAYLIGHT
BEGIN:STANDARD
TZOFFSETFROM:-0400
TZOFFSETTO:-0500
TZNAME:EST
DTSTART:20241103T060000
END:STANDARD
END:VTIMEZONE
BEGIN:VEVENT
DTSTART;TZID=America/New_York:20240402T190000
DTEND;TZID=America/New_York:20240402T200000
DTSTAMP:20260420T141856
CREATED:20231224T052737Z
LAST-MODIFIED:20231224T053527Z
UID:10002460-1712084400-1712088000@steamworkscreative.com
SUMMARY:Steamworks Spirit Station hosted by Pastor Greg with musical guests
DESCRIPTION:
URL:https://steamworkscreative.com/event/steamworks-spirit-station-hosted-by-pastor-greg-with-musical-guests-3/2024-04-02/
LOCATION:Steamworks Creative\, 4967 William Flinn Hwy #6\, Gibsonia\, Pennsylvania\, 15044
CATEGORIES:Music
ATTACH;FMTTYPE=image/png:https://steamworkscreative.com/wp-content/uploads/2021/09/2021-SSS.png
GEO:40.6047353;-79.947467
X-APPLE-STRUCTURED-LOCATION;VALUE=URI;X-ADDRESS=Steamworks Creative 4967 William Flinn Hwy #6 Gibsonia Pennsylvania 15044;X-APPLE-RADIUS=500;X-TITLE=4967 William Flinn Hwy #6:geo:-79.947467,40.6047353
END:VEVENT
BEGIN:VEVENT
DTSTART;TZID=America/New_York:20240405T190000
DTEND;TZID=America/New_York:20240405T220000
DTSTAMP:20260420T141856
CREATED:20240128T001202Z
LAST-MODIFIED:20240404T201649Z
UID:10002576-1712343600-1712354400@steamworkscreative.com
SUMMARY:CANCELLED- Recycled Vinyl Classic Rock Band
DESCRIPTION:
URL:https://steamworkscreative.com/event/recycled-vinyl-classic-rock-band-2/
LOCATION:Steamworks Creative\, 4967 William Flinn Hwy #6\, Gibsonia\, Pennsylvania\, 15044
CATEGORIES:Music
ATTACH;FMTTYPE=image/png:https://steamworkscreative.com/wp-content/uploads/2024/01/09CA69D5-162B-4D70-A993-C7E3263C0155.png
GEO:40.6047353;-79.947467
X-APPLE-STRUCTURED-LOCATION;VALUE=URI;X-ADDRESS=Steamworks Creative 4967 William Flinn Hwy #6 Gibsonia Pennsylvania 15044;X-APPLE-RADIUS=500;X-TITLE=4967 William Flinn Hwy #6:geo:-79.947467,40.6047353
END:VEVENT
BEGIN:VEVENT
DTSTART;TZID=America/New_York:20240407T180000
DTEND;TZID=America/New_York:20240407T200000
DTSTAMP:20260420T141856
CREATED:20240202T230518Z
LAST-MODIFIED:20240326T223139Z
UID:10002579-1712512800-1712520000@steamworkscreative.com
SUMMARY:Scott Blasey | Steamworks Songbook Series | SOLD OUT!
DESCRIPTION:
URL:https://steamworkscreative.com/event/scott-blasey-steamworks-songbook-series-adv-tickets-20/
CATEGORIES:Music
ATTACH;FMTTYPE=image/png:https://steamworkscreative.com/wp-content/uploads/2024/02/Scott-Blasey-2.png
END:VEVENT
BEGIN:VEVENT
DTSTART;TZID=America/New_York:20240409T190000
DTEND;TZID=America/New_York:20240409T200000
DTSTAMP:20260420T141856
CREATED:20240406T211241Z
LAST-MODIFIED:20240514T222322Z
UID:10002461-1712689200-1712692800@steamworkscreative.com
SUMMARY:Steamworks Spirit Station hosted by Pastor Greg with musical guests
DESCRIPTION:
URL:https://steamworkscreative.com/event/steamworks-spirit-station-hosted-by-pastor-greg-with-musical-guests-3-2/2024-04-09/
LOCATION:Steamworks Creative\, 4967 William Flinn Hwy #6\, Gibsonia\, Pennsylvania\, 15044
CATEGORIES:Music
ATTACH;FMTTYPE=image/png:https://steamworkscreative.com/wp-content/uploads/2021/09/2021-SSS.png
GEO:40.6047353;-79.947467
X-APPLE-STRUCTURED-LOCATION;VALUE=URI;X-ADDRESS=Steamworks Creative 4967 William Flinn Hwy #6 Gibsonia Pennsylvania 15044;X-APPLE-RADIUS=500;X-TITLE=4967 William Flinn Hwy #6:geo:-79.947467,40.6047353
END:VEVENT
BEGIN:VEVENT
DTSTART;TZID=America/New_York:20240411T190000
DTEND;TZID=America/New_York:20240411T220000
DTSTAMP:20260420T141856
CREATED:20240327T172626Z
LAST-MODIFIED:20240327T172626Z
UID:10002637-1712862000-1712872800@steamworkscreative.com
SUMMARY:Open mic hosted by Mark and Curt
DESCRIPTION:
URL:https://steamworkscreative.com/event/open-mic-hosted-by-mark-and-curt-5/
LOCATION:Steamworks Creative\, 4967 William Flinn Hwy #6\, Gibsonia\, Pennsylvania\, 15044
CATEGORIES:Music
ATTACH;FMTTYPE=image/png:https://steamworkscreative.com/wp-content/uploads/2024/03/48E701C0-2C09-43D0-938D-016D3AF042E4.png
GEO:40.6047353;-79.947467
X-APPLE-STRUCTURED-LOCATION;VALUE=URI;X-ADDRESS=Steamworks Creative 4967 William Flinn Hwy #6 Gibsonia Pennsylvania 15044;X-APPLE-RADIUS=500;X-TITLE=4967 William Flinn Hwy #6:geo:-79.947467,40.6047353
END:VEVENT
BEGIN:VEVENT
DTSTART;TZID=America/New_York:20240413T200000
DTEND;TZID=America/New_York:20240413T230000
DTSTAMP:20260420T141856
CREATED:20240406T210958Z
LAST-MODIFIED:20240412T172755Z
UID:10002647-1713038400-1713049200@steamworkscreative.com
SUMMARY:Reuben’s Painted Mandolin | SOLD OUT!
DESCRIPTION: 
URL:https://steamworkscreative.com/event/reubens-painted-mandolin-2/
LOCATION:Steamworks Creative\, 4967 William Flinn Hwy #6\, Gibsonia\, Pennsylvania\, 15044
CATEGORIES:Music
ATTACH;FMTTYPE=image/png:https://steamworkscreative.com/wp-content/uploads/2024/04/1CC5310F-9511-4CF2-9CEE-A8BB2CA12C5D.png
GEO:40.6047353;-79.947467
X-APPLE-STRUCTURED-LOCATION;VALUE=URI;X-ADDRESS=Steamworks Creative 4967 William Flinn Hwy #6 Gibsonia Pennsylvania 15044;X-APPLE-RADIUS=500;X-TITLE=4967 William Flinn Hwy #6:geo:-79.947467,40.6047353
END:VEVENT
BEGIN:VEVENT
DTSTART;TZID=America/New_York:20240416T190000
DTEND;TZID=America/New_York:20240416T200000
DTSTAMP:20260420T141856
CREATED:20240406T211241Z
LAST-MODIFIED:20240514T222322Z
UID:10002462-1713294000-1713297600@steamworkscreative.com
SUMMARY:Steamworks Spirit Station hosted by Pastor Greg with musical guests
DESCRIPTION:
URL:https://steamworkscreative.com/event/steamworks-spirit-station-hosted-by-pastor-greg-with-musical-guests-3-2/2024-04-16/
LOCATION:Steamworks Creative\, 4967 William Flinn Hwy #6\, Gibsonia\, Pennsylvania\, 15044
CATEGORIES:Music
ATTACH;FMTTYPE=image/png:https://steamworkscreative.com/wp-content/uploads/2021/09/2021-SSS.png
GEO:40.6047353;-79.947467
X-APPLE-STRUCTURED-LOCATION;VALUE=URI;X-ADDRESS=Steamworks Creative 4967 William Flinn Hwy #6 Gibsonia Pennsylvania 15044;X-APPLE-RADIUS=500;X-TITLE=4967 William Flinn Hwy #6:geo:-79.947467,40.6047353
END:VEVENT
BEGIN:VEVENT
DTSTART;TZID=America/New_York:20240419T200000
DTEND;TZID=America/New_York:20240419T223000
DTSTAMP:20260420T141856
CREATED:20240307T023822Z
LAST-MODIFIED:20240307T023822Z
UID:10002612-1713556800-1713565800@steamworkscreative.com
SUMMARY:The StreetSide Saints | $10 Adv $15 Door
DESCRIPTION:
URL:https://steamworkscreative.com/event/the-streetside-saints-10-adv-15-door/
LOCATION:Steamworks Creative\, 4967 William Flinn Hwy #6\, Gibsonia\, Pennsylvania\, 15044
CATEGORIES:Music
ATTACH;FMTTYPE=image/png:https://steamworkscreative.com/wp-content/uploads/2024/03/Street-side-Saints.png
GEO:40.6047353;-79.947467
X-APPLE-STRUCTURED-LOCATION;VALUE=URI;X-ADDRESS=Steamworks Creative 4967 William Flinn Hwy #6 Gibsonia Pennsylvania 15044;X-APPLE-RADIUS=500;X-TITLE=4967 William Flinn Hwy #6:geo:-79.947467,40.6047353
END:VEVENT
BEGIN:VEVENT
DTSTART;TZID=America/New_York:20240420T200000
DTEND;TZID=America/New_York:20240420T220000
DTSTAMP:20260420T141856
CREATED:20240217T162007Z
LAST-MODIFIED:20240225T034902Z
UID:10002596-1713643200-1713650400@steamworkscreative.com
SUMMARY:Rick Witkowski | Kelsey Barber Friday | Steamworks Songbook Series | Adv Tickets $20
DESCRIPTION:BUY TICKETS NOW \nSell tickets online with Ticketleap
URL:https://steamworkscreative.com/event/rick-witkowski-kelsey-barber-friday/
LOCATION:Steamworks Creative\, 4967 William Flinn Hwy #6\, Gibsonia\, Pennsylvania\, 15044
CATEGORIES:Music
ATTACH;FMTTYPE=image/png:https://steamworkscreative.com/wp-content/uploads/2024/02/3E75813E-4987-41F8-B7AB-F8E6A55906CF.png
GEO:40.6047353;-79.947467
X-APPLE-STRUCTURED-LOCATION;VALUE=URI;X-ADDRESS=Steamworks Creative 4967 William Flinn Hwy #6 Gibsonia Pennsylvania 15044;X-APPLE-RADIUS=500;X-TITLE=4967 William Flinn Hwy #6:geo:-79.947467,40.6047353
END:VEVENT
BEGIN:VEVENT
DTSTART;TZID=America/New_York:20240423T190000
DTEND;TZID=America/New_York:20240423T200000
DTSTAMP:20260420T141856
CREATED:20240406T211241Z
LAST-MODIFIED:20240514T222322Z
UID:10002463-1713898800-1713902400@steamworkscreative.com
SUMMARY:Steamworks Spirit Station hosted by Pastor Greg with musical guests
DESCRIPTION:
URL:https://steamworkscreative.com/event/steamworks-spirit-station-hosted-by-pastor-greg-with-musical-guests-3-2/2024-04-23/
LOCATION:Steamworks Creative\, 4967 William Flinn Hwy #6\, Gibsonia\, Pennsylvania\, 15044
CATEGORIES:Music
ATTACH;FMTTYPE=image/png:https://steamworkscreative.com/wp-content/uploads/2021/09/2021-SSS.png
GEO:40.6047353;-79.947467
X-APPLE-STRUCTURED-LOCATION;VALUE=URI;X-ADDRESS=Steamworks Creative 4967 William Flinn Hwy #6 Gibsonia Pennsylvania 15044;X-APPLE-RADIUS=500;X-TITLE=4967 William Flinn Hwy #6:geo:-79.947467,40.6047353
END:VEVENT
BEGIN:VEVENT
DTSTART;TZID=America/New_York:20240426T180000
DTEND;TZID=America/New_York:20240426T220000
DTSTAMP:20260420T141856
CREATED:20240411T032845Z
LAST-MODIFIED:20240411T032845Z
UID:10002547-1714154400-1714168800@steamworkscreative.com
SUMMARY:SCARFIRE Radio Artist Showcase
DESCRIPTION:
URL:https://steamworkscreative.com/event/scarfire-radio-artist-showcase-13-6/
LOCATION:Steamworks Creative\, 4967 William Flinn Hwy #6\, Gibsonia\, Pennsylvania\, 15044
CATEGORIES:Music
ATTACH;FMTTYPE=image/png:https://steamworkscreative.com/wp-content/uploads/2023/10/90D8DC27-3396-4952-B9A3-A6BE025F9303.png
GEO:40.6047353;-79.947467
X-APPLE-STRUCTURED-LOCATION;VALUE=URI;X-ADDRESS=Steamworks Creative 4967 William Flinn Hwy #6 Gibsonia Pennsylvania 15044;X-APPLE-RADIUS=500;X-TITLE=4967 William Flinn Hwy #6:geo:-79.947467,40.6047353
END:VEVENT
BEGIN:VEVENT
DTSTART;TZID=America/New_York:20240427T190000
DTEND;TZID=America/New_York:20240427T210000
DTSTAMP:20260420T141856
CREATED:20240307T095157Z
LAST-MODIFIED:20240307T095157Z
UID:10002613-1714244400-1714251600@steamworkscreative.com
SUMMARY:James Vivirito
DESCRIPTION:
URL:https://steamworkscreative.com/event/james-vivirito-4/
LOCATION:Steamworks Creative\, 4967 William Flinn Hwy #6\, Gibsonia\, Pennsylvania\, 15044
CATEGORIES:Music
ATTACH;FMTTYPE=image/png:https://steamworkscreative.com/wp-content/uploads/2024/03/076A8AF6-0231-4972-BCF4-FF11D8268662.png
GEO:40.6047353;-79.947467
X-APPLE-STRUCTURED-LOCATION;VALUE=URI;X-ADDRESS=Steamworks Creative 4967 William Flinn Hwy #6 Gibsonia Pennsylvania 15044;X-APPLE-RADIUS=500;X-TITLE=4967 William Flinn Hwy #6:geo:-79.947467,40.6047353
END:VEVENT
BEGIN:VEVENT
DTSTART;TZID=America/New_York:20240430T190000
DTEND;TZID=America/New_York:20240430T200000
DTSTAMP:20260420T141856
CREATED:20240406T211241Z
LAST-MODIFIED:20240514T222322Z
UID:10002464-1714503600-1714507200@steamworkscreative.com
SUMMARY:Steamworks Spirit Station hosted by Pastor Greg with musical guests
DESCRIPTION:
URL:https://steamworkscreative.com/event/steamworks-spirit-station-hosted-by-pastor-greg-with-musical-guests-3-2/2024-04-30/
LOCATION:Steamworks Creative\, 4967 William Flinn Hwy #6\, Gibsonia\, Pennsylvania\, 15044
CATEGORIES:Music
ATTACH;FMTTYPE=image/png:https://steamworkscreative.com/wp-content/uploads/2021/09/2021-SSS.png
GEO:40.6047353;-79.947467
X-APPLE-STRUCTURED-LOCATION;VALUE=URI;X-ADDRESS=Steamworks Creative 4967 William Flinn Hwy #6 Gibsonia Pennsylvania 15044;X-APPLE-RADIUS=500;X-TITLE=4967 William Flinn Hwy #6:geo:-79.947467,40.6047353
END:VEVENT
END:VCALENDAR