BEGIN:VCALENDAR
VERSION:2.0
PRODID:-//Steamworks Creative - ECPv6.10.0//NONSGML v1.0//EN
CALSCALE:GREGORIAN
METHOD:PUBLISH
X-ORIGINAL-URL:https://steamworkscreative.com
X-WR-CALDESC:Events for Steamworks Creative
REFRESH-INTERVAL;VALUE=DURATION:PT1H
X-Robots-Tag:noindex
X-PUBLISHED-TTL:PT1H
BEGIN:VTIMEZONE
TZID:America/New_York
BEGIN:DAYLIGHT
TZOFFSETFROM:-0500
TZOFFSETTO:-0400
TZNAME:EDT
DTSTART:20180311T070000
END:DAYLIGHT
BEGIN:STANDARD
TZOFFSETFROM:-0400
TZOFFSETTO:-0500
TZNAME:EST
DTSTART:20181104T060000
END:STANDARD
END:VTIMEZONE
BEGIN:VEVENT
DTSTART;TZID=America/New_York:20180630T200000
DTEND;TZID=America/New_York:20180630T200000
DTSTAMP:20260425T113006
CREATED:20180614T155210Z
LAST-MODIFIED:20180621T182836Z
UID:10000876-1530388800-1530388800@steamworkscreative.com
SUMMARY:Doug Edgell Trio Performance with special guest Jessica Bitsura
DESCRIPTION:Saturday\, June 30th\, 2018 8pm\nDoug Edgell Trio Performance with special guest Jessica Bitsura \nDoug Edgell vocals and guitar\nKelly Bell cajon drum\nAaron Majiros bass guitar and piano \nThe Doug Edgell Trio performs original music and their versions of classic and catchy cover songs.\nThe music is rhythmic\, fun\, funky and makes you feel good! \n  \n  \n  \n  \nwww.dougedgell.com
URL:https://steamworkscreative.com/event/doug-edgell-trio-performance-jessica-bitsura/
LOCATION:Steamworks Creative\, 4967 William Flinn Hwy #6\, Gibsonia\, Pennsylvania\, 15044
CATEGORIES:Music
ATTACH;FMTTYPE=image/jpeg:https://steamworkscreative.com/wp-content/uploads/2018/06/Doug-Edgell-Trio.jpg
GEO:40.6047353;-79.947467
X-APPLE-STRUCTURED-LOCATION;VALUE=URI;X-ADDRESS=Steamworks Creative 4967 William Flinn Hwy #6 Gibsonia Pennsylvania 15044;X-APPLE-RADIUS=500;X-TITLE=4967 William Flinn Hwy #6:geo:-79.947467,40.6047353
END:VEVENT
END:VCALENDAR