BEGIN:VCALENDAR
VERSION:2.0
PRODID:-//Steamworks Creative - ECPv6.10.0//NONSGML v1.0//EN
CALSCALE:GREGORIAN
METHOD:PUBLISH
X-WR-CALNAME:Steamworks Creative
X-ORIGINAL-URL:https://steamworkscreative.com
X-WR-CALDESC:Events for Steamworks Creative
REFRESH-INTERVAL;VALUE=DURATION:PT1H
X-Robots-Tag:noindex
X-PUBLISHED-TTL:PT1H
BEGIN:VTIMEZONE
TZID:America/New_York
BEGIN:DAYLIGHT
TZOFFSETFROM:-0500
TZOFFSETTO:-0400
TZNAME:EDT
DTSTART:20180311T070000
END:DAYLIGHT
BEGIN:STANDARD
TZOFFSETFROM:-0400
TZOFFSETTO:-0500
TZNAME:EST
DTSTART:20181104T060000
END:STANDARD
END:VTIMEZONE
BEGIN:VEVENT
DTSTART;TZID=America/New_York:20181124T200000
DTEND;TZID=America/New_York:20181124T223000
DTSTAMP:20260425T094424
CREATED:20181002T180827Z
LAST-MODIFIED:20181122T195236Z
UID:10001002-1543089600-1543098600@steamworkscreative.com
SUMMARY:CANCELED - Vertical 48 with special guest Spirit of the Bear
DESCRIPTION:Unfortunately\, Vertical 48 show canceled. \nThe good news…Pine Richland’s football team is really good. The bad news…this means Vertical 48 had to cancel their show scheduled for Saturday\, 11/24. We wish the Pine Richland Football Team ? much success. Vertical 48 Spirit of the Bear\n#steamworkscreative #listeningroom #sitbackrelaxlistentothemusic \nSaturday\, November\, 24\, 2018 Vertical 48 with special guest Spirit of the Bear \nAn energetic pop trio from Pittsburgh\, PA\, Vertical 48 brings the BIG party wherever they go. With a sound reminiscent of bands like DNCE and Walk the Moon as well as solo artists like Charlie Puth and Bruno Mars\, these three hip dudes aim to put on a show worthy of remembering at least a little bit. Their latest single\, “Late to the Party\,” features an upbeat groove with a funky bass line and a hook as sticky as something that is extremely sticky. Having shared the stage with the likes of The Maine\, SWMRS and Cheat Codes\, Vertical 48 plans to dominate the world both with their sound and their particular view of economics. \nfacebook.com/vertical48\nhttps://soundcloud.com/vertical48/late-to-the-party\ninstagram: @vertical48\n\n\nSpirit of the Bear launched themselves quickly into the local spotlight in Ohio after forming in the summer of 2014. Their sound\, a unique blend of indie rock and electronic influences is prevalent throughout their recordings and live performances\, and this element makes Spirit of the Bear one of the most exciting rock acts around. Having performed in prominent venues in cities such as Cleveland\, Columbus\, Cincinnati\, Minneapolis\, Philadelphia\, and more\, it’s safe to say that Spirit of the Bear is quickly up-and-coming in their region.\n\nThe band consists of James Harker (guitar\, vocals)\, Danny Svenson (keys\, vocals)\, Ethan Schwendeman (keys)\, Mike Perorazio (Bass) and Jamie Vitullo (drums). The group’s versatility and wide breadth of musical background makes for a sound that is original and complex\, while still relatable to its audience. Their newest album\, Fade Into Blue\, was released in November of 2017 to great acclaim from the band’s tight-knit\, loyal fan base\, several Ohio blogs\, and crowds throughout the region. \n\n\nhttp://spiritofthebearband.com\nhttps://soundcloud.com/spiritofthebear\nhttps://www.instagram.com/spiritofthebear/\nhttps://www.youtube.com/channel/UCjECgL4bXmz_zh2fkTL-jSg\n\n$10 cover \nBYOB \nDoors open one hour before showtime.
URL:https://steamworkscreative.com/event/vertical/
LOCATION:Steamworks Creative\, 4967 William Flinn Hwy #6\, Gibsonia\, Pennsylvania\, 15044
CATEGORIES:Music
ATTACH;FMTTYPE=image/jpeg:https://steamworkscreative.com/wp-content/uploads/2018/10/93C804A4-FB18-4071-AB7F-73FE19428974.jpeg
GEO:40.6047353;-79.947467
X-APPLE-STRUCTURED-LOCATION;VALUE=URI;X-ADDRESS=Steamworks Creative 4967 William Flinn Hwy #6 Gibsonia Pennsylvania 15044;X-APPLE-RADIUS=500;X-TITLE=4967 William Flinn Hwy #6:geo:-79.947467,40.6047353
END:VEVENT
END:VCALENDAR