BEGIN:VCALENDAR
VERSION:2.0
PRODID:-//Steamworks Creative - ECPv6.10.0//NONSGML v1.0//EN
CALSCALE:GREGORIAN
METHOD:PUBLISH
X-WR-CALNAME:Steamworks Creative
X-ORIGINAL-URL:https://steamworkscreative.com
X-WR-CALDESC:Events for Steamworks Creative
REFRESH-INTERVAL;VALUE=DURATION:PT1H
X-Robots-Tag:noindex
X-PUBLISHED-TTL:PT1H
BEGIN:VTIMEZONE
TZID:America/New_York
BEGIN:DAYLIGHT
TZOFFSETFROM:-0500
TZOFFSETTO:-0400
TZNAME:EDT
DTSTART:20180311T070000
END:DAYLIGHT
BEGIN:STANDARD
TZOFFSETFROM:-0400
TZOFFSETTO:-0500
TZNAME:EST
DTSTART:20181104T060000
END:STANDARD
END:VTIMEZONE
BEGIN:VEVENT
DTSTART;TZID=America/New_York:20181215T200000
DTEND;TZID=America/New_York:20181215T223000
DTSTAMP:20260424T115002
CREATED:20180914T211858Z
LAST-MODIFIED:20181108T153238Z
UID:10000998-1544904000-1544913000@steamworkscreative.com
SUMMARY:Steel Mill Rising
DESCRIPTION:Saturday\, December 15\, 2018 Steel Mill Rising \nSteel Mill Rising is a rock n’ roll cover band. The band plays all of the classic rock hits spanning over ALL decades. One of Western Pennsylvania’s youngest bands; Steel Mill Rising puts on an energetic show that promises a great time with even better music! \nBand Members: \n\nRhythm Guitar and Lead Vocals – Matt Kamenicky\nLead Guitar – Alex Weibel\nBass Guitar – Keegan Dziadik\nDrums – Dan Falk\nSaxophone – Spencer McNeill\n\nhttps://sites.google.com/view/steelmillrising \nFacebook https://www.facebook.com/SteelMillRising/ \nInstagram https://www.instagram.com/steel_mill_rising/ \nYoutube https://www.youtube.com/channel/UC8m3J2mtOId6looFoicRxGA?view_as=subscriber
URL:https://steamworkscreative.com/event/matt-kamenicky/
LOCATION:Steamworks Creative\, 4967 William Flinn Hwy #6\, Gibsonia\, Pennsylvania\, 15044
CATEGORIES:Music
ATTACH;FMTTYPE=image/jpeg:https://steamworkscreative.com/wp-content/uploads/2018/09/Steel-Mill-Rising-Band-Picture.jpg
GEO:40.6047353;-79.947467
X-APPLE-STRUCTURED-LOCATION;VALUE=URI;X-ADDRESS=Steamworks Creative 4967 William Flinn Hwy #6 Gibsonia Pennsylvania 15044;X-APPLE-RADIUS=500;X-TITLE=4967 William Flinn Hwy #6:geo:-79.947467,40.6047353
END:VEVENT
END:VCALENDAR