BEGIN:VCALENDAR
VERSION:2.0
PRODID:-//Steamworks Creative - ECPv6.10.0//NONSGML v1.0//EN
CALSCALE:GREGORIAN
METHOD:PUBLISH
X-WR-CALNAME:Steamworks Creative
X-ORIGINAL-URL:https://steamworkscreative.com
X-WR-CALDESC:Events for Steamworks Creative
REFRESH-INTERVAL;VALUE=DURATION:PT1H
X-Robots-Tag:noindex
X-PUBLISHED-TTL:PT1H
BEGIN:VTIMEZONE
TZID:America/New_York
BEGIN:DAYLIGHT
TZOFFSETFROM:-0500
TZOFFSETTO:-0400
TZNAME:EDT
DTSTART:20190310T070000
END:DAYLIGHT
BEGIN:STANDARD
TZOFFSETFROM:-0400
TZOFFSETTO:-0500
TZNAME:EST
DTSTART:20191103T060000
END:STANDARD
END:VTIMEZONE
BEGIN:VEVENT
DTSTART;TZID=America/New_York:20190117T193000
DTEND;TZID=America/New_York:20190117T220000
DTSTAMP:20260424T022513
CREATED:20190101T234942Z
LAST-MODIFIED:20190105T215207Z
UID:10001059-1547753400-1547762400@steamworkscreative.com
SUMMARY:Bobby V (5)
DESCRIPTION:Thursday\, January 17\, 2019 Bobby 5 \n\nBOBBY V (5) ( www.bobby5.com )is a fun\, entertaining acoustic act covering all types of songs from the 50’s to present day music. \nBobby is a well known musician in Western Pennsylvania\, as well as the South Florida area\, splitting his time spending winters in Florida and summers in Pittsburgh and Nashville he has been hailed as one of the best entertainers in the music industry. \nAs a singer-song writer he is an acoustic guitarist\, and also plays harmonica and percussion. He covers over 1000 songs from the fifties to present day music with no backing tracks\, including classic rock\, southern rock\, modern rock\, light rock\, blues\, folk\, bluegrass\, and country. He also has written more than 200 original songs. When not performing solo\, he features some of the finest musicians in the country to join him at his shows. \nHe has been a great supporter of local\, regional\, and national music for many years. with his great passion for the acoustic guitar\, he has been performing professionally for more than 20 years. \nWith his love for music\, Bobby has made a career in the music industry. He is currently working on his new cd\, which will feature some of the finest musicians in Western Pennsylvania and South Florida. \n$10 cover\nBYOB listening room\nDoors open one hour before show \n#steamworkscreative #listeningroom #acousticmusic #singersongwriter\n#SitBackRelaxListenToTheMusic
URL:https://steamworkscreative.com/event/bobby-5/
LOCATION:Steamworks Creative\, 4967 William Flinn Hwy #6\, Gibsonia\, Pennsylvania\, 15044
CATEGORIES:Music
ATTACH;FMTTYPE=image/jpeg:https://steamworkscreative.com/wp-content/uploads/2019/01/34443DE0-2A6F-4BE5-B756-D0DC9EC210F9.jpg
GEO:40.6047353;-79.947467
X-APPLE-STRUCTURED-LOCATION;VALUE=URI;X-ADDRESS=Steamworks Creative 4967 William Flinn Hwy #6 Gibsonia Pennsylvania 15044;X-APPLE-RADIUS=500;X-TITLE=4967 William Flinn Hwy #6:geo:-79.947467,40.6047353
END:VEVENT
END:VCALENDAR