BEGIN:VCALENDAR
VERSION:2.0
PRODID:-//Steamworks Creative - ECPv6.10.0//NONSGML v1.0//EN
CALSCALE:GREGORIAN
METHOD:PUBLISH
X-WR-CALNAME:Steamworks Creative
X-ORIGINAL-URL:https://steamworkscreative.com
X-WR-CALDESC:Events for Steamworks Creative
REFRESH-INTERVAL;VALUE=DURATION:PT1H
X-Robots-Tag:noindex
X-PUBLISHED-TTL:PT1H
BEGIN:VTIMEZONE
TZID:America/New_York
BEGIN:DAYLIGHT
TZOFFSETFROM:-0500
TZOFFSETTO:-0400
TZNAME:EDT
DTSTART:20190310T070000
END:DAYLIGHT
BEGIN:STANDARD
TZOFFSETFROM:-0400
TZOFFSETTO:-0500
TZNAME:EST
DTSTART:20191103T060000
END:STANDARD
END:VTIMEZONE
BEGIN:VEVENT
DTSTART;TZID=America/New_York:20190301T193000
DTEND;TZID=America/New_York:20190301T223000
DTSTAMP:20260423T125328
CREATED:20190206T182535Z
LAST-MODIFIED:20190220T230945Z
UID:10001069-1551468600-1551479400@steamworkscreative.com
SUMMARY:Acoustic Open Stage - Featured Artist Bill Ivins
DESCRIPTION:Friday\, March 1\, 2019 – Acoustic Open Stage hosted by Larry Demas – Featured Artist Bill Ivins \n \nBill Ivins is a local musician\, actor and artist\, who has been performing his Acoustic Flashback show at venues all over Pittsburgh for several years. He will be joined by bassist\, Bill Rossetti for this special show. \nBring your instrument and some Friends. \n7:30-10:30pm – Donations Accepted \n#steamworkscreative #listeningroom #acousticmusic #singersongwriter #openstage\n#SitBackRelaxListenToTheMusic
URL:https://steamworkscreative.com/event/open-stage-ld-030119/
LOCATION:Steamworks Creative\, 4967 William Flinn Hwy #6\, Gibsonia\, Pennsylvania\, 15044
CATEGORIES:Music
ATTACH;FMTTYPE=image/jpeg:https://steamworkscreative.com/wp-content/uploads/2019/01/Acoustic-Open-Stage-Demas.jpg
GEO:40.6047353;-79.947467
X-APPLE-STRUCTURED-LOCATION;VALUE=URI;X-ADDRESS=Steamworks Creative 4967 William Flinn Hwy #6 Gibsonia Pennsylvania 15044;X-APPLE-RADIUS=500;X-TITLE=4967 William Flinn Hwy #6:geo:-79.947467,40.6047353
END:VEVENT
END:VCALENDAR