BEGIN:VCALENDAR
VERSION:2.0
PRODID:-//Steamworks Creative - ECPv6.10.0//NONSGML v1.0//EN
CALSCALE:GREGORIAN
METHOD:PUBLISH
X-WR-CALNAME:Steamworks Creative
X-ORIGINAL-URL:https://steamworkscreative.com
X-WR-CALDESC:Events for Steamworks Creative
REFRESH-INTERVAL;VALUE=DURATION:PT1H
X-Robots-Tag:noindex
X-PUBLISHED-TTL:PT1H
BEGIN:VTIMEZONE
TZID:America/New_York
BEGIN:DAYLIGHT
TZOFFSETFROM:-0500
TZOFFSETTO:-0400
TZNAME:EDT
DTSTART:20190310T070000
END:DAYLIGHT
BEGIN:STANDARD
TZOFFSETFROM:-0400
TZOFFSETTO:-0500
TZNAME:EST
DTSTART:20191103T060000
END:STANDARD
END:VTIMEZONE
BEGIN:VEVENT
DTSTART;TZID=America/New_York:20190419T200000
DTEND;TZID=America/New_York:20190419T223000
DTSTAMP:20260423T123927
CREATED:20190206T184129Z
LAST-MODIFIED:20190315T145121Z
UID:10001074-1555704000-1555713000@steamworkscreative.com
SUMMARY:Melissa Sandullo
DESCRIPTION: Friday\, April 19\, 2019\n\nMelissa Sandullo returns to Steamworks Creative! If you missed the Eating Shadows Tour in the fall\, here’s your chance to catch her before she hits the studio again! Check out melissasandullo.bandcamp.com for a preview! \n \nMelissa Sandullo is a completely unique and powerful artist. Take everything you think you know about singer songwriters….and rip it up. For one woman and her piano to create such driven performance with a huge far-reaching sound that is energetic\, compelling and passionate is rare. Whether it’s two hundred people or twenty\, she blows the crowd away night after night with her ability to speak to the soul. \nThere’s just something about Melissa. She is all at once funny and wise\, thoughtful and uninhibited\, and her captivating voice is matched by her personal lyrics. Melissa’s performances are transformational; she leaves her audiences better than she finds them\, with softened edges & opened hearts. \nFocused on making music that is relevant and vital to her and her audience\, she engages with challenging narratives tackling the depth of the human condition\, underpinned with a promise of hope. She is driven to write songs that might step up and make some sense of a moment in time. A good song makes you feel like you’re not alone in the world. \n$10 cover\nBYOB listening room\nDoors open one hour before show \n#steamworkscreative #listeningroom #acousticmusic\n#SitBackRelaxListenToTheMusic
URL:https://steamworkscreative.com/event/melissa-sandullo-2/
LOCATION:Steamworks Creative\, 4967 William Flinn Hwy #6\, Gibsonia\, Pennsylvania\, 15044
CATEGORIES:Music
ATTACH;FMTTYPE=image/jpeg:https://steamworkscreative.com/wp-content/uploads/2019/02/53927426_2331031420518952_3827011694064828416_n.jpg
GEO:40.6047353;-79.947467
X-APPLE-STRUCTURED-LOCATION;VALUE=URI;X-ADDRESS=Steamworks Creative 4967 William Flinn Hwy #6 Gibsonia Pennsylvania 15044;X-APPLE-RADIUS=500;X-TITLE=4967 William Flinn Hwy #6:geo:-79.947467,40.6047353
END:VEVENT
END:VCALENDAR