BEGIN:VCALENDAR
VERSION:2.0
PRODID:-//Steamworks Creative - ECPv6.10.0//NONSGML v1.0//EN
CALSCALE:GREGORIAN
METHOD:PUBLISH
X-WR-CALNAME:Steamworks Creative
X-ORIGINAL-URL:https://steamworkscreative.com
X-WR-CALDESC:Events for Steamworks Creative
REFRESH-INTERVAL;VALUE=DURATION:PT1H
X-Robots-Tag:noindex
X-PUBLISHED-TTL:PT1H
BEGIN:VTIMEZONE
TZID:America/New_York
BEGIN:DAYLIGHT
TZOFFSETFROM:-0500
TZOFFSETTO:-0400
TZNAME:EDT
DTSTART:20190310T070000
END:DAYLIGHT
BEGIN:STANDARD
TZOFFSETFROM:-0400
TZOFFSETTO:-0500
TZNAME:EST
DTSTART:20191103T060000
END:STANDARD
END:VTIMEZONE
BEGIN:VEVENT
DTSTART;TZID=America/New_York:20190511T200000
DTEND;TZID=America/New_York:20190511T223000
DTSTAMP:20260422T225924
CREATED:20190220T175429Z
LAST-MODIFIED:20190405T134033Z
UID:10001078-1557604800-1557613800@steamworkscreative.com
SUMMARY:The Matt Barranti Band with special guest John Vento & Friends
DESCRIPTION:Saturday\, May 11\, 2019 The Matt Barranti Band \nWinners of the Western Pennsylvania Blues Challenge\, Matt Barranti\, Fred Delu\, Will Franklin and Greg McIltrot. \n \nBlues\, rock\, Allmans Brothers meet Roy Buchannon. \nhttps://youtu.be/Q_jyItjzWW8\nLive at Pittsburgh Blues Festival \nSpecial guest John Vento – Music & Friends\nJohn Vento | Cherylann Hawk Music | Sal Monteverde \n \n$10 cover\nBYOB/BYOF listening room\nDoors open one hour before show \n#steamworkscreative #listeningroom #acousticmusic\n#SitBackRelaxListenToTheMusic
URL:https://steamworkscreative.com/event/the-matt-barranti-band/
LOCATION:Steamworks Creative\, 4967 William Flinn Hwy #6\, Gibsonia\, Pennsylvania\, 15044
CATEGORIES:Music
ATTACH;FMTTYPE=image/jpeg:https://steamworkscreative.com/wp-content/uploads/2019/02/56157666_1212883232207503_2439406716773728256_o.jpg
GEO:40.6047353;-79.947467
X-APPLE-STRUCTURED-LOCATION;VALUE=URI;X-ADDRESS=Steamworks Creative 4967 William Flinn Hwy #6 Gibsonia Pennsylvania 15044;X-APPLE-RADIUS=500;X-TITLE=4967 William Flinn Hwy #6:geo:-79.947467,40.6047353
END:VEVENT
END:VCALENDAR