BEGIN:VCALENDAR
VERSION:2.0
PRODID:-//Steamworks Creative - ECPv6.10.0//NONSGML v1.0//EN
CALSCALE:GREGORIAN
METHOD:PUBLISH
X-WR-CALNAME:Steamworks Creative
X-ORIGINAL-URL:https://steamworkscreative.com
X-WR-CALDESC:Events for Steamworks Creative
REFRESH-INTERVAL;VALUE=DURATION:PT1H
X-Robots-Tag:noindex
X-PUBLISHED-TTL:PT1H
BEGIN:VTIMEZONE
TZID:America/New_York
BEGIN:DAYLIGHT
TZOFFSETFROM:-0500
TZOFFSETTO:-0400
TZNAME:EDT
DTSTART:20190310T070000
END:DAYLIGHT
BEGIN:STANDARD
TZOFFSETFROM:-0400
TZOFFSETTO:-0500
TZNAME:EST
DTSTART:20191103T060000
END:STANDARD
END:VTIMEZONE
BEGIN:VEVENT
DTSTART;TZID=America/New_York:20190517T200000
DTEND;TZID=America/New_York:20190517T223000
DTSTAMP:20260423T035156
CREATED:20190220T175617Z
LAST-MODIFIED:20190405T182251Z
UID:10001079-1558123200-1558132200@steamworkscreative.com
SUMMARY:Jim Relja and the Regular Joes with Martin Vincent
DESCRIPTION:The Regular Joes are Jim Relja and Fred Bashor\, a couple of\, well…..”regular joes\,” that love to play and sing! This two-man acoustic guitar/mandolin team cover a wide variety of tunes from Tom Petty\, to Hank Williams\, to The Avett Brothers to Bruce Springsteen\, John Prine\, the Foo Fighters\, and America in addition\, they have a 100+ original song catalog. The excellent musicianship of these artists along with superb vocal harmonies and familiarity of the songs they perform\, keep audiences engaged and excited to hear more! The Regular Joes have a unique set of songs that will entertain everyone. \nJim is classically trained guitarist demonstrating excellent and versatile guitar skills in his performance. He has very strong vocal capabilities and is able to adapt to all genres of music. Jim is an accomplished\, experienced performing artist as well as a studio session musician and has been featured on many local\, national and international artists’ recordings. Also a fantastic songwriter\, Jim has written and recorded many notable and unforgettable songs. \nFred has been singing almost all of his life and has been playing guitar for a couple of decades. His vocal harmonies enhance every song they play\, and his voice accommodates many singing styles in a very special way. Along with acoustic guitar\, Fred also accompanies Jim on mandolin and ukulele bass. He is a songwriter that writes songs from the heart and he draws from life experiences to create entertaining\, fun and unique songs. \nTogether\, The Regular Joes exhibit excellent musical talent and a true love of music! \nSpecial guest Martin Vincent is a singer-songwriter. \n$10 cover\nBYOB listening room\nDoors open one hour before show \n#steamworkscreative #listeningroom #acousticmusic #singersongwriter\n#SitBackRelaxListenToTheMusic
URL:https://steamworkscreative.com/event/jim-relja-of-the-regular-joes-with-martin-vincent/
LOCATION:Steamworks Creative\, 4967 William Flinn Hwy #6\, Gibsonia\, Pennsylvania\, 15044
CATEGORIES:Music
ATTACH;FMTTYPE=image/jpeg:https://steamworkscreative.com/wp-content/uploads/2019/02/The-Regular-Joes-at-Steamworks.jpg
GEO:40.6047353;-79.947467
X-APPLE-STRUCTURED-LOCATION;VALUE=URI;X-ADDRESS=Steamworks Creative 4967 William Flinn Hwy #6 Gibsonia Pennsylvania 15044;X-APPLE-RADIUS=500;X-TITLE=4967 William Flinn Hwy #6:geo:-79.947467,40.6047353
END:VEVENT
END:VCALENDAR