BEGIN:VCALENDAR
VERSION:2.0
PRODID:-//Steamworks Creative - ECPv6.10.0//NONSGML v1.0//EN
CALSCALE:GREGORIAN
METHOD:PUBLISH
X-WR-CALNAME:Steamworks Creative
X-ORIGINAL-URL:https://steamworkscreative.com
X-WR-CALDESC:Events for Steamworks Creative
REFRESH-INTERVAL;VALUE=DURATION:PT1H
X-Robots-Tag:noindex
X-PUBLISHED-TTL:PT1H
BEGIN:VTIMEZONE
TZID:America/New_York
BEGIN:DAYLIGHT
TZOFFSETFROM:-0500
TZOFFSETTO:-0400
TZNAME:EDT
DTSTART:20190310T070000
END:DAYLIGHT
BEGIN:STANDARD
TZOFFSETFROM:-0400
TZOFFSETTO:-0500
TZNAME:EST
DTSTART:20191103T060000
END:STANDARD
END:VTIMEZONE
BEGIN:VEVENT
DTSTART;TZID=America/New_York:20191109T140000
DTEND;TZID=America/New_York:20191109T170000
DTSTAMP:20260421T113202
CREATED:20181018T223443Z
LAST-MODIFIED:20191004T141330Z
UID:10000758-1573308000-1573318800@steamworkscreative.com
SUMMARY:Autism Friendly Open Mic
DESCRIPTION:Join us from 2-5pm on Saturday\, 11/9/19 for our Family Friendly\, Alcohol Free\, Autism Open Mic hosted by Autism Society of Pittsburgh ! \nEveryone Welcome to come and have fun\, regardless of musical experience! We have all mics\, keyboards\, guitars\, amps and percussion available! ????\nPizza and soft drinks will be provided. \nDonations Gladly Accepted.\nAutism Society of Pittsburgh Band Together Pittsburgh \n#SteamworksCreative #AustimOpenMic\n#AutismSocietyOfPittsburgh #BandTogetherPgh \n 
URL:https://steamworkscreative.com/event/autism-open-mic-2-2019-11-10/
LOCATION:Steamworks Creative\, 4967 William Flinn Hwy #6\, Gibsonia\, Pennsylvania\, 15044
CATEGORIES:Music
ATTACH;FMTTYPE=image/png:https://steamworkscreative.com/wp-content/uploads/2018/10/Autism-11_9_19-2.png
GEO:40.6047353;-79.947467
X-APPLE-STRUCTURED-LOCATION;VALUE=URI;X-ADDRESS=Steamworks Creative 4967 William Flinn Hwy #6 Gibsonia Pennsylvania 15044;X-APPLE-RADIUS=500;X-TITLE=4967 William Flinn Hwy #6:geo:-79.947467,40.6047353
END:VEVENT
END:VCALENDAR