BEGIN:VCALENDAR
VERSION:2.0
PRODID:-//Steamworks Creative - ECPv6.10.0//NONSGML v1.0//EN
CALSCALE:GREGORIAN
METHOD:PUBLISH
X-WR-CALNAME:Steamworks Creative
X-ORIGINAL-URL:https://steamworkscreative.com
X-WR-CALDESC:Events for Steamworks Creative
REFRESH-INTERVAL;VALUE=DURATION:PT1H
X-Robots-Tag:noindex
X-PUBLISHED-TTL:PT1H
BEGIN:VTIMEZONE
TZID:America/New_York
BEGIN:DAYLIGHT
TZOFFSETFROM:-0500
TZOFFSETTO:-0400
TZNAME:EDT
DTSTART:20200308T070000
END:DAYLIGHT
BEGIN:STANDARD
TZOFFSETFROM:-0400
TZOFFSETTO:-0500
TZNAME:EST
DTSTART:20201101T060000
END:STANDARD
END:VTIMEZONE
BEGIN:VEVENT
DTSTART;TZID=America/New_York:20200215T200000
DTEND;TZID=America/New_York:20200215T223000
DTSTAMP:20260420T192004
CREATED:20200129T014134Z
LAST-MODIFIED:20200213T001412Z
UID:10000937-1581796800-1581805800@steamworkscreative.com
SUMMARY:Vicious Chicken Band
DESCRIPTION:Viciouschickenband\nRob Frazzini – Rob sings lead vocals and is responsible for causing mayhem. He loves to play to the crowd and get everyone involved in the show. \nJoe Maletta – Joe plays bass like crazy fast and sings backup vocals. He also provides good recommendations for breweries\, bourbons and Scotch. \nBrian Ciarimboli – Brian plays rhythm guitar. He is smooth\, methodical and precise. He will even play country if you really twist his arm. \nBen Harrington – Ben plays lead guitar\, sings and adds comic relief. He also may have more pedals then any other guitarist on earth. \nBen Greenwood – Ben plays drums and is our resident music theorist – he is a bit of a phenom. He definitely keeps us on time and rocking. \n$10 cover\nBYOB/BYOF listening room\nDoors 7pm
URL:https://steamworkscreative.com/event/vicious-chicken-band/
LOCATION:Steamworks Creative\, 4967 William Flinn Hwy #6\, Gibsonia\, Pennsylvania\, 15044
CATEGORIES:Music
ATTACH;FMTTYPE=image/png:https://steamworkscreative.com/wp-content/uploads/2019/11/50C11449-5DA9-424D-B27B-F6A08D28AE7A.png
GEO:40.6047353;-79.947467
X-APPLE-STRUCTURED-LOCATION;VALUE=URI;X-ADDRESS=Steamworks Creative 4967 William Flinn Hwy #6 Gibsonia Pennsylvania 15044;X-APPLE-RADIUS=500;X-TITLE=4967 William Flinn Hwy #6:geo:-79.947467,40.6047353
END:VEVENT
END:VCALENDAR