BEGIN:VCALENDAR
VERSION:2.0
PRODID:-//Steamworks Creative - ECPv6.10.0//NONSGML v1.0//EN
CALSCALE:GREGORIAN
METHOD:PUBLISH
X-ORIGINAL-URL:https://steamworkscreative.com
X-WR-CALDESC:Events for Steamworks Creative
REFRESH-INTERVAL;VALUE=DURATION:PT1H
X-Robots-Tag:noindex
X-PUBLISHED-TTL:PT1H
BEGIN:VTIMEZONE
TZID:America/New_York
BEGIN:DAYLIGHT
TZOFFSETFROM:-0500
TZOFFSETTO:-0400
TZNAME:EDT
DTSTART:20200308T070000
END:DAYLIGHT
BEGIN:STANDARD
TZOFFSETFROM:-0400
TZOFFSETTO:-0500
TZNAME:EST
DTSTART:20201101T060000
END:STANDARD
END:VTIMEZONE
BEGIN:VEVENT
DTSTART;TZID=America/New_York:20200227T193000
DTEND;TZID=America/New_York:20200227T220000
DTSTAMP:20260420T175556
CREATED:20200217T212019Z
LAST-MODIFIED:20200220T222007Z
UID:10001257-1582831800-1582840800@steamworkscreative.com
SUMMARY:Cedar Run Trio ( Peter Perkins )
DESCRIPTION:The Cedar Run Trio is a group of three guitar playing vocalists that have been performing together for the past 12 years. Band members Joe Birch\, John Harford\, and Peter Perkins combine harmonies to perform acoustic music from the likes of Crosby\, Stills\, Nash\, the Eagles\, and James Taylor\, along with a few originals. \nPeter has a CD out that includes performances by Chuck Leavell of the The Rolling Stones and Allman Brothers\, and the Clarks. \nThe CD may be purchased at https://store.cdbaby.com/cd/peterperkins \nWYEP interview and song:\nhttp://wyep.org/audio/the-local-913-peter-perkins \n$10 cover\nBYOB/BYOF listening room\nDoors open one hour before show
URL:https://steamworkscreative.com/event/cedar-run-trio/
LOCATION:Steamworks Creative\, 4967 William Flinn Hwy #6\, Gibsonia\, Pennsylvania\, 15044
CATEGORIES:Music
ATTACH;FMTTYPE=image/png:https://steamworkscreative.com/wp-content/uploads/2020/02/A6321C71-2843-42C8-A204-F723BC976533.png
GEO:40.6047353;-79.947467
X-APPLE-STRUCTURED-LOCATION;VALUE=URI;X-ADDRESS=Steamworks Creative 4967 William Flinn Hwy #6 Gibsonia Pennsylvania 15044;X-APPLE-RADIUS=500;X-TITLE=4967 William Flinn Hwy #6:geo:-79.947467,40.6047353
END:VEVENT
END:VCALENDAR