BEGIN:VCALENDAR
VERSION:2.0
PRODID:-//Steamworks Creative - ECPv6.10.0//NONSGML v1.0//EN
CALSCALE:GREGORIAN
METHOD:PUBLISH
X-ORIGINAL-URL:https://steamworkscreative.com
X-WR-CALDESC:Events for Steamworks Creative
REFRESH-INTERVAL;VALUE=DURATION:PT1H
X-Robots-Tag:noindex
X-PUBLISHED-TTL:PT1H
BEGIN:VTIMEZONE
TZID:America/New_York
BEGIN:DAYLIGHT
TZOFFSETFROM:-0500
TZOFFSETTO:-0400
TZNAME:EDT
DTSTART:20200308T070000
END:DAYLIGHT
BEGIN:STANDARD
TZOFFSETFROM:-0400
TZOFFSETTO:-0500
TZNAME:EST
DTSTART:20201101T060000
END:STANDARD
END:VTIMEZONE
BEGIN:VEVENT
DTSTART;TZID=America/New_York:20200128T193000
DTEND;TZID=America/New_York:20200128T220000
DTSTAMP:20260421T001640
CREATED:20191231T152533Z
LAST-MODIFIED:20200316T124538Z
UID:10001187-1580239800-1580248800@steamworkscreative.com
SUMMARY:Steamworks Sessions hosted by Mary Lou Scherder
DESCRIPTION:
URL:https://steamworkscreative.com/event/steamworks-sessions-hosted-by-mary-lou-scherder-2/
LOCATION:Steamworks Creative\, 4967 William Flinn Hwy #6\, Gibsonia\, Pennsylvania\, 15044
CATEGORIES:Music
ATTACH;FMTTYPE=image/png:https://steamworkscreative.com/wp-content/uploads/2019/12/494E73FA-E138-483D-9C2A-44B24F6F7479.png
GEO:40.6047353;-79.947467
X-APPLE-STRUCTURED-LOCATION;VALUE=URI;X-ADDRESS=Steamworks Creative 4967 William Flinn Hwy #6 Gibsonia Pennsylvania 15044;X-APPLE-RADIUS=500;X-TITLE=4967 William Flinn Hwy #6:geo:-79.947467,40.6047353
END:VEVENT
BEGIN:VEVENT
DTSTART;TZID=America/New_York:20200131T193000
DTEND;TZID=America/New_York:20200131T223000
DTSTAMP:20260421T001640
CREATED:20191231T154358Z
LAST-MODIFIED:20200119T230607Z
UID:10001191-1580499000-1580509800@steamworkscreative.com
SUMMARY:Acoustic Singer Showcase hosted by Larry Demas
DESCRIPTION:
URL:https://steamworkscreative.com/event/singer-songwriter-showcase/
LOCATION:Steamworks Creative\, 4967 William Flinn Hwy #6\, Gibsonia\, Pennsylvania\, 15044
CATEGORIES:Music
ATTACH;FMTTYPE=image/jpeg:https://steamworkscreative.com/wp-content/uploads/2019/11/BA8B21E5-D11F-48AD-B52D-C1BB6C9DDC03.jpeg
GEO:40.6047353;-79.947467
X-APPLE-STRUCTURED-LOCATION;VALUE=URI;X-ADDRESS=Steamworks Creative 4967 William Flinn Hwy #6 Gibsonia Pennsylvania 15044;X-APPLE-RADIUS=500;X-TITLE=4967 William Flinn Hwy #6:geo:-79.947467,40.6047353
END:VEVENT
BEGIN:VEVENT
DTSTART;TZID=America/New_York:20200201T200000
DTEND;TZID=America/New_York:20200201T223000
DTSTAMP:20260421T001640
CREATED:20191224T023850Z
LAST-MODIFIED:20200118T213119Z
UID:10001171-1580587200-1580596200@steamworkscreative.com
SUMMARY:Bob Banerjee’s “I Gotta Be Moi”
DESCRIPTION:
URL:https://steamworkscreative.com/event/bob-banerjee/
LOCATION:Steamworks Creative\, 4967 William Flinn Hwy #6\, Gibsonia\, Pennsylvania\, 15044
CATEGORIES:Music
ATTACH;FMTTYPE=image/jpeg:https://steamworkscreative.com/wp-content/uploads/2019/12/8D6DC673-B3D3-408D-BE91-C23D48CD01F1.jpeg
GEO:40.6047353;-79.947467
X-APPLE-STRUCTURED-LOCATION;VALUE=URI;X-ADDRESS=Steamworks Creative 4967 William Flinn Hwy #6 Gibsonia Pennsylvania 15044;X-APPLE-RADIUS=500;X-TITLE=4967 William Flinn Hwy #6:geo:-79.947467,40.6047353
END:VEVENT
END:VCALENDAR