BEGIN:VCALENDAR
VERSION:2.0
PRODID:-//Steamworks Creative - ECPv6.10.0//NONSGML v1.0//EN
CALSCALE:GREGORIAN
METHOD:PUBLISH
X-ORIGINAL-URL:https://steamworkscreative.com
X-WR-CALDESC:Events for Steamworks Creative
REFRESH-INTERVAL;VALUE=DURATION:PT1H
X-Robots-Tag:noindex
X-PUBLISHED-TTL:PT1H
BEGIN:VTIMEZONE
TZID:America/New_York
BEGIN:DAYLIGHT
TZOFFSETFROM:-0500
TZOFFSETTO:-0400
TZNAME:EDT
DTSTART:20190310T070000
END:DAYLIGHT
BEGIN:STANDARD
TZOFFSETFROM:-0400
TZOFFSETTO:-0500
TZNAME:EST
DTSTART:20191103T060000
END:STANDARD
END:VTIMEZONE
BEGIN:VEVENT
DTSTART;TZID=America/New_York:20190410T193000
DTEND;TZID=America/New_York:20190410T220000
DTSTAMP:20260420T111321
CREATED:20181205T173946Z
LAST-MODIFIED:20190409T170721Z
UID:10001041-1554924600-1554933600@steamworkscreative.com
SUMMARY:All Ages Open Stage with Guest Host James Buckley
DESCRIPTION:All Ages Open Stage with Guest Host James Buckley \nNote: This will not be a full band open stage\, however bands are welcome as long as they bring their own gear. \n#steamworkscreative #listeningroom #acousticmusic#singersongwriter #openstage #SitBackRelaxListenToTheMusic \n 
URL:https://steamworkscreative.com/event/all-ages-full-band-open-stage-2019-04-10/
LOCATION:Steamworks Creative\, 4967 William Flinn Hwy #6\, Gibsonia\, Pennsylvania\, 15044
CATEGORIES:Music
GEO:40.6047353;-79.947467
X-APPLE-STRUCTURED-LOCATION;VALUE=URI;X-ADDRESS=Steamworks Creative 4967 William Flinn Hwy #6 Gibsonia Pennsylvania 15044;X-APPLE-RADIUS=500;X-TITLE=4967 William Flinn Hwy #6:geo:-79.947467,40.6047353
END:VEVENT
END:VCALENDAR